Back to Multiple platform build/check report for BioC 3.10 |
|
This page was generated on 2020-04-15 12:20:45 -0400 (Wed, 15 Apr 2020).
Package 63/1823 | Hostname | OS / Arch | INSTALL | BUILD | CHECK | BUILD BIN | ||||||
AnnotationForge 1.28.0 Bioconductor Package Maintainer
| malbec1 | Linux (Ubuntu 18.04.4 LTS) / x86_64 | OK | OK | OK | |||||||
tokay1 | Windows Server 2012 R2 Standard / x64 | OK | OK | OK | [ OK ] | |||||||
merida1 | OS X 10.11.6 El Capitan / x86_64 | OK | OK | OK | OK |
Package: AnnotationForge |
Version: 1.28.0 |
Command: rm -rf AnnotationForge.buildbin-libdir && mkdir AnnotationForge.buildbin-libdir && C:\Users\biocbuild\bbs-3.10-bioc\R\bin\R.exe CMD INSTALL --merge-multiarch --build --library=AnnotationForge.buildbin-libdir AnnotationForge_1.28.0.tar.gz |
StartedAt: 2020-04-15 08:10:26 -0400 (Wed, 15 Apr 2020) |
EndedAt: 2020-04-15 08:13:19 -0400 (Wed, 15 Apr 2020) |
EllapsedTime: 172.8 seconds |
RetCode: 0 |
Status: OK |
PackageFile: AnnotationForge_1.28.0.zip |
PackageFileSize: 4.293 MiB |
############################################################################## ############################################################################## ### ### Running command: ### ### rm -rf AnnotationForge.buildbin-libdir && mkdir AnnotationForge.buildbin-libdir && C:\Users\biocbuild\bbs-3.10-bioc\R\bin\R.exe CMD INSTALL --merge-multiarch --build --library=AnnotationForge.buildbin-libdir AnnotationForge_1.28.0.tar.gz ### ############################################################################## ############################################################################## install for i386 * installing *source* package 'AnnotationForge' ... ** using staged installation ** R ** inst ** byte-compile and prepare package for lazy loading ** help *** installing help indices converting help for package 'AnnotationForge' finding HTML links ... done AnnDbPkg-maker html finding level-2 HTML links ... done available.db0pkgs html generateSeqnames_db html getProbeDataAffy html getProbeData_1lq html makeChipPackageFromDataFrames html makeInpDb html makeOrgPackage html makeOrgPackageFromNCBI html makeProbePackage html sqlForge-makeCHIPDB html sqlForge-popDB html sqlForge-wrapDBPackages html ** building package indices ** installing vignettes ** testing if installed package can be loaded from temporary location ** testing if installed package can be loaded from final location ** testing if installed package keeps a record of temporary installation path install for x64 * installing *source* package 'AnnotationForge' ... ** testing if installed package can be loaded * MD5 sums packaged installation of 'AnnotationForge' as AnnotationForge_1.28.0.zip * DONE (AnnotationForge)