Back to Multiple platform build/check report for BioC 3.10 |
|
This page was generated on 2020-04-15 12:31:29 -0400 (Wed, 15 Apr 2020).
Package 125/1823 | Hostname | OS / Arch | INSTALL | BUILD | CHECK | BUILD BIN | ||||||
BDMMAcorrect 1.4.0 ZHENWEI DAI
| malbec1 | Linux (Ubuntu 18.04.4 LTS) / x86_64 | OK | OK | OK | |||||||
tokay1 | Windows Server 2012 R2 Standard / x64 | OK | OK | OK | [ OK ] | |||||||
merida1 | OS X 10.11.6 El Capitan / x86_64 | OK | OK | OK | OK |
Package: BDMMAcorrect |
Version: 1.4.0 |
Command: rm -rf BDMMAcorrect.buildbin-libdir && mkdir BDMMAcorrect.buildbin-libdir && C:\Users\biocbuild\bbs-3.10-bioc\R\bin\R.exe CMD INSTALL --merge-multiarch --build --library=BDMMAcorrect.buildbin-libdir BDMMAcorrect_1.4.0.tar.gz |
StartedAt: 2020-04-15 08:15:02 -0400 (Wed, 15 Apr 2020) |
EndedAt: 2020-04-15 08:17:17 -0400 (Wed, 15 Apr 2020) |
EllapsedTime: 135.3 seconds |
RetCode: 0 |
Status: OK |
PackageFile: BDMMAcorrect_1.4.0.zip |
PackageFileSize: 1.002 MiB |
############################################################################## ############################################################################## ### ### Running command: ### ### rm -rf BDMMAcorrect.buildbin-libdir && mkdir BDMMAcorrect.buildbin-libdir && C:\Users\biocbuild\bbs-3.10-bioc\R\bin\R.exe CMD INSTALL --merge-multiarch --build --library=BDMMAcorrect.buildbin-libdir BDMMAcorrect_1.4.0.tar.gz ### ############################################################################## ############################################################################## install for i386 * installing *source* package 'BDMMAcorrect' ... ** using staged installation ** libs C:/Rtools/mingw_32/bin/g++ -std=gnu++11 -I"C:/Users/BIOCBU~1/BBS-3~1.10-/R/include" -DNDEBUG -I"C:/Users/biocbuild/bbs-3.10-bioc/R/library/Rcpp/include" -I"C:/Users/biocbuild/bbs-3.10-bioc/R/library/RcppArmadillo/include" -I"C:/Users/biocbuild/bbs-3.10-bioc/R/library/RcppEigen/include" -I"C:/extsoft/include" -DARMA_DONT_USE_OPENMP -O2 -Wall -mtune=core2 -c MCMC_algorithm.cpp -o MCMC_algorithm.o C:/Rtools/mingw_32/bin/g++ -std=gnu++11 -I"C:/Users/BIOCBU~1/BBS-3~1.10-/R/include" -DNDEBUG -I"C:/Users/biocbuild/bbs-3.10-bioc/R/library/Rcpp/include" -I"C:/Users/biocbuild/bbs-3.10-bioc/R/library/RcppArmadillo/include" -I"C:/Users/biocbuild/bbs-3.10-bioc/R/library/RcppEigen/include" -I"C:/extsoft/include" -DARMA_DONT_USE_OPENMP -O2 -Wall -mtune=core2 -c RcppExports.cpp -o RcppExports.o C:/Rtools/mingw_32/bin/g++ -std=gnu++11 -shared -s -static-libgcc -o BDMMAcorrect.dll tmp.def MCMC_algorithm.o RcppExports.o -LC:/Users/BIOCBU~1/BBS-3~1.10-/R/bin/i386 -lRlapack -LC:/Users/BIOCBU~1/BBS-3~1.10-/R/bin/i386 -lRblas -lgfortran -lm -lquadmath -O2 -msse2 -mfpmath=sse -LC:/extsoft/lib/i386 -LC:/extsoft/lib -LC:/Users/BIOCBU~1/BBS-3~1.10-/R/bin/i386 -lR installing to C:/Users/biocbuild/bbs-3.10-bioc/meat/BDMMAcorrect.buildbin-libdir/00LOCK-BDMMAcorrect/00new/BDMMAcorrect/libs/i386 ** R ** data *** moving datasets to lazyload DB ** inst ** byte-compile and prepare package for lazy loading ** help *** installing help indices converting help for package 'BDMMAcorrect' finding HTML links ... done BDMMA html L_mean html Microbiome_dat html VBatch html fdr_cut html trace_plot html ** building package indices ** installing vignettes ** testing if installed package can be loaded from temporary location ** testing if installed package can be loaded from final location ** testing if installed package keeps a record of temporary installation path install for x64 * installing *source* package 'BDMMAcorrect' ... ** libs C:/Rtools/mingw_64/bin/g++ -std=gnu++11 -I"C:/Users/BIOCBU~1/BBS-3~1.10-/R/include" -DNDEBUG -I"C:/Users/biocbuild/bbs-3.10-bioc/R/library/Rcpp/include" -I"C:/Users/biocbuild/bbs-3.10-bioc/R/library/RcppArmadillo/include" -I"C:/Users/biocbuild/bbs-3.10-bioc/R/library/RcppEigen/include" -I"C:/extsoft/include" -DARMA_DONT_USE_OPENMP -O2 -Wall -mtune=core2 -c MCMC_algorithm.cpp -o MCMC_algorithm.o C:/Rtools/mingw_64/bin/g++ -std=gnu++11 -I"C:/Users/BIOCBU~1/BBS-3~1.10-/R/include" -DNDEBUG -I"C:/Users/biocbuild/bbs-3.10-bioc/R/library/Rcpp/include" -I"C:/Users/biocbuild/bbs-3.10-bioc/R/library/RcppArmadillo/include" -I"C:/Users/biocbuild/bbs-3.10-bioc/R/library/RcppEigen/include" -I"C:/extsoft/include" -DARMA_DONT_USE_OPENMP -O2 -Wall -mtune=core2 -c RcppExports.cpp -o RcppExports.o C:/Rtools/mingw_64/bin/g++ -std=gnu++11 -shared -s -static-libgcc -o BDMMAcorrect.dll tmp.def MCMC_algorithm.o RcppExports.o -LC:/Users/BIOCBU~1/BBS-3~1.10-/R/bin/x64 -lRlapack -LC:/Users/BIOCBU~1/BBS-3~1.10-/R/bin/x64 -lRblas -lgfortran -lm -lquadmath -O2 -msse2 -mfpmath=sse -LC:/extsoft/lib/x64 -LC:/extsoft/lib -LC:/Users/BIOCBU~1/BBS-3~1.10-/R/bin/x64 -lR installing to C:/Users/biocbuild/bbs-3.10-bioc/meat/BDMMAcorrect.buildbin-libdir/BDMMAcorrect/libs/x64 ** testing if installed package can be loaded * MD5 sums packaged installation of 'BDMMAcorrect' as BDMMAcorrect_1.4.0.zip * DONE (BDMMAcorrect)