Back to Multiple platform build/check report for BioC 3.10 |
|
This page was generated on 2020-04-15 12:34:44 -0400 (Wed, 15 Apr 2020).
Package 202/1823 | Hostname | OS / Arch | INSTALL | BUILD | CHECK | BUILD BIN | ||||||
BSgenome 1.54.0 H. Pagès
| malbec1 | Linux (Ubuntu 18.04.4 LTS) / x86_64 | OK | OK | WARNINGS | |||||||
tokay1 | Windows Server 2012 R2 Standard / x64 | OK | OK | ERROR | OK | |||||||
merida1 | OS X 10.11.6 El Capitan / x86_64 | OK | [ OK ] | WARNINGS | OK |
Package: BSgenome |
Version: 1.54.0 |
Command: /Library/Frameworks/R.framework/Versions/Current/Resources/bin/R CMD build --keep-empty-dirs --no-resave-data BSgenome |
StartedAt: 2020-04-14 19:54:32 -0400 (Tue, 14 Apr 2020) |
EndedAt: 2020-04-14 19:56:17 -0400 (Tue, 14 Apr 2020) |
EllapsedTime: 104.5 seconds |
RetCode: 0 |
Status: OK |
PackageFile: BSgenome_1.54.0.tar.gz |
PackageFileSize: 5.811 MiB |
############################################################################## ############################################################################## ### ### Running command: ### ### /Library/Frameworks/R.framework/Versions/Current/Resources/bin/R CMD build --keep-empty-dirs --no-resave-data BSgenome ### ############################################################################## ############################################################################## * checking for file ‘BSgenome/DESCRIPTION’ ... OK * preparing ‘BSgenome’: * checking DESCRIPTION meta-information ... OK * installing the package to build vignettes * creating vignettes ... OK * checking for LF line-endings in source and make files and shell scripts * checking for empty or unneeded directories WARNING: directory ‘BSgenome/inst/pkgtemplates/BSgenome_datapkg/inst/extdata’ is empty WARNING: directory ‘BSgenome/inst/pkgtemplates/MaskedBSgenome_datapkg/inst/extdata’ is empty * building ‘BSgenome_1.54.0.tar.gz’ Warning in utils::tar(filepath, pkgname, compression = compression, compression_level = 9L, : storing paths of more than 100 bytes is not portable: ‘BSgenome/inst/extdata/GentlemanLab/1000genomes/BSgenome.Hsapiens.1000g.b36female-tools/split_human_b36_female.sh’