Back to Multiple platform build/check report for BioC 3.10 |
|
This page was generated on 2020-04-15 12:45:08 -0400 (Wed, 15 Apr 2020).
Package 155/1823 | Hostname | OS / Arch | INSTALL | BUILD | CHECK | BUILD BIN | ||||||
BioCor 1.10.0 Lluís Revilla Sancho
| malbec1 | Linux (Ubuntu 18.04.4 LTS) / x86_64 | OK | OK | OK | |||||||
tokay1 | Windows Server 2012 R2 Standard / x64 | OK | OK | OK | OK | |||||||
merida1 | OS X 10.11.6 El Capitan / x86_64 | OK | OK | OK | [ OK ] |
Package: BioCor |
Version: 1.10.0 |
Command: rm -rf BioCor.buildbin-libdir && mkdir BioCor.buildbin-libdir && /Users/biocbuild/BBS/utils/build-universal.sh BioCor_1.10.0.tar.gz /Library/Frameworks/R.framework/Versions/Current/Resources/bin/R BioCor.buildbin-libdir |
StartedAt: 2020-04-15 06:55:33 -0400 (Wed, 15 Apr 2020) |
EndedAt: 2020-04-15 06:56:32 -0400 (Wed, 15 Apr 2020) |
EllapsedTime: 58.3 seconds |
RetCode: 0 |
Status: OK |
PackageFile: BioCor_1.10.0.tgz |
PackageFileSize: 1.583 MiB |
############################################################################## ############################################################################## ### ### Running command: ### ### rm -rf BioCor.buildbin-libdir && mkdir BioCor.buildbin-libdir && /Users/biocbuild/BBS/utils/build-universal.sh BioCor_1.10.0.tar.gz /Library/Frameworks/R.framework/Versions/Current/Resources/bin/R BioCor.buildbin-libdir ### ############################################################################## ############################################################################## >>>>>>> >>>>>>> INSTALLATION WITH 'R CMD INSTALL --preclean --no-multiarch --library=BioCor.buildbin-libdir BioCor_1.10.0.tar.gz' >>>>>>> * installing *source* package ‘BioCor’ ... ** using staged installation ** R ** inst ** byte-compile and prepare package for lazy loading Creating a generic function from function ‘clusterGeneSim’ in package ‘BioCor’ Creating a generic function from function ‘clusterSim’ in package ‘BioCor’ Creating a generic function from function ‘geneSim’ in package ‘BioCor’ Creating a generic function from function ‘mclusterGeneSim’ in package ‘BioCor’ Creating a generic function from function ‘mclusterSim’ in package ‘BioCor’ Creating a generic function from function ‘mgeneSim’ in package ‘BioCor’ Creating a generic function from function ‘mpathSim’ in package ‘BioCor’ Creating a generic function from function ‘pathSim’ in package ‘BioCor’ ** help *** installing help indices ** building package indices ** installing vignettes ** testing if installed package can be loaded from temporary location ** testing if installed package can be loaded from final location ** testing if installed package keeps a record of temporary installation path * DONE (BioCor)