Back to Multiple platform build/check report for BioC 3.10 |
|
This page was generated on 2020-04-15 12:33:15 -0400 (Wed, 15 Apr 2020).
Package 178/1823 | Hostname | OS / Arch | INSTALL | BUILD | CHECK | BUILD BIN | ||||||
BioTIP 1.0.0 Zhezhen Wang
| malbec1 | Linux (Ubuntu 18.04.4 LTS) / x86_64 | OK | OK | OK | |||||||
tokay1 | Windows Server 2012 R2 Standard / x64 | OK | OK | OK | [ OK ] | |||||||
merida1 | OS X 10.11.6 El Capitan / x86_64 | OK | OK | OK | OK |
Package: BioTIP |
Version: 1.0.0 |
Command: rm -rf BioTIP.buildbin-libdir && mkdir BioTIP.buildbin-libdir && C:\Users\biocbuild\bbs-3.10-bioc\R\bin\R.exe CMD INSTALL --merge-multiarch --build --library=BioTIP.buildbin-libdir BioTIP_1.0.0.tar.gz |
StartedAt: 2020-04-15 08:18:02 -0400 (Wed, 15 Apr 2020) |
EndedAt: 2020-04-15 08:18:39 -0400 (Wed, 15 Apr 2020) |
EllapsedTime: 37.5 seconds |
RetCode: 0 |
Status: OK |
PackageFile: BioTIP_1.0.0.zip |
PackageFileSize: 2.57 MiB |
############################################################################## ############################################################################## ### ### Running command: ### ### rm -rf BioTIP.buildbin-libdir && mkdir BioTIP.buildbin-libdir && C:\Users\biocbuild\bbs-3.10-bioc\R\bin\R.exe CMD INSTALL --merge-multiarch --build --library=BioTIP.buildbin-libdir BioTIP_1.0.0.tar.gz ### ############################################################################## ############################################################################## install for i386 * installing *source* package 'BioTIP' ... ** using staged installation ** R ** data *** moving datasets to lazyload DB ** inst ** byte-compile and prepare package for lazy loading ** help *** installing help indices converting help for package 'BioTIP' finding HTML links ... done BioTIP-package html GSE6136_cli html GSE6136_matrix html ILEF html cod html gencode html getBiotypes html getCTS html getCluster_methods html getIc html getMCI html finding level-2 HTML links ... done getMaxMCImember html getMaxStats html getNetwork html getReadthrough html intron html optimize.sd_selection html plotBar_MCI html plotIc html plotMaxMCI html plot_Ic_Simulation html plot_MCI_Simulation html plot_simulation_sample html sd_selection html simulationMCI html simulation_Ic html ** building package indices ** installing vignettes ** testing if installed package can be loaded from temporary location ** testing if installed package can be loaded from final location ** testing if installed package keeps a record of temporary installation path install for x64 * installing *source* package 'BioTIP' ... ** testing if installed package can be loaded * MD5 sums packaged installation of 'BioTIP' as BioTIP_1.0.0.zip * DONE (BioTIP)