Back to Multiple platform build/check report for BioC 3.10 |
|
This page was generated on 2020-04-15 12:30:34 -0400 (Wed, 15 Apr 2020).
Package 162/1823 | Hostname | OS / Arch | INSTALL | BUILD | CHECK | BUILD BIN | ||||||
BiocVersion 3.10.1 Bioconductor Package Maintainer
| malbec1 | Linux (Ubuntu 18.04.4 LTS) / x86_64 | OK | OK | OK | ![]() | ||||||
tokay1 | Windows Server 2012 R2 Standard / x64 | OK | OK | [ OK ] | OK | ![]() | ||||||
merida1 | OS X 10.11.6 El Capitan / x86_64 | OK | OK | OK | OK | ![]() |
Package: BiocVersion |
Version: 3.10.1 |
Command: C:\Users\biocbuild\bbs-3.10-bioc\R\bin\R.exe CMD check --force-multiarch --install=check:BiocVersion.install-out.txt --library=C:\Users\biocbuild\bbs-3.10-bioc\R\library --no-vignettes --timings BiocVersion_3.10.1.tar.gz |
StartedAt: 2020-04-15 01:35:56 -0400 (Wed, 15 Apr 2020) |
EndedAt: 2020-04-15 01:36:06 -0400 (Wed, 15 Apr 2020) |
EllapsedTime: 10.5 seconds |
RetCode: 0 |
Status: OK |
CheckDir: BiocVersion.Rcheck |
Warnings: 0 |
############################################################################## ############################################################################## ### ### Running command: ### ### C:\Users\biocbuild\bbs-3.10-bioc\R\bin\R.exe CMD check --force-multiarch --install=check:BiocVersion.install-out.txt --library=C:\Users\biocbuild\bbs-3.10-bioc\R\library --no-vignettes --timings BiocVersion_3.10.1.tar.gz ### ############################################################################## ############################################################################## * using log directory 'C:/Users/biocbuild/bbs-3.10-bioc/meat/BiocVersion.Rcheck' * using R version 3.6.3 (2020-02-29) * using platform: x86_64-w64-mingw32 (64-bit) * using session charset: ISO8859-1 * using option '--no-vignettes' * checking for file 'BiocVersion/DESCRIPTION' ... OK * this is package 'BiocVersion' version '3.10.1' * package encoding: UTF-8 * checking package namespace information ... OK * checking package dependencies ... OK * checking if this is a source package ... OK * checking if there is a namespace ... OK * checking for hidden files and directories ... OK * checking for portable file names ... OK * checking whether package 'BiocVersion' can be installed ... OK * checking installed package size ... OK * checking package directory ... OK * checking DESCRIPTION meta-information ... OK * checking top-level files ... OK * checking for left-over files ... OK * checking index information ... OK * checking package subdirectories ... OK * loading checks for arch 'i386' ** checking whether the package can be loaded ... OK ** checking whether the package can be loaded with stated dependencies ... OK ** checking whether the package can be unloaded cleanly ... OK ** checking whether the namespace can be loaded with stated dependencies ... OK ** checking whether the namespace can be unloaded cleanly ... OK * loading checks for arch 'x64' ** checking whether the package can be loaded ... OK ** checking whether the package can be loaded with stated dependencies ... OK ** checking whether the package can be unloaded cleanly ... OK ** checking whether the namespace can be loaded with stated dependencies ... OK ** checking whether the namespace can be unloaded cleanly ... OK * checking Rd files ... OK * checking Rd metadata ... OK * checking Rd cross-references ... OK * checking for code/documentation mismatches ... OK * checking Rd \usage sections ... OK * checking Rd contents ... OK * checking for unstated dependencies in examples ... OK * checking examples ... ** running examples for arch 'i386' ... OK ** running examples for arch 'x64' ... OK * checking PDF version of manual ... OK * DONE Status: OK
BiocVersion.Rcheck/00install.out
############################################################################## ############################################################################## ### ### Running command: ### ### C:\cygwin\bin\curl.exe -O https://malbec1.bioconductor.org/BBS/3.10/bioc/src/contrib/BiocVersion_3.10.1.tar.gz && rm -rf BiocVersion.buildbin-libdir && mkdir BiocVersion.buildbin-libdir && C:\Users\biocbuild\bbs-3.10-bioc\R\bin\R.exe CMD INSTALL --merge-multiarch --build --library=BiocVersion.buildbin-libdir BiocVersion_3.10.1.tar.gz && C:\Users\biocbuild\bbs-3.10-bioc\R\bin\R.exe CMD INSTALL BiocVersion_3.10.1.zip && rm BiocVersion_3.10.1.tar.gz BiocVersion_3.10.1.zip ### ############################################################################## ############################################################################## % Total % Received % Xferd Average Speed Time Time Time Current Dload Upload Total Spent Left Speed 0 0 0 0 0 0 0 0 --:--:-- --:--:-- --:--:-- 0 100 740 100 740 0 0 9233 0 --:--:-- --:--:-- --:--:-- 9610 install for i386 * installing *source* package 'BiocVersion' ... ** using staged installation ** help *** installing help indices converting help for package 'BiocVersion' finding HTML links ... done BiocVersion-pkg html ** building package indices ** testing if installed package can be loaded from temporary location ** testing if installed package can be loaded from final location ** testing if installed package keeps a record of temporary installation path install for x64 * installing *source* package 'BiocVersion' ... ** testing if installed package can be loaded * MD5 sums packaged installation of 'BiocVersion' as BiocVersion_3.10.1.zip * DONE (BiocVersion) * installing to library 'C:/Users/biocbuild/bbs-3.10-bioc/R/library' package 'BiocVersion' successfully unpacked and MD5 sums checked
BiocVersion.Rcheck/examples_i386/BiocVersion-Ex.timings
|
BiocVersion.Rcheck/examples_x64/BiocVersion-Ex.timings
|