Back to Multiple platform build/check report for BioC 3.10 |
|
This page was generated on 2020-04-15 12:47:26 -0400 (Wed, 15 Apr 2020).
Package 213/1823 | Hostname | OS / Arch | INSTALL | BUILD | CHECK | BUILD BIN | ||||||
CAGEfightR 1.6.0 Malte Thodberg
| malbec1 | Linux (Ubuntu 18.04.4 LTS) / x86_64 | OK | OK | OK | |||||||
tokay1 | Windows Server 2012 R2 Standard / x64 | OK | OK | OK | OK | |||||||
merida1 | OS X 10.11.6 El Capitan / x86_64 | OK | OK | [ OK ] | OK |
Package: CAGEfightR |
Version: 1.6.0 |
Command: /Library/Frameworks/R.framework/Versions/Current/Resources/bin/R CMD check --install=check:CAGEfightR.install-out.txt --library=/Library/Frameworks/R.framework/Versions/Current/Resources/library --no-vignettes --timings CAGEfightR_1.6.0.tar.gz |
StartedAt: 2020-04-15 00:53:06 -0400 (Wed, 15 Apr 2020) |
EndedAt: 2020-04-15 00:59:42 -0400 (Wed, 15 Apr 2020) |
EllapsedTime: 395.6 seconds |
RetCode: 0 |
Status: OK |
CheckDir: CAGEfightR.Rcheck |
Warnings: 0 |
############################################################################## ############################################################################## ### ### Running command: ### ### /Library/Frameworks/R.framework/Versions/Current/Resources/bin/R CMD check --install=check:CAGEfightR.install-out.txt --library=/Library/Frameworks/R.framework/Versions/Current/Resources/library --no-vignettes --timings CAGEfightR_1.6.0.tar.gz ### ############################################################################## ############################################################################## * using log directory ‘/Users/biocbuild/bbs-3.10-bioc/meat/CAGEfightR.Rcheck’ * using R version 3.6.3 (2020-02-29) * using platform: x86_64-apple-darwin15.6.0 (64-bit) * using session charset: UTF-8 * using option ‘--no-vignettes’ * checking for file ‘CAGEfightR/DESCRIPTION’ ... OK * checking extension type ... Package * this is package ‘CAGEfightR’ version ‘1.6.0’ * package encoding: UTF-8 * checking package namespace information ... OK * checking package dependencies ... OK * checking if this is a source package ... OK * checking if there is a namespace ... OK * checking for hidden files and directories ... OK * checking for portable file names ... OK * checking for sufficient/correct file permissions ... OK * checking whether package ‘CAGEfightR’ can be installed ... OK * checking installed package size ... OK * checking package directory ... OK * checking ‘build’ directory ... OK * checking DESCRIPTION meta-information ... OK * checking top-level files ... OK * checking for left-over files ... OK * checking index information ... OK * checking package subdirectories ... OK * checking R files for non-ASCII characters ... OK * checking R files for syntax errors ... OK * checking whether the package can be loaded ... OK * checking whether the package can be loaded with stated dependencies ... OK * checking whether the package can be unloaded cleanly ... OK * checking whether the namespace can be loaded with stated dependencies ... OK * checking whether the namespace can be unloaded cleanly ... OK * checking dependencies in R code ... OK * checking S3 generic/method consistency ... OK * checking replacement functions ... OK * checking foreign function calls ... OK * checking R code for possible problems ... OK * checking Rd files ... OK * checking Rd metadata ... OK * checking Rd cross-references ... OK * checking for missing documentation entries ... OK * checking for code/documentation mismatches ... OK * checking Rd \usage sections ... OK * checking Rd contents ... OK * checking for unstated dependencies in examples ... OK * checking contents of ‘data’ directory ... OK * checking data for non-ASCII characters ... OK * checking data for ASCII and uncompressed saves ... OK * checking files in ‘vignettes’ ... OK * checking examples ... OK * checking for unstated dependencies in vignettes ... OK * checking package vignettes in ‘inst/doc’ ... OK * checking running R code from vignettes ... SKIPPED * checking re-building of vignette outputs ... SKIPPED * checking PDF version of manual ... OK * DONE Status: OK
CAGEfightR.Rcheck/00install.out
############################################################################## ############################################################################## ### ### Running command: ### ### /Library/Frameworks/R.framework/Versions/Current/Resources/bin/R CMD INSTALL CAGEfightR ### ############################################################################## ############################################################################## * installing to library ‘/Library/Frameworks/R.framework/Versions/3.6/Resources/library’ * installing *source* package ‘CAGEfightR’ ... ** using staged installation ** R ** data *** moving datasets to lazyload DB ** inst ** byte-compile and prepare package for lazy loading ** help *** installing help indices ** building package indices ** installing vignettes ** testing if installed package can be loaded from temporary location ** testing if installed package can be loaded from final location ** testing if installed package keeps a record of temporary installation path * DONE (CAGEfightR)
CAGEfightR.Rcheck/CAGEfightR-Ex.timings
name | user | system | elapsed | |
assignGeneID | 4.554 | 0.164 | 4.811 | |
assignMissingID | 1.605 | 0.060 | 1.674 | |
assignTxID | 1.204 | 0.043 | 1.254 | |
assignTxType | 0.000 | 0.000 | 0.001 | |
balanceBC | 0.001 | 0.000 | 0.000 | |
balanceD | 0.001 | 0.000 | 0.001 | |
bwCommonGenome | 0.054 | 0.004 | 0.058 | |
bwGenomeCompatibility | 0.020 | 0.002 | 0.022 | |
bwValid | 0.007 | 0.001 | 0.009 | |
calcBidirectionality | 0.908 | 0.050 | 0.966 | |
calcComposition | 3.030 | 0.082 | 3.164 | |
calcPooled | 0.203 | 0.024 | 0.227 | |
calcShape | 3.854 | 0.181 | 4.043 | |
calcSupport | 0.182 | 0.012 | 0.193 | |
calcTPM | 0.205 | 0.013 | 0.219 | |
calcTotalTags | 0.073 | 0.008 | 0.081 | |
checkPeaked | 0.081 | 0.006 | 0.086 | |
checkPooled | 0.117 | 0.018 | 0.135 | |
clusterBidirectionally | 0 | 0 | 0 | |
clusterUnidirectionally | 2.453 | 0.036 | 2.517 | |
combineClusters | 1.215 | 0.030 | 1.253 | |
exampleDesign | 0.008 | 0.008 | 0.018 | |
findLinks | 4.367 | 0.560 | 4.514 | |
findStretches | 0.514 | 0.067 | 0.584 | |
quantifyCTSSs | 0.000 | 0.001 | 0.000 | |
quantifyClusters | 0.701 | 0.102 | 0.805 | |
quantifyGenes | 1.700 | 0.115 | 1.818 | |
quickEnhancers | 0 | 0 | 0 | |
quickTSSs | 0 | 0 | 0 | |
shapeEntropy | 0.001 | 0.000 | 0.001 | |
shapeIQR | 0.001 | 0.001 | 0.002 | |
shapeMultimodality | 0 | 0 | 0 | |
subsetByBidirectionality | 0.680 | 0.062 | 0.745 | |
subsetByComposition | 1.773 | 0.081 | 1.857 | |
subsetBySupport | 0.133 | 0.011 | 0.144 | |
swapRanges | 0.334 | 0.012 | 0.346 | |
swapScores | 0.156 | 0.006 | 0.163 | |
trackBalance | 0.001 | 0.001 | 0.000 | |
trackCTSS | 3.878 | 0.255 | 4.184 | |
trackClusters | 2.311 | 0.067 | 2.384 | |
trackLinks | 1.470 | 0.256 | 1.598 | |
trimToPeak | 1.387 | 0.158 | 1.574 | |
trimToPercentiles | 2.950 | 0.040 | 3.012 | |
tuneTagClustering | 0.001 | 0.000 | 0.001 | |