Back to Multiple platform build/check report for BioC 3.10 |
|
This page was generated on 2020-04-15 12:28:17 -0400 (Wed, 15 Apr 2020).
Package 228/1823 | Hostname | OS / Arch | INSTALL | BUILD | CHECK | BUILD BIN | ||||||
CATALYST 1.10.3 Helena L. Crowell
| malbec1 | Linux (Ubuntu 18.04.4 LTS) / x86_64 | OK | OK | OK | |||||||
tokay1 | Windows Server 2012 R2 Standard / x64 | [ OK ] | OK | OK | OK | |||||||
merida1 | OS X 10.11.6 El Capitan / x86_64 | OK | OK | OK | OK |
Package: CATALYST |
Version: 1.10.3 |
Command: C:\cygwin\bin\curl.exe -O https://malbec1.bioconductor.org/BBS/3.10/bioc/src/contrib/CATALYST_1.10.3.tar.gz && rm -rf CATALYST.buildbin-libdir && mkdir CATALYST.buildbin-libdir && C:\Users\biocbuild\bbs-3.10-bioc\R\bin\R.exe CMD INSTALL --merge-multiarch --build --library=CATALYST.buildbin-libdir CATALYST_1.10.3.tar.gz && C:\Users\biocbuild\bbs-3.10-bioc\R\bin\R.exe CMD INSTALL CATALYST_1.10.3.zip && rm CATALYST_1.10.3.tar.gz CATALYST_1.10.3.zip |
StartedAt: 2020-04-14 20:32:29 -0400 (Tue, 14 Apr 2020) |
EndedAt: 2020-04-14 20:34:00 -0400 (Tue, 14 Apr 2020) |
EllapsedTime: 91.7 seconds |
RetCode: 0 |
Status: OK |
############################################################################## ############################################################################## ### ### Running command: ### ### C:\cygwin\bin\curl.exe -O https://malbec1.bioconductor.org/BBS/3.10/bioc/src/contrib/CATALYST_1.10.3.tar.gz && rm -rf CATALYST.buildbin-libdir && mkdir CATALYST.buildbin-libdir && C:\Users\biocbuild\bbs-3.10-bioc\R\bin\R.exe CMD INSTALL --merge-multiarch --build --library=CATALYST.buildbin-libdir CATALYST_1.10.3.tar.gz && C:\Users\biocbuild\bbs-3.10-bioc\R\bin\R.exe CMD INSTALL CATALYST_1.10.3.zip && rm CATALYST_1.10.3.tar.gz CATALYST_1.10.3.zip ### ############################################################################## ############################################################################## % Total % Received % Xferd Average Speed Time Time Time Current Dload Upload Total Spent Left Speed 0 0 0 0 0 0 0 0 --:--:-- --:--:-- --:--:-- 0 100 3584k 100 3584k 0 0 38.5M 0 --:--:-- --:--:-- --:--:-- 40.2M install for i386 * installing *source* package 'CATALYST' ... ** using staged installation ** R ** data *** moving datasets to lazyload DB ** inst ** byte-compile and prepare package for lazy loading ** help *** installing help indices converting help for package 'CATALYST' finding HTML links ... done SCE-utils html finding level-2 HTML links ... done adaptSpillmat html applyCutoffs html assignPrelim html cluster html compCytof html computeSpillmat html concatFCS html data html dbFrame-class html dbFrame-methods html estCutoffs html extractClusters html filterSCE html guessPanel html launchGUI html mergeClusters html normCytof html outFCS html outFrames html plotAbundances html plotClusterExprs html plotClusterHeatmap html plotCodes html plotCounts html plotDR html plotDiffHeatmap html plotEvents html plotExprHeatmap html plotExprs html plotMDS html plotMahal html plotMedExprs html plotNRS html plotSpillmat html plotYields html prepData html runDR html ** building package indices ** installing vignettes ** testing if installed package can be loaded from temporary location ** testing if installed package can be loaded from final location ** testing if installed package keeps a record of temporary installation path install for x64 * installing *source* package 'CATALYST' ... ** testing if installed package can be loaded * MD5 sums packaged installation of 'CATALYST' as CATALYST_1.10.3.zip * DONE (CATALYST) * installing to library 'C:/Users/biocbuild/bbs-3.10-bioc/R/library' package 'CATALYST' successfully unpacked and MD5 sums checked