Back to Multiple platform build/check report for BioC 3.10 |
|
This page was generated on 2020-04-15 12:33:19 -0400 (Wed, 15 Apr 2020).
Package 325/1823 | Hostname | OS / Arch | INSTALL | BUILD | CHECK | BUILD BIN | ||||||
CNVfilteR 1.0.4 Jose Marcos Moreno-Cabrera
| malbec1 | Linux (Ubuntu 18.04.4 LTS) / x86_64 | OK | OK | OK | ![]() | ||||||
tokay1 | Windows Server 2012 R2 Standard / x64 | [ OK ] | OK | OK | OK | ![]() | ||||||
merida1 | OS X 10.11.6 El Capitan / x86_64 | OK | OK | OK | OK | ![]() |
Package: CNVfilteR |
Version: 1.0.4 |
Command: C:\cygwin\bin\curl.exe -O https://malbec1.bioconductor.org/BBS/3.10/bioc/src/contrib/CNVfilteR_1.0.4.tar.gz && rm -rf CNVfilteR.buildbin-libdir && mkdir CNVfilteR.buildbin-libdir && C:\Users\biocbuild\bbs-3.10-bioc\R\bin\R.exe CMD INSTALL --merge-multiarch --build --library=CNVfilteR.buildbin-libdir CNVfilteR_1.0.4.tar.gz && C:\Users\biocbuild\bbs-3.10-bioc\R\bin\R.exe CMD INSTALL CNVfilteR_1.0.4.zip && rm CNVfilteR_1.0.4.tar.gz CNVfilteR_1.0.4.zip |
StartedAt: 2020-04-14 20:05:55 -0400 (Tue, 14 Apr 2020) |
EndedAt: 2020-04-14 20:07:13 -0400 (Tue, 14 Apr 2020) |
EllapsedTime: 78.5 seconds |
RetCode: 0 |
Status: OK |
############################################################################## ############################################################################## ### ### Running command: ### ### C:\cygwin\bin\curl.exe -O https://malbec1.bioconductor.org/BBS/3.10/bioc/src/contrib/CNVfilteR_1.0.4.tar.gz && rm -rf CNVfilteR.buildbin-libdir && mkdir CNVfilteR.buildbin-libdir && C:\Users\biocbuild\bbs-3.10-bioc\R\bin\R.exe CMD INSTALL --merge-multiarch --build --library=CNVfilteR.buildbin-libdir CNVfilteR_1.0.4.tar.gz && C:\Users\biocbuild\bbs-3.10-bioc\R\bin\R.exe CMD INSTALL CNVfilteR_1.0.4.zip && rm CNVfilteR_1.0.4.tar.gz CNVfilteR_1.0.4.zip ### ############################################################################## ############################################################################## % Total % Received % Xferd Average Speed Time Time Time Current Dload Upload Total Spent Left Speed 0 0 0 0 0 0 0 0 --:--:-- --:--:-- --:--:-- 0 100 189k 100 189k 0 0 1412k 0 --:--:-- --:--:-- --:--:-- 1458k install for i386 * installing *source* package 'CNVfilteR' ... ** using staged installation ** R ** inst ** byte-compile and prepare package for lazy loading ** help *** installing help indices converting help for package 'CNVfilteR' finding HTML links ... done auxAddCNcolumn html auxGetVcfSource html auxProcessVariants html filterCNVs html getVariantScore html loadCNVcalls html loadSNPsFromVCF html loadVCFs html plotAllCNVs html plotScoringModel html plotVariantsForCNV html ** building package indices ** installing vignettes ** testing if installed package can be loaded from temporary location ** testing if installed package can be loaded from final location ** testing if installed package keeps a record of temporary installation path install for x64 * installing *source* package 'CNVfilteR' ... ** testing if installed package can be loaded * MD5 sums packaged installation of 'CNVfilteR' as CNVfilteR_1.0.4.zip * DONE (CNVfilteR) * installing to library 'C:/Users/biocbuild/bbs-3.10-bioc/R/library' package 'CNVfilteR' successfully unpacked and MD5 sums checked