Back to Multiple platform build/check report for BioC 3.10 |
|
This page was generated on 2020-04-15 12:49:06 -0400 (Wed, 15 Apr 2020).
Package 245/1823 | Hostname | OS / Arch | INSTALL | BUILD | CHECK | BUILD BIN | ||||||
CellMixS 1.2.6 Almut Lütge
| malbec1 | Linux (Ubuntu 18.04.4 LTS) / x86_64 | OK | OK | OK | |||||||
tokay1 | Windows Server 2012 R2 Standard / x64 | OK | OK | OK | OK | |||||||
merida1 | OS X 10.11.6 El Capitan / x86_64 | OK | OK | [ OK ] | OK |
Package: CellMixS |
Version: 1.2.6 |
Command: /Library/Frameworks/R.framework/Versions/Current/Resources/bin/R CMD check --install=check:CellMixS.install-out.txt --library=/Library/Frameworks/R.framework/Versions/Current/Resources/library --no-vignettes --timings CellMixS_1.2.6.tar.gz |
StartedAt: 2020-04-15 01:02:02 -0400 (Wed, 15 Apr 2020) |
EndedAt: 2020-04-15 01:05:47 -0400 (Wed, 15 Apr 2020) |
EllapsedTime: 224.6 seconds |
RetCode: 0 |
Status: OK |
CheckDir: CellMixS.Rcheck |
Warnings: 0 |
############################################################################## ############################################################################## ### ### Running command: ### ### /Library/Frameworks/R.framework/Versions/Current/Resources/bin/R CMD check --install=check:CellMixS.install-out.txt --library=/Library/Frameworks/R.framework/Versions/Current/Resources/library --no-vignettes --timings CellMixS_1.2.6.tar.gz ### ############################################################################## ############################################################################## * using log directory ‘/Users/biocbuild/bbs-3.10-bioc/meat/CellMixS.Rcheck’ * using R version 3.6.3 (2020-02-29) * using platform: x86_64-apple-darwin15.6.0 (64-bit) * using session charset: UTF-8 * using option ‘--no-vignettes’ * checking for file ‘CellMixS/DESCRIPTION’ ... OK * checking extension type ... Package * this is package ‘CellMixS’ version ‘1.2.6’ * package encoding: UTF-8 * checking package namespace information ... OK * checking package dependencies ... OK * checking if this is a source package ... OK * checking if there is a namespace ... OK * checking for hidden files and directories ... OK * checking for portable file names ... OK * checking for sufficient/correct file permissions ... OK * checking whether package ‘CellMixS’ can be installed ... OK * checking installed package size ... OK * checking package directory ... OK * checking ‘build’ directory ... OK * checking DESCRIPTION meta-information ... OK * checking top-level files ... OK * checking for left-over files ... OK * checking index information ... OK * checking package subdirectories ... OK * checking R files for non-ASCII characters ... OK * checking R files for syntax errors ... OK * checking whether the package can be loaded ... OK * checking whether the package can be loaded with stated dependencies ... OK * checking whether the package can be unloaded cleanly ... OK * checking whether the namespace can be loaded with stated dependencies ... OK * checking whether the namespace can be unloaded cleanly ... OK * checking dependencies in R code ... OK * checking S3 generic/method consistency ... OK * checking replacement functions ... OK * checking foreign function calls ... OK * checking R code for possible problems ... OK * checking Rd files ... OK * checking Rd metadata ... OK * checking Rd cross-references ... OK * checking for missing documentation entries ... OK * checking for code/documentation mismatches ... OK * checking Rd \usage sections ... OK * checking Rd contents ... OK * checking for unstated dependencies in examples ... OK * checking R/sysdata.rda ... OK * checking files in ‘vignettes’ ... OK * checking examples ... OK * checking for unstated dependencies in ‘tests’ ... OK * checking tests ... Running ‘testthat.R’ OK * checking for unstated dependencies in vignettes ... OK * checking package vignettes in ‘inst/doc’ ... OK * checking running R code from vignettes ... SKIPPED * checking re-building of vignette outputs ... SKIPPED * checking PDF version of manual ... OK * DONE Status: OK
CellMixS.Rcheck/00install.out
############################################################################## ############################################################################## ### ### Running command: ### ### /Library/Frameworks/R.framework/Versions/Current/Resources/bin/R CMD INSTALL CellMixS ### ############################################################################## ############################################################################## * installing to library ‘/Library/Frameworks/R.framework/Versions/3.6/Resources/library’ * installing *source* package ‘CellMixS’ ... ** using staged installation ** R ** inst ** byte-compile and prepare package for lazy loading ** help *** installing help indices ** building package indices ** installing vignettes ** testing if installed package can be loaded from temporary location ** testing if installed package can be loaded from final location ** testing if installed package keeps a record of temporary installation path * DONE (CellMixS)
CellMixS.Rcheck/tests/testthat.Rout
R version 3.6.3 (2020-02-29) -- "Holding the Windsock" Copyright (C) 2020 The R Foundation for Statistical Computing Platform: x86_64-apple-darwin15.6.0 (64-bit) R is free software and comes with ABSOLUTELY NO WARRANTY. You are welcome to redistribute it under certain conditions. Type 'license()' or 'licence()' for distribution details. R is a collaborative project with many contributors. Type 'contributors()' for more information and 'citation()' on how to cite R or R packages in publications. Type 'demo()' for some demos, 'help()' for on-line help, or 'help.start()' for an HTML browser interface to help. Type 'q()' to quit R. > library(testthat) > library(CellMixS) Loading required package: kSamples Loading required package: SuppDists > > test_check("CellMixS") ══ testthat results ═══════════════════════════════════════════════════════════ [ OK: 81 | SKIPPED: 0 | WARNINGS: 0 | FAILED: 0 ] > > proc.time() user system elapsed 37.538 0.887 38.735
CellMixS.Rcheck/CellMixS-Ex.timings
name | user | system | elapsed | |
cms | 1.689 | 0.072 | 1.778 | |
entropy | 0.448 | 0.052 | 0.505 | |
evalIntegration | 2.408 | 0.046 | 2.473 | |
isi | 0.389 | 0.018 | 0.408 | |
ldfDiff | 0.799 | 0.035 | 0.842 | |
ldfSce | 0.449 | 0.012 | 0.462 | |
locStructure | 1.061 | 0.014 | 1.085 | |
mixMetric | 0.432 | 0.012 | 0.453 | |
visCluster | 1.692 | 0.024 | 1.731 | |
visGroup | 0.545 | 0.012 | 0.565 | |
visHist | 1.897 | 0.018 | 1.927 | |
visIntegration | 1.476 | 0.017 | 1.508 | |
visMetric | 1.484 | 0.018 | 1.522 | |
visOverview | 2.436 | 0.021 | 2.474 | |