Back to Multiple platform build/check report for BioC 3.10 |
|
This page was generated on 2020-04-15 12:30:43 -0400 (Wed, 15 Apr 2020).
Package 249/1823 | Hostname | OS / Arch | INSTALL | BUILD | CHECK | BUILD BIN | ||||||
CellTrails 1.4.0 Daniel Ellwanger
| malbec1 | Linux (Ubuntu 18.04.4 LTS) / x86_64 | OK | OK | WARNINGS | ![]() | ||||||
tokay1 | Windows Server 2012 R2 Standard / x64 | OK | OK | WARNINGS | [ OK ] | ![]() | ||||||
merida1 | OS X 10.11.6 El Capitan / x86_64 | OK | OK | WARNINGS | OK | ![]() |
Package: CellTrails |
Version: 1.4.0 |
Command: rm -rf CellTrails.buildbin-libdir && mkdir CellTrails.buildbin-libdir && C:\Users\biocbuild\bbs-3.10-bioc\R\bin\R.exe CMD INSTALL --merge-multiarch --build --library=CellTrails.buildbin-libdir CellTrails_1.4.0.tar.gz |
StartedAt: 2020-04-15 08:22:09 -0400 (Wed, 15 Apr 2020) |
EndedAt: 2020-04-15 08:23:38 -0400 (Wed, 15 Apr 2020) |
EllapsedTime: 88.5 seconds |
RetCode: 0 |
Status: OK |
PackageFile: CellTrails_1.4.0.zip |
PackageFileSize: 2.463 MiB |
############################################################################## ############################################################################## ### ### Running command: ### ### rm -rf CellTrails.buildbin-libdir && mkdir CellTrails.buildbin-libdir && C:\Users\biocbuild\bbs-3.10-bioc\R\bin\R.exe CMD INSTALL --merge-multiarch --build --library=CellTrails.buildbin-libdir CellTrails_1.4.0.tar.gz ### ############################################################################## ############################################################################## install for i386 * installing *source* package 'CellTrails' ... ** using staged installation ** R ** data ** inst ** byte-compile and prepare package for lazy loading ** help *** installing help indices converting help for package 'CellTrails' finding HTML links ... done addTrail html connectStates html contrastTrailExpr html embedSamples html enrichment.test html exSCE html featureNames-SingleCellExperiment-method html filterTrajFeaturesByCOV html filterTrajFeaturesByDL html filterTrajFeaturesByFF html findSpectrum html findStates html fitDynamic html fitTrajectory html landmarks html latentSpace-set html latentSpace html manifold2D-set html manifold2D html pca html phenoNames html plotDynamic html plotManifold html plotMap html plotStateExpression html plotStateSize html plotStateTrajectory html plotTrail html plotTrajectoryFit html read.ygraphml html removeTrail html sampleNames-SingleCellExperiment-method html selectTrajectory html showTrajInfo html simulate_exprs html stateTrajLayout-set html states-set html states html trailNames-set html trailNames html trails html trajComponents html trajFeatureNames-set html trajFeatureNames html trajLayout-set html trajLayout html trajResiduals html trajSampleNames html userLandmarks-set html userLandmarks html write.ygraphml html ** building package indices ** installing vignettes ** testing if installed package can be loaded from temporary location ** testing if installed package can be loaded from final location ** testing if installed package keeps a record of temporary installation path install for x64 * installing *source* package 'CellTrails' ... ** testing if installed package can be loaded * MD5 sums packaged installation of 'CellTrails' as CellTrails_1.4.0.zip * DONE (CellTrails)