Back to Multiple platform build/check report for BioC 3.10 |
|
This page was generated on 2020-04-15 12:42:47 -0400 (Wed, 15 Apr 2020).
Package 267/1823 | Hostname | OS / Arch | INSTALL | BUILD | CHECK | BUILD BIN | ||||||
Chicago 1.14.0 Mikhail Spivakov
| malbec1 | Linux (Ubuntu 18.04.4 LTS) / x86_64 | OK | OK | OK | ![]() | ||||||
tokay1 | Windows Server 2012 R2 Standard / x64 | OK | OK | OK | OK | ![]() | ||||||
merida1 | OS X 10.11.6 El Capitan / x86_64 | OK | OK | [ OK ] | OK | ![]() |
Package: Chicago |
Version: 1.14.0 |
Command: /Library/Frameworks/R.framework/Versions/Current/Resources/bin/R CMD check --install=check:Chicago.install-out.txt --library=/Library/Frameworks/R.framework/Versions/Current/Resources/library --no-vignettes --timings Chicago_1.14.0.tar.gz |
StartedAt: 2020-04-15 01:05:22 -0400 (Wed, 15 Apr 2020) |
EndedAt: 2020-04-15 01:07:47 -0400 (Wed, 15 Apr 2020) |
EllapsedTime: 144.7 seconds |
RetCode: 0 |
Status: OK |
CheckDir: Chicago.Rcheck |
Warnings: 0 |
############################################################################## ############################################################################## ### ### Running command: ### ### /Library/Frameworks/R.framework/Versions/Current/Resources/bin/R CMD check --install=check:Chicago.install-out.txt --library=/Library/Frameworks/R.framework/Versions/Current/Resources/library --no-vignettes --timings Chicago_1.14.0.tar.gz ### ############################################################################## ############################################################################## * using log directory ‘/Users/biocbuild/bbs-3.10-bioc/meat/Chicago.Rcheck’ * using R version 3.6.3 (2020-02-29) * using platform: x86_64-apple-darwin15.6.0 (64-bit) * using session charset: UTF-8 * using option ‘--no-vignettes’ * checking for file ‘Chicago/DESCRIPTION’ ... OK * checking extension type ... Package * this is package ‘Chicago’ version ‘1.14.0’ * checking package namespace information ... OK * checking package dependencies ... OK * checking if this is a source package ... OK * checking if there is a namespace ... OK * checking for hidden files and directories ... NOTE Found the following hidden files and directories: .BBSoptions These were most likely included in error. See section ‘Package structure’ in the ‘Writing R Extensions’ manual. * checking for portable file names ... OK * checking for sufficient/correct file permissions ... OK * checking whether package ‘Chicago’ can be installed ... OK * checking installed package size ... OK * checking package directory ... OK * checking ‘build’ directory ... OK * checking DESCRIPTION meta-information ... OK * checking top-level files ... OK * checking for left-over files ... OK * checking index information ... OK * checking package subdirectories ... OK * checking R files for non-ASCII characters ... OK * checking R files for syntax errors ... OK * checking whether the package can be loaded ... OK * checking whether the package can be loaded with stated dependencies ... OK * checking whether the package can be unloaded cleanly ... OK * checking whether the namespace can be loaded with stated dependencies ... OK * checking whether the namespace can be unloaded cleanly ... OK * checking dependencies in R code ... OK * checking S3 generic/method consistency ... OK * checking replacement functions ... OK * checking foreign function calls ... OK * checking R code for possible problems ... OK * checking Rd files ... OK * checking Rd metadata ... OK * checking Rd cross-references ... OK * checking for missing documentation entries ... OK * checking for code/documentation mismatches ... OK * checking Rd \usage sections ... OK * checking Rd contents ... OK * checking for unstated dependencies in examples ... OK * checking contents of ‘data’ directory ... OK * checking data for non-ASCII characters ... OK * checking data for ASCII and uncompressed saves ... OK * checking files in ‘vignettes’ ... OK * checking examples ... OK Examples with CPU or elapsed time > 5s user system elapsed normaliseOtherEnds 27.769 17.037 15.665 exportResults 18.076 1.202 17.085 peakEnrichment4Features 9.010 8.580 3.424 * checking for unstated dependencies in ‘tests’ ... OK * checking tests ... Running ‘testthat.R’ OK * checking for unstated dependencies in vignettes ... OK * checking package vignettes in ‘inst/doc’ ... OK * checking running R code from vignettes ... SKIPPED * checking re-building of vignette outputs ... SKIPPED * checking PDF version of manual ... OK * DONE Status: 1 NOTE See ‘/Users/biocbuild/bbs-3.10-bioc/meat/Chicago.Rcheck/00check.log’ for details.
Chicago.Rcheck/00install.out
############################################################################## ############################################################################## ### ### Running command: ### ### /Library/Frameworks/R.framework/Versions/Current/Resources/bin/R CMD INSTALL Chicago ### ############################################################################## ############################################################################## * installing to library ‘/Library/Frameworks/R.framework/Versions/3.6/Resources/library’ * installing *source* package ‘Chicago’ ... ** using staged installation ** R ** data ** inst ** byte-compile and prepare package for lazy loading ** help *** installing help indices ** building package indices ** installing vignettes ** testing if installed package can be loaded from temporary location ** testing if installed package can be loaded from final location ** testing if installed package keeps a record of temporary installation path * DONE (Chicago)
Chicago.Rcheck/tests/testthat.Rout
R version 3.6.3 (2020-02-29) -- "Holding the Windsock" Copyright (C) 2020 The R Foundation for Statistical Computing Platform: x86_64-apple-darwin15.6.0 (64-bit) R is free software and comes with ABSOLUTELY NO WARRANTY. You are welcome to redistribute it under certain conditions. Type 'license()' or 'licence()' for distribution details. R is a collaborative project with many contributors. Type 'contributors()' for more information and 'citation()' on how to cite R or R packages in publications. Type 'demo()' for some demos, 'help()' for on-line help, or 'help.start()' for an HTML browser interface to help. Type 'q()' to quit R. > library(testthat) > library(Chicago) Loading required package: data.table Welcome to CHiCAGO - version 1.14.0 If you are new to CHiCAGO, please consider reading the vignette through the command: vignette("Chicago"). NOTE: Default values of tlb.minProxOEPerBin and tlb.minProxB2BPerBin changed as of Version 1.1.5. No action is required unless you specified non-default values, or wish to re-run the pipeline on old chicagoData objects. See news(package="Chicago") > > test_check("Chicago") Read 4 items Read 4 items Read 4 items ══ testthat results ═══════════════════════════════════════════════════════════ [ OK: 11 | SKIPPED: 0 | WARNINGS: 0 | FAILED: 0 ] > > proc.time() user system elapsed 8.640 6.137 5.300
Chicago.Rcheck/Chicago-Ex.timings
name | user | system | elapsed | |
cdUnitTest | 0.173 | 0.174 | 0.068 | |
chicagoData | 0.003 | 0.004 | 0.001 | |
chicagoPipeline | 0.172 | 0.207 | 0.054 | |
copyCD | 0.026 | 0.036 | 0.009 | |
defaultSettings | 0.005 | 0.008 | 0.002 | |
estimateBrownianComponent | 0.807 | 0.962 | 0.255 | |
estimateDistFun | 0.218 | 0.239 | 0.066 | |
estimateTechnicalNoise | 1.021 | 0.214 | 0.137 | |
exportResults | 18.076 | 1.202 | 17.085 | |
getPvals | 0.090 | 0.032 | 0.023 | |
getScores | 0.189 | 0.238 | 0.062 | |
getSkOnly | 1.771 | 1.221 | 0.459 | |
mergeSamples | 1.535 | 0.422 | 0.214 | |
modifySettings | 0.107 | 0.101 | 0.030 | |
normaliseBaits | 0.602 | 0.581 | 0.169 | |
normaliseOtherEnds | 27.769 | 17.037 | 15.665 | |
overlapFragWithFeatures | 0.397 | 0.344 | 0.106 | |
peakEnrichment4Features | 9.010 | 8.580 | 3.424 | |
plotBaits | 2.895 | 0.857 | 0.403 | |
plotDistFun | 0.060 | 0.075 | 0.017 | |
readAndMerge | 0.500 | 0.572 | 0.136 | |
readSample | 0.163 | 0.233 | 0.050 | |
setExperiment | 0.058 | 0.077 | 0.017 | |