Back to Multiple platform build/check report for BioC 3.10 |
|
This page was generated on 2020-04-15 12:36:42 -0400 (Wed, 15 Apr 2020).
Package 302/1823 | Hostname | OS / Arch | INSTALL | BUILD | CHECK | BUILD BIN | ||||||
Clonality 1.34.0 Irina Ostrovnaya
| malbec1 | Linux (Ubuntu 18.04.4 LTS) / x86_64 | OK | OK | OK | |||||||
tokay1 | Windows Server 2012 R2 Standard / x64 | OK | OK | OK | OK | |||||||
merida1 | OS X 10.11.6 El Capitan / x86_64 | OK | OK | OK | [ OK ] |
Package: Clonality |
Version: 1.34.0 |
Command: rm -rf Clonality.buildbin-libdir && mkdir Clonality.buildbin-libdir && /Users/biocbuild/BBS/utils/build-universal.sh Clonality_1.34.0.tar.gz /Library/Frameworks/R.framework/Versions/Current/Resources/bin/R Clonality.buildbin-libdir |
StartedAt: 2020-04-15 07:07:20 -0400 (Wed, 15 Apr 2020) |
EndedAt: 2020-04-15 07:08:13 -0400 (Wed, 15 Apr 2020) |
EllapsedTime: 53.0 seconds |
RetCode: 0 |
Status: OK |
PackageFile: Clonality_1.34.0.tgz |
PackageFileSize: 2.619 MiB |
############################################################################## ############################################################################## ### ### Running command: ### ### rm -rf Clonality.buildbin-libdir && mkdir Clonality.buildbin-libdir && /Users/biocbuild/BBS/utils/build-universal.sh Clonality_1.34.0.tar.gz /Library/Frameworks/R.framework/Versions/Current/Resources/bin/R Clonality.buildbin-libdir ### ############################################################################## ############################################################################## >>>>>>> >>>>>>> INSTALLATION WITH 'R CMD INSTALL --preclean --no-multiarch --library=Clonality.buildbin-libdir Clonality_1.34.0.tar.gz' >>>>>>> * installing *source* package ‘Clonality’ ... ** using staged installation ** R ** data ** inst ** byte-compile and prepare package for lazy loading ** help *** installing help indices ** building package indices ** installing vignettes ** testing if installed package can be loaded from temporary location ** testing if installed package can be loaded from final location ** testing if installed package keeps a record of temporary installation path * DONE (Clonality)