Back to Multiple platform build/check report for BioC 3.10 |
|
This page was generated on 2020-04-15 12:24:47 -0400 (Wed, 15 Apr 2020).
Package 362/1823 | Hostname | OS / Arch | INSTALL | BUILD | CHECK | BUILD BIN | ||||||
CopywriteR 2.18.0 Oscar Krijgsman
| malbec1 | Linux (Ubuntu 18.04.4 LTS) / x86_64 | OK | OK | OK | |||||||
tokay1 | Windows Server 2012 R2 Standard / x64 | OK | OK | OK | [ OK ] | |||||||
merida1 | OS X 10.11.6 El Capitan / x86_64 | OK | OK | OK | OK |
Package: CopywriteR |
Version: 2.18.0 |
Command: rm -rf CopywriteR.buildbin-libdir && mkdir CopywriteR.buildbin-libdir && C:\Users\biocbuild\bbs-3.10-bioc\R\bin\R.exe CMD INSTALL --merge-multiarch --build --library=CopywriteR.buildbin-libdir CopywriteR_2.18.0.tar.gz |
StartedAt: 2020-04-15 08:29:24 -0400 (Wed, 15 Apr 2020) |
EndedAt: 2020-04-15 08:30:13 -0400 (Wed, 15 Apr 2020) |
EllapsedTime: 48.4 seconds |
RetCode: 0 |
Status: OK |
PackageFile: CopywriteR_2.18.0.zip |
PackageFileSize: 313.6 KiB |
############################################################################## ############################################################################## ### ### Running command: ### ### rm -rf CopywriteR.buildbin-libdir && mkdir CopywriteR.buildbin-libdir && C:\Users\biocbuild\bbs-3.10-bioc\R\bin\R.exe CMD INSTALL --merge-multiarch --build --library=CopywriteR.buildbin-libdir CopywriteR_2.18.0.tar.gz ### ############################################################################## ############################################################################## install for i386 * installing *source* package 'CopywriteR' ... ** using staged installation ** R ** inst ** byte-compile and prepare package for lazy loading ** help *** installing help indices converting help for package 'CopywriteR' finding HTML links ... done CopywriteR html plotCNA html preCopywriteR html ** building package indices ** installing vignettes ** testing if installed package can be loaded from temporary location ** testing if installed package can be loaded from final location ** testing if installed package keeps a record of temporary installation path install for x64 * installing *source* package 'CopywriteR' ... ** testing if installed package can be loaded * MD5 sums packaged installation of 'CopywriteR' as CopywriteR_2.18.0.zip * DONE (CopywriteR)