Back to Multiple platform build/check report for BioC 3.10 |
|
This page was generated on 2020-04-15 12:25:39 -0400 (Wed, 15 Apr 2020).
Package 411/1823 | Hostname | OS / Arch | INSTALL | BUILD | CHECK | BUILD BIN | ||||||
DChIPRep 1.16.0 Bernd Klaus
| malbec1 | Linux (Ubuntu 18.04.4 LTS) / x86_64 | OK | OK | OK | ![]() | ||||||
tokay1 | Windows Server 2012 R2 Standard / x64 | [ OK ] | OK | WARNINGS | OK | ![]() | ||||||
merida1 | OS X 10.11.6 El Capitan / x86_64 | OK | OK | OK | OK | ![]() |
Package: DChIPRep |
Version: 1.16.0 |
Command: C:\cygwin\bin\curl.exe -O https://malbec1.bioconductor.org/BBS/3.10/bioc/src/contrib/DChIPRep_1.16.0.tar.gz && rm -rf DChIPRep.buildbin-libdir && mkdir DChIPRep.buildbin-libdir && C:\Users\biocbuild\bbs-3.10-bioc\R\bin\R.exe CMD INSTALL --merge-multiarch --build --library=DChIPRep.buildbin-libdir DChIPRep_1.16.0.tar.gz && C:\Users\biocbuild\bbs-3.10-bioc\R\bin\R.exe CMD INSTALL DChIPRep_1.16.0.zip && rm DChIPRep_1.16.0.tar.gz DChIPRep_1.16.0.zip |
StartedAt: 2020-04-14 19:59:03 -0400 (Tue, 14 Apr 2020) |
EndedAt: 2020-04-14 20:00:32 -0400 (Tue, 14 Apr 2020) |
EllapsedTime: 88.6 seconds |
RetCode: 0 |
Status: OK |
############################################################################## ############################################################################## ### ### Running command: ### ### C:\cygwin\bin\curl.exe -O https://malbec1.bioconductor.org/BBS/3.10/bioc/src/contrib/DChIPRep_1.16.0.tar.gz && rm -rf DChIPRep.buildbin-libdir && mkdir DChIPRep.buildbin-libdir && C:\Users\biocbuild\bbs-3.10-bioc\R\bin\R.exe CMD INSTALL --merge-multiarch --build --library=DChIPRep.buildbin-libdir DChIPRep_1.16.0.tar.gz && C:\Users\biocbuild\bbs-3.10-bioc\R\bin\R.exe CMD INSTALL DChIPRep_1.16.0.zip && rm DChIPRep_1.16.0.tar.gz DChIPRep_1.16.0.zip ### ############################################################################## ############################################################################## % Total % Received % Xferd Average Speed Time Time Time Current Dload Upload Total Spent Left Speed 0 0 0 0 0 0 0 0 --:--:-- --:--:-- --:--:-- 0 100 687k 100 687k 0 0 14.2M 0 --:--:-- --:--:-- --:--:-- 15.6M install for i386 * installing *source* package 'DChIPRep' ... ** using staged installation ** R ** data *** moving datasets to lazyload DB ** exec ** inst ** byte-compile and prepare package for lazy loading ** help *** installing help indices converting help for package 'DChIPRep' finding HTML links ... done DChIPRep html DChIPRepResults html DESeq2Data html FDRresults html TSS_galonska html chip_galonska html exampleChipData html exampleInputData html exampleSampleTable html getMATfromDataFrame html importData html importDataFromMatrices html importData_soGGi html Rd warning: C:/Users/biocbuild/bbs-3.10-bioc/tmpdir/RtmpyQeSgR/R.INSTALL167459c83831/DChIPRep/man/importData_soGGi.Rd:36: file link 'regionPlot' in package 'soGGi' does not exist and so has been treated as a topic Rd warning: C:/Users/biocbuild/bbs-3.10-bioc/tmpdir/RtmpyQeSgR/R.INSTALL167459c83831/DChIPRep/man/importData_soGGi.Rd:14: file link 'GenomicRanges-class' in package 'GenomicRanges' does not exist and so has been treated as a topic Rd warning: C:/Users/biocbuild/bbs-3.10-bioc/tmpdir/RtmpyQeSgR/R.INSTALL167459c83831/DChIPRep/man/importData_soGGi.Rd:27: file link 'regionPlot' in package 'soGGi' does not exist and so has been treated as a topic Rd warning: C:/Users/biocbuild/bbs-3.10-bioc/tmpdir/RtmpyQeSgR/R.INSTALL167459c83831/DChIPRep/man/importData_soGGi.Rd:65: file link 'regionPlot' in package 'soGGi' does not exist and so has been treated as a topic input_galonska html plotProfiles html plotSignificance html resultsDChIPRep html robust_mean html Rd warning: C:/Users/biocbuild/bbs-3.10-bioc/tmpdir/RtmpyQeSgR/R.INSTALL167459c83831/DChIPRep/man/robust_mean.Rd:17: file link 'smhuber' in package 'smoothmest' does not exist and so has been treated as a topic runTesting html sample_table_galonska html show html summarizeCountsPerPosition html testData html ** building package indices ** installing vignettes ** testing if installed package can be loaded from temporary location ** testing if installed package can be loaded from final location ** testing if installed package keeps a record of temporary installation path install for x64 * installing *source* package 'DChIPRep' ... ** testing if installed package can be loaded * MD5 sums packaged installation of 'DChIPRep' as DChIPRep_1.16.0.zip * DONE (DChIPRep) * installing to library 'C:/Users/biocbuild/bbs-3.10-bioc/R/library' package 'DChIPRep' successfully unpacked and MD5 sums checked