Back to Multiple platform build/check report for BioC 3.10 |
|
This page was generated on 2020-04-15 12:37:01 -0400 (Wed, 15 Apr 2020).
Package 449/1823 | Hostname | OS / Arch | INSTALL | BUILD | CHECK | BUILD BIN | ||||||
DEXSeq 1.32.0 Alejandro Reyes
| malbec1 | Linux (Ubuntu 18.04.4 LTS) / x86_64 | OK | OK | OK | |||||||
tokay1 | Windows Server 2012 R2 Standard / x64 | OK | OK | OK | OK | |||||||
merida1 | OS X 10.11.6 El Capitan / x86_64 | OK | [ OK ] | OK | OK |
Package: DEXSeq |
Version: 1.32.0 |
Command: /Library/Frameworks/R.framework/Versions/Current/Resources/bin/R CMD build --keep-empty-dirs --no-resave-data DEXSeq |
StartedAt: 2020-04-14 20:23:15 -0400 (Tue, 14 Apr 2020) |
EndedAt: 2020-04-14 20:24:53 -0400 (Tue, 14 Apr 2020) |
EllapsedTime: 98.1 seconds |
RetCode: 0 |
Status: OK |
PackageFile: DEXSeq_1.32.0.tar.gz |
PackageFileSize: 6.284 MiB |
############################################################################## ############################################################################## ### ### Running command: ### ### /Library/Frameworks/R.framework/Versions/Current/Resources/bin/R CMD build --keep-empty-dirs --no-resave-data DEXSeq ### ############################################################################## ############################################################################## * checking for file ‘DEXSeq/DESCRIPTION’ ... OK * preparing ‘DEXSeq’: * checking DESCRIPTION meta-information ... OK * installing the package to build vignettes * creating vignettes ... OK * checking for LF line-endings in source and make files and shell scripts * checking for empty or unneeded directories NB: this package now depends on R (>= 3.5.0) WARNING: Added dependency on R >= 3.5.0 because serialized objects in serialize/load version 3 cannot be read in older versions of R. File(s) containing such objects: 'DEXSeq/vignettes/DEXSeq_cache/html/DEXSeqHTML_b0fc3feaba7c909d44c8d40316e921d2.RData' WARNING: Added dependency on R >= 3.5.0 because serialized objects in serialize/load version 3 cannot be read in older versions of R. File(s) containing such objects: 'DEXSeq/vignettes/DEXSeq_cache/html/DEXSeqHTML_b0fc3feaba7c909d44c8d40316e921d2.rdx' WARNING: Added dependency on R >= 3.5.0 because serialized objects in serialize/load version 3 cannot be read in older versions of R. File(s) containing such objects: 'DEXSeq/vignettes/DEXSeq_cache/html/MvsA_006275aa09b8fd05a9146a52ab9b39c5.RData' WARNING: Added dependency on R >= 3.5.0 because serialized objects in serialize/load version 3 cannot be read in older versions of R. File(s) containing such objects: 'DEXSeq/vignettes/DEXSeq_cache/html/MvsA_006275aa09b8fd05a9146a52ab9b39c5.rdx' WARNING: Added dependency on R >= 3.5.0 because serialized objects in serialize/load version 3 cannot be read in older versions of R. File(s) containing such objects: 'DEXSeq/vignettes/DEXSeq_cache/html/acc_8c4210e22d61b490ccde96edba5d3da9.RData' WARNING: Added dependency on R >= 3.5.0 because serialized objects in serialize/load version 3 cannot be read in older versions of R. File(s) containing such objects: 'DEXSeq/vignettes/DEXSeq_cache/html/acc_8c4210e22d61b490ccde96edba5d3da9.rdx' WARNING: Added dependency on R >= 3.5.0 because serialized objects in serialize/load version 3 cannot be read in older versions of R. File(s) containing such objects: 'DEXSeq/vignettes/DEXSeq_cache/html/alldeu_ba90c4e3fbe578de5c497cb666881c59.RData' WARNING: Added dependency on R >= 3.5.0 because serialized objects in serialize/load version 3 cannot be read in older versions of R. File(s) containing such objects: 'DEXSeq/vignettes/DEXSeq_cache/html/alldeu_ba90c4e3fbe578de5c497cb666881c59.rdx' WARNING: Added dependency on R >= 3.5.0 because serialized objects in serialize/load version 3 cannot be read in older versions of R. File(s) containing such objects: 'DEXSeq/vignettes/DEXSeq_cache/html/buildExonCountSet2FindBAMs2_34629d61ee6b0221ac68c81be6b6781e.RData' WARNING: Added dependency on R >= 3.5.0 because serialized objects in serialize/load version 3 cannot be read in older versions of R. File(s) containing such objects: 'DEXSeq/vignettes/DEXSeq_cache/html/buildExonCountSet2FindBAMs2_34629d61ee6b0221ac68c81be6b6781e.rdx' WARNING: Added dependency on R >= 3.5.0 because serialized objects in serialize/load version 3 cannot be read in older versions of R. File(s) containing such objects: 'DEXSeq/vignettes/DEXSeq_cache/html/buildExonCountSet2FindBAMs_561981b2fdb70211220f88954f853b9e.RData' WARNING: Added dependency on R >= 3.5.0 because serialized objects in serialize/load version 3 cannot be read in older versions of R. File(s) containing such objects: 'DEXSeq/vignettes/DEXSeq_cache/html/buildExonCountSet2FindBAMs_561981b2fdb70211220f88954f853b9e.rdx' WARNING: Added dependency on R >= 3.5.0 because serialized objects in serialize/load version 3 cannot be read in older versions of R. File(s) containing such objects: 'DEXSeq/vignettes/DEXSeq_cache/html/buildExonCountSet3_4d7aabbc029e0fcf9f3fe2085ffe9b04.RData' WARNING: Added dependency on R >= 3.5.0 because serialized objects in serialize/load version 3 cannot be read in older versions of R. File(s) containing such objects: 'DEXSeq/vignettes/DEXSeq_cache/html/buildExonCountSet3_4d7aabbc029e0fcf9f3fe2085ffe9b04.rdx' WARNING: Added dependency on R >= 3.5.0 because serialized objects in serialize/load version 3 cannot be read in older versions of R. File(s) containing such objects: 'DEXSeq/vignettes/DEXSeq_cache/html/buildExonCountSetDisjoin_50c16731a3f25c0183e99656ca624070.RData' WARNING: Added dependency on R >= 3.5.0 because serialized objects in serialize/load version 3 cannot be read in older versions of R. File(s) containing such objects: 'DEXSeq/vignettes/DEXSeq_cache/html/buildExonCountSetDisjoin_50c16731a3f25c0183e99656ca624070.rdx' WARNING: Added dependency on R >= 3.5.0 because serialized objects in serialize/load version 3 cannot be read in older versions of R. File(s) containing such objects: 'DEXSeq/vignettes/DEXSeq_cache/html/buildExonCountSetDownloadAnno_3ed574a4b24e97d3f74ff7d580fb9304.RData' WARNING: Added dependency on R >= 3.5.0 because serialized objects in serialize/load version 3 cannot be read in older versions of R. File(s) containing such objects: 'DEXSeq/vignettes/DEXSeq_cache/html/buildExonCountSetDownloadAnno_3ed574a4b24e97d3f74ff7d580fb9304.rdx' WARNING: Added dependency on R >= 3.5.0 because serialized objects in serialize/load version 3 cannot be read in older versions of R. File(s) containing such objects: 'DEXSeq/vignettes/DEXSeq_cache/html/buildExonCountSetLoadPacks_285a2eb9c3a996d7fefbe06e52ec3f8e.RData' WARNING: Added dependency on R >= 3.5.0 because serialized objects in serialize/load version 3 cannot be read in older versions of R. File(s) containing such objects: 'DEXSeq/vignettes/DEXSeq_cache/html/buildExonCountSetLoadPacks_285a2eb9c3a996d7fefbe06e52ec3f8e.rdx' WARNING: Added dependency on R >= 3.5.0 because serialized objects in serialize/load version 3 cannot be read in older versions of R. File(s) containing such objects: 'DEXSeq/vignettes/DEXSeq_cache/html/checkClaim_69917af3297a0aeebbdcad36db6c4488.RData' WARNING: Added dependency on R >= 3.5.0 because serialized objects in serialize/load version 3 cannot be read in older versions of R. File(s) containing such objects: 'DEXSeq/vignettes/DEXSeq_cache/html/checkClaim_69917af3297a0aeebbdcad36db6c4488.rdx' WARNING: Added dependency on R >= 3.5.0 because serialized objects in serialize/load version 3 cannot be read in older versions of R. File(s) containing such objects: 'DEXSeq/vignettes/DEXSeq_cache/html/check_81c3bdf5990152cb9646d8cfe3cdf670.RData' WARNING: Added dependency on R >= 3.5.0 because serialized objects in serialize/load version 3 cannot be read in older versions of R. File(s) containing such objects: 'DEXSeq/vignettes/DEXSeq_cache/html/check_81c3bdf5990152cb9646d8cfe3cdf670.rdx' WARNING: Added dependency on R >= 3.5.0 because serialized objects in serialize/load version 3 cannot be read in older versions of R. File(s) containing such objects: 'DEXSeq/vignettes/DEXSeq_cache/html/design_c646dc54e4eab424d872f311cf14b54d.RData' WARNING: Added dependency on R >= 3.5.0 because serialized objects in serialize/load version 3 cannot be read in older versions of R. File(s) containing such objects: 'DEXSeq/vignettes/DEXSeq_cache/html/design_c646dc54e4eab424d872f311cf14b54d.rdx' WARNING: Added dependency on R >= 3.5.0 because serialized objects in serialize/load version 3 cannot be read in older versions of R. File(s) containing such objects: 'DEXSeq/vignettes/DEXSeq_cache/html/estDisps_again_0974c4b94719ec53db0b9fa834d82ee3.RData' WARNING: Added dependency on R >= 3.5.0 because serialized objects in serialize/load version 3 cannot be read in older versions of R. File(s) containing such objects: 'DEXSeq/vignettes/DEXSeq_cache/html/estDisps_again_0974c4b94719ec53db0b9fa834d82ee3.rdx' WARNING: Added dependency on R >= 3.5.0 because serialized objects in serialize/load version 3 cannot be read in older versions of R. File(s) containing such objects: 'DEXSeq/vignettes/DEXSeq_cache/html/estFC_45b7070e0f05ab642634a3d5261c94d1.RData' WARNING: Added dependency on R >= 3.5.0 because serialized objects in serialize/load version 3 cannot be read in older versions of R. File(s) containing such objects: 'DEXSeq/vignettes/DEXSeq_cache/html/estFC_45b7070e0f05ab642634a3d5261c94d1.rdx' WARNING: Added dependency on R >= 3.5.0 because serialized objects in serialize/load version 3 cannot be read in older versions of R. File(s) containing such objects: 'DEXSeq/vignettes/DEXSeq_cache/html/fitdiagnostics_fdaef1a572245f531eeb7a0081b9e0d4.RData' WARNING: Added dependency on R >= 3.5.0 because serialized objects in serialize/load version 3 cannot be read in older versions of R. File(s) containing such objects: 'DEXSeq/vignettes/DEXSeq_cache/html/fitdiagnostics_fdaef1a572245f531eeb7a0081b9e0d4.rdx' WARNING: Added dependency on R >= 3.5.0 because serialized objects in serialize/load version 3 cannot be read in older versions of R. File(s) containing such objects: 'DEXSeq/vignettes/DEXSeq_cache/html/formulas2_c8014467f008f697155bf4742d4c5529.RData' WARNING: Added dependency on R >= 3.5.0 because serialized objects in serialize/load version 3 cannot be read in older versions of R. File(s) containing such objects: 'DEXSeq/vignettes/DEXSeq_cache/html/formulas2_c8014467f008f697155bf4742d4c5529.rdx' WARNING: Added dependency on R >= 3.5.0 because serialized objects in serialize/load version 3 cannot be read in older versions of R. File(s) containing such objects: 'DEXSeq/vignettes/DEXSeq_cache/html/grmethods_e056e611035102896a355524868f5abd.RData' WARNING: Added dependency on R >= 3.5.0 because serialized objects in serialize/load version 3 cannot be read in older versions of R. File(s) containing such objects: 'DEXSeq/vignettes/DEXSeq_cache/html/grmethods_e056e611035102896a355524868f5abd.rdx' WARNING: Added dependency on R >= 3.5.0 because serialized objects in serialize/load version 3 cannot be read in older versions of R. File(s) containing such objects: 'DEXSeq/vignettes/DEXSeq_cache/html/loadDEXSeq_2b4923ab5e98ca6ce5777b3e205d9ed6.RData' WARNING: Added dependency on R >= 3.5.0 because serialized objects in serialize/load version 3 cannot be read in older versions of R. File(s) containing such objects: 'DEXSeq/vignettes/DEXSeq_cache/html/loadDEXSeq_2b4923ab5e98ca6ce5777b3e205d9ed6.rdx' WARNING: Added dependency on R >= 3.5.0 because serialized objects in serialize/load version 3 cannot be read in older versions of R. File(s) containing such objects: 'DEXSeq/vignettes/DEXSeq_cache/html/para1_64f309c0d1e291b2bd8efb850955f450.RData' WARNING: Added dependency on R >= 3.5.0 because serialized objects in serialize/load version 3 cannot be read in older versions of R. File(s) containing such objects: 'DEXSeq/vignettes/DEXSeq_cache/html/para1_64f309c0d1e291b2bd8efb850955f450.rdx' WARNING: Added dependency on R >= 3.5.0 because serialized objects in serialize/load version 3 cannot be read in older versions of R. File(s) containing such objects: 'DEXSeq/vignettes/DEXSeq_cache/html/pergeneqval_96e1826483b1841a8557f8729f8f634f.RData' WARNING: Added dependency on R >= 3.5.0 because serialized objects in serialize/load version 3 cannot be read in older versions of R. File(s) containing such objects: 'DEXSeq/vignettes/DEXSeq_cache/html/pergeneqval_96e1826483b1841a8557f8729f8f634f.rdx' WARNING: Added dependency on R >= 3.5.0 because serialized objects in serialize/load version 3 cannot be read in older versions of R. File(s) containing such objects: 'DEXSeq/vignettes/DEXSeq_cache/html/plot1_38e328499c0d3c5ea99cfea4fc7396e2.RData' WARNING: Added dependency on R >= 3.5.0 because serialized objects in serialize/load version 3 cannot be read in older versions of R. File(s) containing such objects: 'DEXSeq/vignettes/DEXSeq_cache/html/plot1_38e328499c0d3c5ea99cfea4fc7396e2.rdx' WARNING: Added dependency on R >= 3.5.0 because serialized objects in serialize/load version 3 cannot be read in older versions of R. File(s) containing such objects: 'DEXSeq/vignettes/DEXSeq_cache/html/plot2_24e9c3942272e1c26c64273a3e82ac9d.RData' WARNING: Added dependency on R >= 3.5.0 because serialized objects in serialize/load version 3 cannot be read in older versions of R. File(s) containing such objects: 'DEXSeq/vignettes/DEXSeq_cache/html/plot2_24e9c3942272e1c26c64273a3e82ac9d.rdx' WARNING: Added dependency on R >= 3.5.0 because serialized objects in serialize/load version 3 cannot be read in older versions of R. File(s) containing such objects: 'DEXSeq/vignettes/DEXSeq_cache/html/plot3_b3827b0528445ef7e8ccbdbde4f99558.RData' WARNING: Added dependency on R >= 3.5.0 because serialized objects in serialize/load version 3 cannot be read in older versions of R. File(s) containing such objects: 'DEXSeq/vignettes/DEXSeq_cache/html/plot3_b3827b0528445ef7e8ccbdbde4f99558.rdx' WARNING: Added dependency on R >= 3.5.0 because serialized objects in serialize/load version 3 cannot be read in older versions of R. File(s) containing such objects: 'DEXSeq/vignettes/DEXSeq_cache/html/plot4_57addbd6a044a2e74de557b4907c71b6.RData' WARNING: Added dependency on R >= 3.5.0 because serialized objects in serialize/load version 3 cannot be read in older versions of R. File(s) containing such objects: 'DEXSeq/vignettes/DEXSeq_cache/html/plot4_57addbd6a044a2e74de557b4907c71b6.rdx' WARNING: Added dependency on R >= 3.5.0 because serialized objects in serialize/load version 3 cannot be read in older versions of R. File(s) containing such objects: 'DEXSeq/vignettes/DEXSeq_cache/html/res_again_93a43019efa18840b0edc94845573eb2.RData' WARNING: Added dependency on R >= 3.5.0 because serialized objects in serialize/load version 3 cannot be read in older versions of R. File(s) containing such objects: 'DEXSeq/vignettes/DEXSeq_cache/html/res_again_93a43019efa18840b0edc94845573eb2.rdx' WARNING: Added dependency on R >= 3.5.0 because serialized objects in serialize/load version 3 cannot be read in older versions of R. File(s) containing such objects: 'DEXSeq/vignettes/DEXSeq_cache/html/results1_6c0660d7be1fe1c4d3b6cc3c39edeaf5.RData' WARNING: Added dependency on R >= 3.5.0 because serialized objects in serialize/load version 3 cannot be read in older versions of R. File(s) containing such objects: 'DEXSeq/vignettes/DEXSeq_cache/html/results1_6c0660d7be1fe1c4d3b6cc3c39edeaf5.rdx' WARNING: Added dependency on R >= 3.5.0 because serialized objects in serialize/load version 3 cannot be read in older versions of R. File(s) containing such objects: 'DEXSeq/vignettes/DEXSeq_cache/html/results2_6af3f4732f12c3b336899a36cad6ca9c.RData' WARNING: Added dependency on R >= 3.5.0 because serialized objects in serialize/load version 3 cannot be read in older versions of R. File(s) containing such objects: 'DEXSeq/vignettes/DEXSeq_cache/html/results2_6af3f4732f12c3b336899a36cad6ca9c.rdx' WARNING: Added dependency on R >= 3.5.0 because serialized objects in serialize/load version 3 cannot be read in older versions of R. File(s) containing such objects: 'DEXSeq/vignettes/DEXSeq_cache/html/sampleTable_94b756f3241e52106d4a860c680b64f4.RData' WARNING: Added dependency on R >= 3.5.0 because serialized objects in serialize/load version 3 cannot be read in older versions of R. File(s) containing such objects: 'DEXSeq/vignettes/DEXSeq_cache/html/sampleTable_94b756f3241e52106d4a860c680b64f4.rdx' WARNING: Added dependency on R >= 3.5.0 because serialized objects in serialize/load version 3 cannot be read in older versions of R. File(s) containing such objects: 'DEXSeq/vignettes/DEXSeq_cache/html/sessionInfo_4bcebf41d8b3e61b234bf362b7b96481.RData' WARNING: Added dependency on R >= 3.5.0 because serialized objects in serialize/load version 3 cannot be read in older versions of R. File(s) containing such objects: 'DEXSeq/vignettes/DEXSeq_cache/html/sessionInfo_4bcebf41d8b3e61b234bf362b7b96481.rdx' WARNING: Added dependency on R >= 3.5.0 because serialized objects in serialize/load version 3 cannot be read in older versions of R. File(s) containing such objects: 'DEXSeq/vignettes/DEXSeq_cache/html/startVignette_3bf6dd5c591c6715eaf3565ce74b4bd1.RData' WARNING: Added dependency on R >= 3.5.0 because serialized objects in serialize/load version 3 cannot be read in older versions of R. File(s) containing such objects: 'DEXSeq/vignettes/DEXSeq_cache/html/startVignette_3bf6dd5c591c6715eaf3565ce74b4bd1.rdx' WARNING: Added dependency on R >= 3.5.0 because serialized objects in serialize/load version 3 cannot be read in older versions of R. File(s) containing such objects: 'DEXSeq/vignettes/DEXSeq_cache/html/systemFile_45a3d27e9491dffed715e77ffe1bf8ed.RData' WARNING: Added dependency on R >= 3.5.0 because serialized objects in serialize/load version 3 cannot be read in older versions of R. File(s) containing such objects: 'DEXSeq/vignettes/DEXSeq_cache/html/systemFile_45a3d27e9491dffed715e77ffe1bf8ed.rdx' WARNING: Added dependency on R >= 3.5.0 because serialized objects in serialize/load version 3 cannot be read in older versions of R. File(s) containing such objects: 'DEXSeq/vignettes/DEXSeq_cache/html/table2_0da5026bad4b5157fcdf9f5a2c73da76.RData' WARNING: Added dependency on R >= 3.5.0 because serialized objects in serialize/load version 3 cannot be read in older versions of R. File(s) containing such objects: 'DEXSeq/vignettes/DEXSeq_cache/html/table2_0da5026bad4b5157fcdf9f5a2c73da76.rdx' WARNING: Added dependency on R >= 3.5.0 because serialized objects in serialize/load version 3 cannot be read in older versions of R. File(s) containing such objects: 'DEXSeq/vignettes/DEXSeq_cache/html/table3_d8220c85df4c970f36b1a3340352041f.RData' WARNING: Added dependency on R >= 3.5.0 because serialized objects in serialize/load version 3 cannot be read in older versions of R. File(s) containing such objects: 'DEXSeq/vignettes/DEXSeq_cache/html/table3_d8220c85df4c970f36b1a3340352041f.rdx' WARNING: Added dependency on R >= 3.5.0 because serialized objects in serialize/load version 3 cannot be read in older versions of R. File(s) containing such objects: 'DEXSeq/vignettes/DEXSeq_cache/html/tallyExons_9e7e41669cec444b0079d86eff453c07.RData' WARNING: Added dependency on R >= 3.5.0 because serialized objects in serialize/load version 3 cannot be read in older versions of R. File(s) containing such objects: 'DEXSeq/vignettes/DEXSeq_cache/html/tallyExons_9e7e41669cec444b0079d86eff453c07.rdx' WARNING: Added dependency on R >= 3.5.0 because serialized objects in serialize/load version 3 cannot be read in older versions of R. File(s) containing such objects: 'DEXSeq/vignettes/DEXSeq_cache/html/tallyGenes_66059d16d4cf85a5fab92b352f2713c8.RData' WARNING: Added dependency on R >= 3.5.0 because serialized objects in serialize/load version 3 cannot be read in older versions of R. File(s) containing such objects: 'DEXSeq/vignettes/DEXSeq_cache/html/tallyGenes_66059d16d4cf85a5fab92b352f2713c8.rdx' WARNING: Added dependency on R >= 3.5.0 because serialized objects in serialize/load version 3 cannot be read in older versions of R. File(s) containing such objects: 'DEXSeq/vignettes/DEXSeq_cache/html/testForDEU1_e273c1f5d4bdd734e00e617ccee2d40f.RData' WARNING: Added dependency on R >= 3.5.0 because serialized objects in serialize/load version 3 cannot be read in older versions of R. File(s) containing such objects: 'DEXSeq/vignettes/DEXSeq_cache/html/testForDEU1_e273c1f5d4bdd734e00e617ccee2d40f.rdx' WARNING: Added dependency on R >= 3.5.0 because serialized objects in serialize/load version 3 cannot be read in older versions of R. File(s) containing such objects: 'DEXSeq/vignettes/DEXSeq_cache/html/test_again_5caaf70f4a6adbd1f77791b3b017267f.RData' WARNING: Added dependency on R >= 3.5.0 because serialized objects in serialize/load version 3 cannot be read in older versions of R. File(s) containing such objects: 'DEXSeq/vignettes/DEXSeq_cache/html/test_again_5caaf70f4a6adbd1f77791b3b017267f.rdx' WARNING: Added dependency on R >= 3.5.0 because serialized objects in serialize/load version 3 cannot be read in older versions of R. File(s) containing such objects: 'DEXSeq/vignettes/DEXSeq_cache/html/unnamed-chunk-10_b527ef28ac6da5e59f892e8eb56e0994.RData' WARNING: Added dependency on R >= 3.5.0 because serialized objects in serialize/load version 3 cannot be read in older versions of R. File(s) containing such objects: 'DEXSeq/vignettes/DEXSeq_cache/html/unnamed-chunk-10_b527ef28ac6da5e59f892e8eb56e0994.rdx' WARNING: Added dependency on R >= 3.5.0 because serialized objects in serialize/load version 3 cannot be read in older versions of R. File(s) containing such objects: 'DEXSeq/vignettes/DEXSeq_cache/html/unnamed-chunk-2_987cbf4d26069434060564b4c049f9b3.RData' WARNING: Added dependency on R >= 3.5.0 because serialized objects in serialize/load version 3 cannot be read in older versions of R. File(s) containing such objects: 'DEXSeq/vignettes/DEXSeq_cache/html/unnamed-chunk-2_987cbf4d26069434060564b4c049f9b3.rdx' WARNING: Added dependency on R >= 3.5.0 because serialized objects in serialize/load version 3 cannot be read in older versions of R. File(s) containing such objects: 'DEXSeq/vignettes/DEXSeq_cache/html/unnamed-chunk-3_aa451973acc81243838b91443d65ed4f.RData' WARNING: Added dependency on R >= 3.5.0 because serialized objects in serialize/load version 3 cannot be read in older versions of R. File(s) containing such objects: 'DEXSeq/vignettes/DEXSeq_cache/html/unnamed-chunk-3_aa451973acc81243838b91443d65ed4f.rdx' WARNING: Added dependency on R >= 3.5.0 because serialized objects in serialize/load version 3 cannot be read in older versions of R. File(s) containing such objects: 'DEXSeq/vignettes/DEXSeq_cache/html/unnamed-chunk-4_d32a17c8f94f199eac7943df24e0e400.RData' WARNING: Added dependency on R >= 3.5.0 because serialized objects in serialize/load version 3 cannot be read in older versions of R. File(s) containing such objects: 'DEXSeq/vignettes/DEXSeq_cache/html/unnamed-chunk-4_d32a17c8f94f199eac7943df24e0e400.rdx' WARNING: Added dependency on R >= 3.5.0 because serialized objects in serialize/load version 3 cannot be read in older versions of R. File(s) containing such objects: 'DEXSeq/vignettes/DEXSeq_cache/html/unnamed-chunk-5_4d65d6e1fd95b28e9754405070a1d621.RData' WARNING: Added dependency on R >= 3.5.0 because serialized objects in serialize/load version 3 cannot be read in older versions of R. File(s) containing such objects: 'DEXSeq/vignettes/DEXSeq_cache/html/unnamed-chunk-5_4d65d6e1fd95b28e9754405070a1d621.rdx' WARNING: Added dependency on R >= 3.5.0 because serialized objects in serialize/load version 3 cannot be read in older versions of R. File(s) containing such objects: 'DEXSeq/vignettes/DEXSeq_cache/html/unnamed-chunk-6_822274ff5c3969daf3107e6466c867f6.RData' WARNING: Added dependency on R >= 3.5.0 because serialized objects in serialize/load version 3 cannot be read in older versions of R. File(s) containing such objects: 'DEXSeq/vignettes/DEXSeq_cache/html/unnamed-chunk-6_822274ff5c3969daf3107e6466c867f6.rdx' WARNING: Added dependency on R >= 3.5.0 because serialized objects in serialize/load version 3 cannot be read in older versions of R. File(s) containing such objects: 'DEXSeq/vignettes/DEXSeq_cache/html/unnamed-chunk-7_ac4f3e8c78a2bf999cda78cb4274516f.RData' WARNING: Added dependency on R >= 3.5.0 because serialized objects in serialize/load version 3 cannot be read in older versions of R. File(s) containing such objects: 'DEXSeq/vignettes/DEXSeq_cache/html/unnamed-chunk-7_ac4f3e8c78a2bf999cda78cb4274516f.rdx' WARNING: Added dependency on R >= 3.5.0 because serialized objects in serialize/load version 3 cannot be read in older versions of R. File(s) containing such objects: 'DEXSeq/vignettes/DEXSeq_cache/html/unnamed-chunk-8_6dff51eee01dda54a19e60fe41d50d10.RData' WARNING: Added dependency on R >= 3.5.0 because serialized objects in serialize/load version 3 cannot be read in older versions of R. File(s) containing such objects: 'DEXSeq/vignettes/DEXSeq_cache/html/unnamed-chunk-8_6dff51eee01dda54a19e60fe41d50d10.rdx' WARNING: Added dependency on R >= 3.5.0 because serialized objects in serialize/load version 3 cannot be read in older versions of R. File(s) containing such objects: 'DEXSeq/vignettes/DEXSeq_cache/html/unnamed-chunk-9_a0e9c1e1b062358f4359bb16177bdc83.RData' WARNING: Added dependency on R >= 3.5.0 because serialized objects in serialize/load version 3 cannot be read in older versions of R. File(s) containing such objects: 'DEXSeq/vignettes/DEXSeq_cache/html/unnamed-chunk-9_a0e9c1e1b062358f4359bb16177bdc83.rdx' * building 'DEXSeq_1.32.0.tar.gz' Warning in utils::tar(filepath, pkgname, compression = compression, compression_level = 9L, : storing paths of more than 100 bytes is not portable: 'DEXSeq/vignettes/DEXSeq_cache/html/buildExonCountSet2FindBAMs2_34629d61ee6b0221ac68c81be6b6781e.RData' Warning in utils::tar(filepath, pkgname, compression = compression, compression_level = 9L, : storing paths of more than 100 bytes is not portable: 'DEXSeq/vignettes/DEXSeq_cache/html/buildExonCountSetDownloadAnno_3ed574a4b24e97d3f74ff7d580fb9304.RData' Warning in utils::tar(filepath, pkgname, compression = compression, compression_level = 9L, : storing paths of more than 100 bytes is not portable: 'DEXSeq/vignettes/DEXSeq_cache/html/buildExonCountSetDownloadAnno_3ed574a4b24e97d3f74ff7d580fb9304.rdb' Warning in utils::tar(filepath, pkgname, compression = compression, compression_level = 9L, : storing paths of more than 100 bytes is not portable: 'DEXSeq/vignettes/DEXSeq_cache/html/buildExonCountSetDownloadAnno_3ed574a4b24e97d3f74ff7d580fb9304.rdx'