Back to Multiple platform build/check report for BioC 3.10 |
|
This page was generated on 2020-04-15 12:39:42 -0400 (Wed, 15 Apr 2020).
Package 470/1823 | Hostname | OS / Arch | INSTALL | BUILD | CHECK | BUILD BIN | ||||||
DMRcate 2.0.7 Tim Peters
| malbec1 | Linux (Ubuntu 18.04.4 LTS) / x86_64 | OK | OK | OK | ![]() | ||||||
tokay1 | Windows Server 2012 R2 Standard / x64 | OK | OK | ERROR | OK | |||||||
merida1 | OS X 10.11.6 El Capitan / x86_64 | OK | OK | [ OK ] | OK | ![]() |
Package: DMRcate |
Version: 2.0.7 |
Command: /Library/Frameworks/R.framework/Versions/Current/Resources/bin/R CMD check --install=check:DMRcate.install-out.txt --library=/Library/Frameworks/R.framework/Versions/Current/Resources/library --no-vignettes --timings DMRcate_2.0.7.tar.gz |
StartedAt: 2020-04-15 01:54:35 -0400 (Wed, 15 Apr 2020) |
EndedAt: 2020-04-15 02:24:14 -0400 (Wed, 15 Apr 2020) |
EllapsedTime: 1779.2 seconds |
RetCode: 0 |
Status: OK |
CheckDir: DMRcate.Rcheck |
Warnings: 0 |
############################################################################## ############################################################################## ### ### Running command: ### ### /Library/Frameworks/R.framework/Versions/Current/Resources/bin/R CMD check --install=check:DMRcate.install-out.txt --library=/Library/Frameworks/R.framework/Versions/Current/Resources/library --no-vignettes --timings DMRcate_2.0.7.tar.gz ### ############################################################################## ############################################################################## * using log directory ‘/Users/biocbuild/bbs-3.10-bioc/meat/DMRcate.Rcheck’ * using R version 3.6.3 (2020-02-29) * using platform: x86_64-apple-darwin15.6.0 (64-bit) * using session charset: UTF-8 * using option ‘--no-vignettes’ * checking for file ‘DMRcate/DESCRIPTION’ ... OK * this is package ‘DMRcate’ version ‘2.0.7’ * checking package namespace information ... OK * checking package dependencies ... OK * checking if this is a source package ... OK * checking if there is a namespace ... OK * checking for hidden files and directories ... OK * checking for portable file names ... OK * checking for sufficient/correct file permissions ... OK * checking whether package ‘DMRcate’ can be installed ... OK * checking installed package size ... OK * checking package directory ... OK * checking ‘build’ directory ... OK * checking DESCRIPTION meta-information ... OK * checking top-level files ... OK * checking for left-over files ... OK * checking index information ... OK * checking package subdirectories ... OK * checking R files for non-ASCII characters ... OK * checking R files for syntax errors ... OK * checking whether the package can be loaded ... OK * checking whether the package can be loaded with stated dependencies ... OK * checking whether the package can be unloaded cleanly ... OK * checking whether the namespace can be loaded with stated dependencies ... OK * checking whether the namespace can be unloaded cleanly ... OK * checking dependencies in R code ... OK * checking S3 generic/method consistency ... OK * checking replacement functions ... OK * checking foreign function calls ... OK * checking R code for possible problems ... OK * checking Rd files ... OK * checking Rd metadata ... OK * checking Rd cross-references ... OK * checking for missing documentation entries ... OK * checking for code/documentation mismatches ... OK * checking Rd \usage sections ... OK * checking Rd contents ... OK * checking for unstated dependencies in examples ... OK * checking sizes of PDF files under ‘inst/doc’ ... OK * checking files in ‘vignettes’ ... OK * checking examples ... OK Examples with CPU or elapsed time > 5s user system elapsed DMR.plot 236.399 21.390 277.021 DMRcate-package 195.393 20.361 218.961 extractRanges 159.721 20.388 182.761 cpg.annotate 152.287 18.941 174.215 rmSNPandCH 147.739 18.951 169.226 dmrcate 146.230 17.452 165.468 changeFDR 63.240 8.305 73.025 sequencing.annotate 54.168 6.921 61.506 * checking for unstated dependencies in vignettes ... OK * checking package vignettes in ‘inst/doc’ ... OK * checking running R code from vignettes ... SKIPPED * checking re-building of vignette outputs ... SKIPPED * checking PDF version of manual ... OK * DONE Status: OK
DMRcate.Rcheck/00install.out
############################################################################## ############################################################################## ### ### Running command: ### ### /Library/Frameworks/R.framework/Versions/Current/Resources/bin/R CMD INSTALL DMRcate ### ############################################################################## ############################################################################## * installing to library ‘/Library/Frameworks/R.framework/Versions/3.6/Resources/library’ * installing *source* package ‘DMRcate’ ... ** using staged installation ** R ** inst ** byte-compile and prepare package for lazy loading Warning: replacing previous import 'minfi::getMeth' by 'bsseq::getMeth' when loading 'DMRcate' ** help *** installing help indices ** building package indices ** installing vignettes ** testing if installed package can be loaded from temporary location Warning: replacing previous import 'minfi::getMeth' by 'bsseq::getMeth' when loading 'DMRcate' ** testing if installed package can be loaded from final location Warning: replacing previous import 'minfi::getMeth' by 'bsseq::getMeth' when loading 'DMRcate' ** testing if installed package keeps a record of temporary installation path * DONE (DMRcate)
DMRcate.Rcheck/DMRcate-Ex.timings
name | user | system | elapsed | |
DMR.plot | 236.399 | 21.390 | 277.021 | |
DMRcate-package | 195.393 | 20.361 | 218.961 | |
changeFDR | 63.240 | 8.305 | 73.025 | |
cpg.annotate | 152.287 | 18.941 | 174.215 | |
dmrcate | 146.230 | 17.452 | 165.468 | |
extractRanges | 159.721 | 20.388 | 182.761 | |
rmSNPandCH | 147.739 | 18.951 | 169.226 | |
sequencing.annotate | 54.168 | 6.921 | 61.506 | |