Back to Multiple platform build/check report for BioC 3.10 |
|
This page was generated on 2020-04-15 12:11:35 -0400 (Wed, 15 Apr 2020).
Package 423/1823 | Hostname | OS / Arch | INSTALL | BUILD | CHECK | BUILD BIN | ||||||
DeepBlueR 1.12.0 Felipe Albrecht
| malbec1 | Linux (Ubuntu 18.04.4 LTS) / x86_64 | OK | OK | [ OK ] | ![]() | ||||||
tokay1 | Windows Server 2012 R2 Standard / x64 | OK | OK | OK | OK | ![]() | ||||||
merida1 | OS X 10.11.6 El Capitan / x86_64 | OK | OK | OK | OK | ![]() |
Package: DeepBlueR |
Version: 1.12.0 |
Command: /home/biocbuild/bbs-3.10-bioc/R/bin/R CMD check --install=check:DeepBlueR.install-out.txt --library=/home/biocbuild/bbs-3.10-bioc/R/library --no-vignettes --timings DeepBlueR_1.12.0.tar.gz |
StartedAt: 2020-04-15 03:58:34 -0400 (Wed, 15 Apr 2020) |
EndedAt: 2020-04-15 04:03:37 -0400 (Wed, 15 Apr 2020) |
EllapsedTime: 302.7 seconds |
RetCode: 0 |
Status: OK |
CheckDir: DeepBlueR.Rcheck |
Warnings: 0 |
############################################################################## ############################################################################## ### ### Running command: ### ### /home/biocbuild/bbs-3.10-bioc/R/bin/R CMD check --install=check:DeepBlueR.install-out.txt --library=/home/biocbuild/bbs-3.10-bioc/R/library --no-vignettes --timings DeepBlueR_1.12.0.tar.gz ### ############################################################################## ############################################################################## * using log directory ‘/home/biocbuild/bbs-3.10-bioc/meat/DeepBlueR.Rcheck’ * using R version 3.6.3 (2020-02-29) * using platform: x86_64-pc-linux-gnu (64-bit) * using session charset: UTF-8 * using option ‘--no-vignettes’ * checking for file ‘DeepBlueR/DESCRIPTION’ ... OK * checking extension type ... Package * this is package ‘DeepBlueR’ version ‘1.12.0’ * checking package namespace information ... OK * checking package dependencies ... OK * checking if this is a source package ... OK * checking if there is a namespace ... OK * checking for hidden files and directories ... OK * checking for portable file names ... OK * checking for sufficient/correct file permissions ... OK * checking whether package ‘DeepBlueR’ can be installed ... OK * checking installed package size ... OK * checking package directory ... OK * checking ‘build’ directory ... OK * checking DESCRIPTION meta-information ... OK * checking top-level files ... OK * checking for left-over files ... OK * checking index information ... OK * checking package subdirectories ... OK * checking R files for non-ASCII characters ... OK * checking R files for syntax errors ... OK * checking whether the package can be loaded ... OK * checking whether the package can be loaded with stated dependencies ... OK * checking whether the package can be unloaded cleanly ... OK * checking whether the namespace can be loaded with stated dependencies ... OK * checking whether the namespace can be unloaded cleanly ... OK * checking dependencies in R code ... OK * checking S3 generic/method consistency ... OK * checking replacement functions ... OK * checking foreign function calls ... OK * checking R code for possible problems ... OK * checking Rd files ... NOTE prepare_Rd: deepblue_enrich_regions_fast.Rd:35-38: Dropping empty section \examples * checking Rd metadata ... OK * checking Rd cross-references ... OK * checking for missing documentation entries ... OK * checking for code/documentation mismatches ... OK * checking Rd \usage sections ... OK * checking Rd contents ... OK * checking for unstated dependencies in examples ... OK * checking files in ‘vignettes’ ... OK * checking examples ... OK Examples with CPU or elapsed time > 5s user system elapsed deepblue_liftover 1.164 0.032 5.109 * checking for unstated dependencies in vignettes ... OK * checking package vignettes in ‘inst/doc’ ... OK * checking running R code from vignettes ... SKIPPED * checking re-building of vignette outputs ... SKIPPED * checking PDF version of manual ... OK * DONE Status: 1 NOTE See ‘/home/biocbuild/bbs-3.10-bioc/meat/DeepBlueR.Rcheck/00check.log’ for details.
DeepBlueR.Rcheck/00install.out
############################################################################## ############################################################################## ### ### Running command: ### ### /home/biocbuild/bbs-3.10-bioc/R/bin/R CMD INSTALL DeepBlueR ### ############################################################################## ############################################################################## * installing to library ‘/home/biocbuild/bbs-3.10-bioc/R/library’ * installing *source* package ‘DeepBlueR’ ... ** using staged installation ** R ** demo ** inst ** byte-compile and prepare package for lazy loading Called method: deepblue_list_column_types Reported status was: okay Called method: deepblue_info Reported status was: okay ** help *** installing help indices ** building package indices ** installing vignettes ** testing if installed package can be loaded from temporary location ** testing if installed package can be loaded from final location ** testing if installed package keeps a record of temporary installation path * DONE (DeepBlueR)
DeepBlueR.Rcheck/DeepBlueR-Ex.timings
name | user | system | elapsed | |
deepblue_aggregate | 0.068 | 0.004 | 0.803 | |
deepblue_batch_export_results | 0.384 | 0.020 | 3.339 | |
deepblue_binning | 0.040 | 0.004 | 0.562 | |
deepblue_cache_status | 0.000 | 0.000 | 0.003 | |
deepblue_cancel_request | 0.016 | 0.000 | 0.260 | |
deepblue_chromosomes | 0.076 | 0.000 | 0.348 | |
deepblue_clear_cache | 0.004 | 0.000 | 0.001 | |
deepblue_collection_experiments_count | 0.252 | 0.004 | 0.666 | |
deepblue_commands | 0.124 | 0.008 | 0.635 | |
deepblue_count_gene_ontology_terms | 0.256 | 0.000 | 0.641 | |
deepblue_count_regions | 0.044 | 0.004 | 0.639 | |
deepblue_coverage | 0.040 | 0.000 | 0.624 | |
deepblue_delete_request_from_cache | 0.004 | 0.000 | 0.002 | |
deepblue_diff | 0.140 | 0.000 | 1.094 | |
deepblue_distinct_column_values | 0.036 | 0.004 | 0.529 | |
deepblue_download_request_data | 0.220 | 0.004 | 1.596 | |
deepblue_echo | 0.012 | 0.000 | 0.242 | |
deepblue_enrich_regions_go_terms | 0.056 | 0.000 | 0.745 | |
deepblue_enrich_regions_overlap | 0.668 | 0.004 | 3.808 | |
deepblue_export_bed | 0.288 | 0.008 | 2.197 | |
deepblue_export_meta_data | 0.084 | 0.000 | 0.427 | |
deepblue_export_tab | 0.116 | 0.004 | 1.087 | |
deepblue_extend | 0.052 | 0.000 | 0.540 | |
deepblue_extract_ids | 0.000 | 0.000 | 0.001 | |
deepblue_extract_names | 0.000 | 0.000 | 0.001 | |
deepblue_faceting_experiments | 0.032 | 0.000 | 0.552 | |
deepblue_filter_regions | 0.028 | 0.000 | 0.273 | |
deepblue_find_motif | 0.032 | 0.000 | 0.261 | |
deepblue_flank | 0.056 | 0.000 | 0.574 | |
deepblue_get_biosource_children | 0.016 | 0.000 | 0.290 | |
deepblue_get_biosource_parents | 0.016 | 0.000 | 0.250 | |
deepblue_get_biosource_related | 0.020 | 0.000 | 0.277 | |
deepblue_get_biosource_synonyms | 0.016 | 0.000 | 0.232 | |
deepblue_get_experiments_by_query | 0.016 | 0.000 | 0.278 | |
deepblue_get_regions | 0.040 | 0.000 | 0.518 | |
deepblue_get_request_data | 0.08 | 0.00 | 1.13 | |
deepblue_info | 0.036 | 0.004 | 0.282 | |
deepblue_input_regions | 0.02 | 0.00 | 0.84 | |
deepblue_intersection | 0.06 | 0.00 | 0.78 | |
deepblue_is_biosource | 0.016 | 0.000 | 0.266 | |
deepblue_liftover | 1.164 | 0.032 | 5.109 | |
deepblue_list_annotations | 0.020 | 0.000 | 0.236 | |
deepblue_list_biosources | 0.016 | 0.000 | 0.246 | |
deepblue_list_cached_requests | 0.004 | 0.000 | 0.002 | |
deepblue_list_column_types | 0.116 | 0.008 | 0.425 | |
deepblue_list_epigenetic_marks | 0.576 | 0.000 | 1.095 | |
deepblue_list_experiments | 0.280 | 0.008 | 0.719 | |
deepblue_list_expressions | 0.220 | 0.000 | 0.552 | |
deepblue_list_gene_models | 0.008 | 0.008 | 0.248 | |
deepblue_list_genes | 0.316 | 0.024 | 0.987 | |
deepblue_list_genomes | 0.020 | 0.012 | 0.246 | |
deepblue_list_in_use | 0.576 | 0.000 | 1.677 | |
deepblue_list_projects | 0.028 | 0.000 | 0.238 | |
deepblue_list_recent_experiments | 0.028 | 0.004 | 0.261 | |
deepblue_list_requests | 0.016 | 0.000 | 0.246 | |
deepblue_list_samples | 0.148 | 0.000 | 0.639 | |
deepblue_list_similar_biosources | 0.028 | 0.000 | 0.463 | |
deepblue_list_similar_epigenetic_marks | 0.024 | 0.000 | 0.321 | |
deepblue_list_similar_experiments | 0.016 | 0.004 | 0.871 | |
deepblue_list_similar_genomes | 0.020 | 0.000 | 0.257 | |
deepblue_list_similar_projects | 0.016 | 0.000 | 0.261 | |
deepblue_list_similar_techniques | 0.020 | 0.000 | 0.236 | |
deepblue_list_techniques | 0.032 | 0.000 | 0.268 | |
deepblue_merge_queries | 0.060 | 0.000 | 0.748 | |
deepblue_meta_data_to_table | 0.112 | 0.004 | 0.774 | |
deepblue_name_to_id | 0.048 | 0.000 | 0.915 | |
deepblue_overlap | 0.068 | 0.000 | 0.790 | |
deepblue_preview_experiment | 0.020 | 0.000 | 0.251 | |
deepblue_query_cache | 0.084 | 0.000 | 1.159 | |
deepblue_query_experiment_type | 0.056 | 0.000 | 0.534 | |
deepblue_reset_options | 0 | 0 | 0 | |
deepblue_score_matrix | 0.048 | 0.000 | 0.555 | |
deepblue_search | 0.044 | 0.000 | 0.612 | |
deepblue_select_annotations | 0.024 | 0.000 | 0.256 | |
deepblue_select_column | 0.540 | 0.004 | 1.110 | |
deepblue_select_experiments | 0.024 | 0.000 | 0.259 | |
deepblue_select_expressions | 0.024 | 0.004 | 0.386 | |
deepblue_select_genes | 0.028 | 0.000 | 0.385 | |
deepblue_select_regions | 0.032 | 0.000 | 0.269 | |
deepblue_tiling_regions | 0.016 | 0.000 | 0.279 | |