Back to Multiple platform build/check report for BioC 3.10 |
|
This page was generated on 2020-04-15 12:26:43 -0400 (Wed, 15 Apr 2020).
Package 461/1823 | Hostname | OS / Arch | INSTALL | BUILD | CHECK | BUILD BIN | ||||||
Director 1.12.0 Katherine Icay
| malbec1 | Linux (Ubuntu 18.04.4 LTS) / x86_64 | OK | OK | OK | ![]() | ||||||
tokay1 | Windows Server 2012 R2 Standard / x64 | OK | [ TIMEOUT ] | skipped | skipped | |||||||
merida1 | OS X 10.11.6 El Capitan / x86_64 | OK | OK | OK | OK | ![]() |
Package: Director |
Version: 1.12.0 |
Command: chmod a+r Director -R && C:\Users\biocbuild\bbs-3.10-bioc\R\bin\R.exe CMD build --keep-empty-dirs --no-resave-data Director |
StartedAt: 2020-04-14 23:01:35 -0400 (Tue, 14 Apr 2020) |
EndedAt: 2020-04-14 23:41:35 -0400 (Tue, 14 Apr 2020) |
EllapsedTime: 2400.2 seconds |
RetCode: None |
Status: TIMEOUT |
PackageFile: None |
PackageFileSize: NA |
############################################################################## ############################################################################## ### ### Running command: ### ### chmod a+r Director -R && C:\Users\biocbuild\bbs-3.10-bioc\R\bin\R.exe CMD build --keep-empty-dirs --no-resave-data Director ### ############################################################################## ############################################################################## * checking for file 'Director/DESCRIPTION' ... OK * preparing 'Director': * checking DESCRIPTION meta-information ... OK * installing the package to build vignettes * creating vignettes ...