Back to Multiple platform build/check report for BioC 3.10 |
|
This page was generated on 2020-04-15 12:38:20 -0400 (Wed, 15 Apr 2020).
Package 485/1823 | Hostname | OS / Arch | INSTALL | BUILD | CHECK | BUILD BIN | ||||||
DriverNet 1.26.0 Jiarui Ding
| malbec1 | Linux (Ubuntu 18.04.4 LTS) / x86_64 | OK | OK | OK | |||||||
tokay1 | Windows Server 2012 R2 Standard / x64 | OK | OK | OK | OK | |||||||
merida1 | OS X 10.11.6 El Capitan / x86_64 | OK | OK | [ OK ] | OK |
Package: DriverNet |
Version: 1.26.0 |
Command: /Library/Frameworks/R.framework/Versions/Current/Resources/bin/R CMD check --install=check:DriverNet.install-out.txt --library=/Library/Frameworks/R.framework/Versions/Current/Resources/library --no-vignettes --timings DriverNet_1.26.0.tar.gz |
StartedAt: 2020-04-15 01:58:22 -0400 (Wed, 15 Apr 2020) |
EndedAt: 2020-04-15 01:59:56 -0400 (Wed, 15 Apr 2020) |
EllapsedTime: 94.0 seconds |
RetCode: 0 |
Status: OK |
CheckDir: DriverNet.Rcheck |
Warnings: 0 |
############################################################################## ############################################################################## ### ### Running command: ### ### /Library/Frameworks/R.framework/Versions/Current/Resources/bin/R CMD check --install=check:DriverNet.install-out.txt --library=/Library/Frameworks/R.framework/Versions/Current/Resources/library --no-vignettes --timings DriverNet_1.26.0.tar.gz ### ############################################################################## ############################################################################## * using log directory ‘/Users/biocbuild/bbs-3.10-bioc/meat/DriverNet.Rcheck’ * using R version 3.6.3 (2020-02-29) * using platform: x86_64-apple-darwin15.6.0 (64-bit) * using session charset: UTF-8 * using option ‘--no-vignettes’ * checking for file ‘DriverNet/DESCRIPTION’ ... OK * checking extension type ... Package * this is package ‘DriverNet’ version ‘1.26.0’ * checking package namespace information ... OK * checking package dependencies ... OK * checking if this is a source package ... OK * checking if there is a namespace ... OK * checking for hidden files and directories ... OK * checking for portable file names ... OK * checking for sufficient/correct file permissions ... OK * checking whether package ‘DriverNet’ can be installed ... OK * checking installed package size ... OK * checking package directory ... OK * checking ‘build’ directory ... OK * checking DESCRIPTION meta-information ... OK * checking top-level files ... OK * checking for left-over files ... OK * checking index information ... OK * checking package subdirectories ... OK * checking R files for non-ASCII characters ... OK * checking R files for syntax errors ... OK * checking whether the package can be loaded ... OK * checking whether the package can be loaded with stated dependencies ... OK * checking whether the package can be unloaded cleanly ... OK * checking whether the namespace can be loaded with stated dependencies ... OK * checking whether the namespace can be unloaded cleanly ... OK * checking dependencies in R code ... NOTE Package in Depends field not imported from: ‘methods’ These packages need to be imported from (in the NAMESPACE file) for when this namespace is loaded but not attached. * checking S3 generic/method consistency ... OK * checking replacement functions ... OK * checking foreign function calls ... OK * checking R code for possible problems ... NOTE .computeDriversHelper: no visible global function definition for ‘new’ getPatientOutlierMatrix: no visible binding for global variable ‘sd’ getPatientOutlierMatrix: no visible global function definition for ‘dnorm’ resultSummary: no visible global function definition for ‘write.table’ Undefined global functions or variables: dnorm new sd write.table Consider adding importFrom("methods", "new") importFrom("stats", "dnorm", "sd") importFrom("utils", "write.table") to your NAMESPACE file (and ensure that your DESCRIPTION Imports field contains 'methods'). * checking Rd files ... OK * checking Rd metadata ... OK * checking Rd cross-references ... OK * checking for missing documentation entries ... OK * checking for code/documentation mismatches ... OK * checking Rd \usage sections ... OK * checking Rd contents ... OK * checking for unstated dependencies in examples ... OK * checking contents of ‘data’ directory ... OK * checking data for non-ASCII characters ... OK * checking data for ASCII and uncompressed saves ... OK * checking sizes of PDF files under ‘inst/doc’ ... OK * checking files in ‘vignettes’ ... OK * checking examples ... OK Examples with CPU or elapsed time > 5s user system elapsed DriverNet-package 29.738 0.920 31.000 computeDrivers 18.014 0.638 18.871 computeRandomizedResult 12.028 0.052 12.230 * checking for unstated dependencies in vignettes ... OK * checking package vignettes in ‘inst/doc’ ... OK * checking running R code from vignettes ... SKIPPED * checking re-building of vignette outputs ... SKIPPED * checking PDF version of manual ... OK * DONE Status: 2 NOTEs See ‘/Users/biocbuild/bbs-3.10-bioc/meat/DriverNet.Rcheck/00check.log’ for details.
DriverNet.Rcheck/00install.out
############################################################################## ############################################################################## ### ### Running command: ### ### /Library/Frameworks/R.framework/Versions/Current/Resources/bin/R CMD INSTALL DriverNet ### ############################################################################## ############################################################################## * installing to library ‘/Library/Frameworks/R.framework/Versions/3.6/Resources/library’ * installing *source* package ‘DriverNet’ ... ** using staged installation ** R ** data ** byte-compile and prepare package for lazy loading ** help *** installing help indices ** building package indices ** installing vignettes ** testing if installed package can be loaded from temporary location ** testing if installed package can be loaded from final location ** testing if installed package keeps a record of temporary installation path * DONE (DriverNet)
DriverNet.Rcheck/DriverNet-Ex.timings
name | user | system | elapsed | |
DriverNet-package | 29.738 | 0.920 | 31.000 | |
DriverNetResult-class | 0.014 | 0.001 | 0.016 | |
actualEvents | 0.123 | 0.043 | 0.166 | |
computeDrivers | 18.014 | 0.638 | 18.871 | |
computeRandomizedResult | 12.028 | 0.052 | 12.230 | |
drivers | 0.117 | 0.041 | 0.160 | |
getPatientOutlierMatrix | 0.209 | 0.018 | 0.230 | |
preprocessMatrices | 0.231 | 0.006 | 0.238 | |
resultSummary | 0.255 | 0.005 | 0.262 | |
sampleDriversList | 0.013 | 0.001 | 0.015 | |
sampleGeneNames | 0.034 | 0.006 | 0.040 | |
sampleInfluenceGraph | 0.203 | 0.009 | 0.213 | |
samplePatientExpressionMatrix | 0.092 | 0.006 | 0.101 | |
samplePatientMutationMatrix | 0.012 | 0.001 | 0.014 | |
samplePatientOutlierMatrix | 0.015 | 0.001 | 0.015 | |
sampleRandomDriversResult | 0.002 | 0.001 | 0.003 | |
totalEvents | 0.021 | 0.001 | 0.023 | |