Back to Multiple platform build/check report for BioC 3.10 |
|
This page was generated on 2020-04-15 12:43:39 -0400 (Wed, 15 Apr 2020).
Package 511/1823 | Hostname | OS / Arch | INSTALL | BUILD | CHECK | BUILD BIN | ||||||
EGSEA 1.14.0 Monther Alhamdoosh
| malbec1 | Linux (Ubuntu 18.04.4 LTS) / x86_64 | OK | OK | OK | ![]() | ||||||
tokay1 | Windows Server 2012 R2 Standard / x64 | OK | OK | OK | OK | ![]() | ||||||
merida1 | OS X 10.11.6 El Capitan / x86_64 | OK | OK | OK | [ OK ] | ![]() |
Package: EGSEA |
Version: 1.14.0 |
Command: rm -rf EGSEA.buildbin-libdir && mkdir EGSEA.buildbin-libdir && /Users/biocbuild/BBS/utils/build-universal.sh EGSEA_1.14.0.tar.gz /Library/Frameworks/R.framework/Versions/Current/Resources/bin/R EGSEA.buildbin-libdir |
StartedAt: 2020-04-15 07:22:37 -0400 (Wed, 15 Apr 2020) |
EndedAt: 2020-04-15 07:23:36 -0400 (Wed, 15 Apr 2020) |
EllapsedTime: 59.0 seconds |
RetCode: 0 |
Status: OK |
PackageFile: EGSEA_1.14.0.tgz |
PackageFileSize: 1.687 MiB |
############################################################################## ############################################################################## ### ### Running command: ### ### rm -rf EGSEA.buildbin-libdir && mkdir EGSEA.buildbin-libdir && /Users/biocbuild/BBS/utils/build-universal.sh EGSEA_1.14.0.tar.gz /Library/Frameworks/R.framework/Versions/Current/Resources/bin/R EGSEA.buildbin-libdir ### ############################################################################## ############################################################################## >>>>>>> >>>>>>> INSTALLATION WITH 'R CMD INSTALL --preclean --no-multiarch --library=EGSEA.buildbin-libdir EGSEA_1.14.0.tar.gz' >>>>>>> * installing *source* package ‘EGSEA’ ... ** using staged installation ** R ** inst ** byte-compile and prepare package for lazy loading groupGOTerms: GOBPTerm, GOMFTerm, GOCCTerm environments built. ** help *** installing help indices ** building package indices ** installing vignettes ** testing if installed package can be loaded from temporary location groupGOTerms: GOBPTerm, GOMFTerm, GOCCTerm environments built. ** testing if installed package can be loaded from final location groupGOTerms: GOBPTerm, GOMFTerm, GOCCTerm environments built. ** testing if installed package keeps a record of temporary installation path * DONE (EGSEA)