Back to Multiple platform build/check report for BioC 3.10 |
|
This page was generated on 2020-04-15 12:30:59 -0400 (Wed, 15 Apr 2020).
Package 519/1823 | Hostname | OS / Arch | INSTALL | BUILD | CHECK | BUILD BIN | ||||||
EnhancedVolcano 1.4.0 Kevin Blighe
| malbec1 | Linux (Ubuntu 18.04.4 LTS) / x86_64 | OK | OK | OK | ![]() | ||||||
tokay1 | Windows Server 2012 R2 Standard / x64 | [ OK ] | OK | OK | OK | ![]() | ||||||
merida1 | OS X 10.11.6 El Capitan / x86_64 | OK | OK | OK | OK | ![]() |
Package: EnhancedVolcano |
Version: 1.4.0 |
Command: C:\cygwin\bin\curl.exe -O https://malbec1.bioconductor.org/BBS/3.10/bioc/src/contrib/EnhancedVolcano_1.4.0.tar.gz && rm -rf EnhancedVolcano.buildbin-libdir && mkdir EnhancedVolcano.buildbin-libdir && C:\Users\biocbuild\bbs-3.10-bioc\R\bin\R.exe CMD INSTALL --merge-multiarch --build --library=EnhancedVolcano.buildbin-libdir EnhancedVolcano_1.4.0.tar.gz && C:\Users\biocbuild\bbs-3.10-bioc\R\bin\R.exe CMD INSTALL EnhancedVolcano_1.4.0.zip && rm EnhancedVolcano_1.4.0.tar.gz EnhancedVolcano_1.4.0.zip |
StartedAt: 2020-04-14 20:13:43 -0400 (Tue, 14 Apr 2020) |
EndedAt: 2020-04-14 20:14:05 -0400 (Tue, 14 Apr 2020) |
EllapsedTime: 22.5 seconds |
RetCode: 0 |
Status: OK |
############################################################################## ############################################################################## ### ### Running command: ### ### C:\cygwin\bin\curl.exe -O https://malbec1.bioconductor.org/BBS/3.10/bioc/src/contrib/EnhancedVolcano_1.4.0.tar.gz && rm -rf EnhancedVolcano.buildbin-libdir && mkdir EnhancedVolcano.buildbin-libdir && C:\Users\biocbuild\bbs-3.10-bioc\R\bin\R.exe CMD INSTALL --merge-multiarch --build --library=EnhancedVolcano.buildbin-libdir EnhancedVolcano_1.4.0.tar.gz && C:\Users\biocbuild\bbs-3.10-bioc\R\bin\R.exe CMD INSTALL EnhancedVolcano_1.4.0.zip && rm EnhancedVolcano_1.4.0.tar.gz EnhancedVolcano_1.4.0.zip ### ############################################################################## ############################################################################## % Total % Received % Xferd Average Speed Time Time Time Current Dload Upload Total Spent Left Speed 0 0 0 0 0 0 0 0 --:--:-- --:--:-- --:--:-- 0 100 1851k 100 1851k 0 0 25.5M 0 --:--:-- --:--:-- --:--:-- 26.9M install for i386 * installing *source* package 'EnhancedVolcano' ... ** using staged installation ** R ** inst ** byte-compile and prepare package for lazy loading ** help *** installing help indices converting help for package 'EnhancedVolcano' finding HTML links ... done EnhancedVolcano-package html EnhancedVolcano html finding level-2 HTML links ... done ** building package indices ** installing vignettes ** testing if installed package can be loaded from temporary location ** testing if installed package can be loaded from final location ** testing if installed package keeps a record of temporary installation path install for x64 * installing *source* package 'EnhancedVolcano' ... ** testing if installed package can be loaded * MD5 sums packaged installation of 'EnhancedVolcano' as EnhancedVolcano_1.4.0.zip * DONE (EnhancedVolcano) * installing to library 'C:/Users/biocbuild/bbs-3.10-bioc/R/library' package 'EnhancedVolcano' successfully unpacked and MD5 sums checked