Back to Multiple platform build/check report for BioC 3.10 |
|
This page was generated on 2020-04-15 12:25:29 -0400 (Wed, 15 Apr 2020).
Package 521/1823 | Hostname | OS / Arch | INSTALL | BUILD | CHECK | BUILD BIN | ||||||
EnrichedHeatmap 1.16.0 Zuguang Gu
| malbec1 | Linux (Ubuntu 18.04.4 LTS) / x86_64 | OK | OK | OK | |||||||
tokay1 | Windows Server 2012 R2 Standard / x64 | [ OK ] | OK | OK | OK | |||||||
merida1 | OS X 10.11.6 El Capitan / x86_64 | OK | OK | OK | OK |
Package: EnrichedHeatmap |
Version: 1.16.0 |
Command: C:\cygwin\bin\curl.exe -O https://malbec1.bioconductor.org/BBS/3.10/bioc/src/contrib/EnrichedHeatmap_1.16.0.tar.gz && rm -rf EnrichedHeatmap.buildbin-libdir && mkdir EnrichedHeatmap.buildbin-libdir && C:\Users\biocbuild\bbs-3.10-bioc\R\bin\R.exe CMD INSTALL --merge-multiarch --build --library=EnrichedHeatmap.buildbin-libdir EnrichedHeatmap_1.16.0.tar.gz && C:\Users\biocbuild\bbs-3.10-bioc\R\bin\R.exe CMD INSTALL EnrichedHeatmap_1.16.0.zip && rm EnrichedHeatmap_1.16.0.tar.gz EnrichedHeatmap_1.16.0.zip |
StartedAt: 2020-04-14 20:29:07 -0400 (Tue, 14 Apr 2020) |
EndedAt: 2020-04-14 20:30:07 -0400 (Tue, 14 Apr 2020) |
EllapsedTime: 60.8 seconds |
RetCode: 0 |
Status: OK |
############################################################################## ############################################################################## ### ### Running command: ### ### C:\cygwin\bin\curl.exe -O https://malbec1.bioconductor.org/BBS/3.10/bioc/src/contrib/EnrichedHeatmap_1.16.0.tar.gz && rm -rf EnrichedHeatmap.buildbin-libdir && mkdir EnrichedHeatmap.buildbin-libdir && C:\Users\biocbuild\bbs-3.10-bioc\R\bin\R.exe CMD INSTALL --merge-multiarch --build --library=EnrichedHeatmap.buildbin-libdir EnrichedHeatmap_1.16.0.tar.gz && C:\Users\biocbuild\bbs-3.10-bioc\R\bin\R.exe CMD INSTALL EnrichedHeatmap_1.16.0.zip && rm EnrichedHeatmap_1.16.0.tar.gz EnrichedHeatmap_1.16.0.zip ### ############################################################################## ############################################################################## % Total % Received % Xferd Average Speed Time Time Time Current Dload Upload Total Spent Left Speed 0 0 0 0 0 0 0 0 --:--:-- --:--:-- --:--:-- 0 39 17.8M 39 7216k 0 0 42.9M 0 --:--:-- --:--:-- --:--:-- 43.7M 100 17.8M 100 17.8M 0 0 68.5M 0 --:--:-- --:--:-- --:--:-- 69.2M install for i386 * installing *source* package 'EnrichedHeatmap' ... ** using staged installation ** libs C:/Rtools/mingw_32/bin/g++ -std=gnu++11 -I"C:/Users/BIOCBU~1/BBS-3~1.10-/R/include" -DNDEBUG -I"C:/Users/biocbuild/bbs-3.10-bioc/R/library/Rcpp/include" -I"C:/extsoft/include" -O2 -Wall -mtune=core2 -c RcppExports.cpp -o RcppExports.o C:/Rtools/mingw_32/bin/g++ -std=gnu++11 -I"C:/Users/BIOCBU~1/BBS-3~1.10-/R/include" -DNDEBUG -I"C:/Users/biocbuild/bbs-3.10-bioc/R/library/Rcpp/include" -I"C:/extsoft/include" -O2 -Wall -mtune=core2 -c dist_by_closeness.cpp -o dist_by_closeness.o C:/Rtools/mingw_32/bin/g++ -std=gnu++11 -shared -s -static-libgcc -o EnrichedHeatmap.dll tmp.def RcppExports.o dist_by_closeness.o -LC:/extsoft/lib/i386 -LC:/extsoft/lib -LC:/Users/BIOCBU~1/BBS-3~1.10-/R/bin/i386 -lR installing to C:/Users/biocbuild/bbs-3.10-bioc/meat/EnrichedHeatmap.buildbin-libdir/00LOCK-EnrichedHeatmap/00new/EnrichedHeatmap/libs/i386 ** R ** inst ** byte-compile and prepare package for lazy loading ** help *** installing help indices converting help for package 'EnrichedHeatmap' finding HTML links ... done EnrichedHeatmap html finding level-2 HTML links ... done Extract.normalizedMatrix html anno_enriched html as.normalizedMatrix html copyAttr html default_smooth_fun html discretize html dist_by_closeness html enriched_score html extract_anno_enriched html failed_rows html getSignalsFromList html makeWindows html normalizeToMatrix html print.normalizedMatrix html rbind.normalizedMatrix html ** building package indices ** installing vignettes ** testing if installed package can be loaded from temporary location ** testing if installed package can be loaded from final location ** testing if installed package keeps a record of temporary installation path install for x64 * installing *source* package 'EnrichedHeatmap' ... ** libs C:/Rtools/mingw_64/bin/g++ -std=gnu++11 -I"C:/Users/BIOCBU~1/BBS-3~1.10-/R/include" -DNDEBUG -I"C:/Users/biocbuild/bbs-3.10-bioc/R/library/Rcpp/include" -I"C:/extsoft/include" -O2 -Wall -mtune=core2 -c RcppExports.cpp -o RcppExports.o C:/Rtools/mingw_64/bin/g++ -std=gnu++11 -I"C:/Users/BIOCBU~1/BBS-3~1.10-/R/include" -DNDEBUG -I"C:/Users/biocbuild/bbs-3.10-bioc/R/library/Rcpp/include" -I"C:/extsoft/include" -O2 -Wall -mtune=core2 -c dist_by_closeness.cpp -o dist_by_closeness.o C:/Rtools/mingw_64/bin/g++ -std=gnu++11 -shared -s -static-libgcc -o EnrichedHeatmap.dll tmp.def RcppExports.o dist_by_closeness.o -LC:/extsoft/lib/x64 -LC:/extsoft/lib -LC:/Users/BIOCBU~1/BBS-3~1.10-/R/bin/x64 -lR installing to C:/Users/biocbuild/bbs-3.10-bioc/meat/EnrichedHeatmap.buildbin-libdir/EnrichedHeatmap/libs/x64 ** testing if installed package can be loaded * MD5 sums packaged installation of 'EnrichedHeatmap' as EnrichedHeatmap_1.16.0.zip * DONE (EnrichedHeatmap) * installing to library 'C:/Users/biocbuild/bbs-3.10-bioc/R/library' package 'EnrichedHeatmap' successfully unpacked and MD5 sums checked