Back to Multiple platform build/check report for BioC 3.10 |
|
This page was generated on 2020-04-15 12:19:41 -0400 (Wed, 15 Apr 2020).
Package 546/1823 | Hostname | OS / Arch | INSTALL | BUILD | CHECK | BUILD BIN | ||||||
ExiMiR 2.28.0 Sylvain Gubian
| malbec1 | Linux (Ubuntu 18.04.4 LTS) / x86_64 | OK | OK | OK | |||||||
tokay1 | Windows Server 2012 R2 Standard / x64 | OK | OK | OK | [ OK ] | |||||||
merida1 | OS X 10.11.6 El Capitan / x86_64 | OK | ERROR | skipped | skipped |
Package: ExiMiR |
Version: 2.28.0 |
Command: rm -rf ExiMiR.buildbin-libdir && mkdir ExiMiR.buildbin-libdir && C:\Users\biocbuild\bbs-3.10-bioc\R\bin\R.exe CMD INSTALL --merge-multiarch --build --library=ExiMiR.buildbin-libdir ExiMiR_2.28.0.tar.gz |
StartedAt: 2020-04-15 08:40:46 -0400 (Wed, 15 Apr 2020) |
EndedAt: 2020-04-15 08:41:25 -0400 (Wed, 15 Apr 2020) |
EllapsedTime: 38.9 seconds |
RetCode: 0 |
Status: OK |
PackageFile: ExiMiR_2.28.0.zip |
PackageFileSize: 1.179 MiB |
############################################################################## ############################################################################## ### ### Running command: ### ### rm -rf ExiMiR.buildbin-libdir && mkdir ExiMiR.buildbin-libdir && C:\Users\biocbuild\bbs-3.10-bioc\R\bin\R.exe CMD INSTALL --merge-multiarch --build --library=ExiMiR.buildbin-libdir ExiMiR_2.28.0.tar.gz ### ############################################################################## ############################################################################## install for i386 * installing *source* package 'ExiMiR' ... ** using staged installation ** R ** data ** inst ** byte-compile and prepare package for lazy loading ** help *** installing help indices converting help for package 'ExiMiR' finding HTML links ... done ExiMiR-package html GSE19183 html GSE20122 html NormiR html NormiR.methods html ReadExi html bg.correct.miR html createAB html galenv html make.gal.env html norm.miR html summarize.miR html ** building package indices ** installing vignettes ** testing if installed package can be loaded from temporary location ** testing if installed package can be loaded from final location ** testing if installed package keeps a record of temporary installation path install for x64 * installing *source* package 'ExiMiR' ... ** testing if installed package can be loaded * MD5 sums packaged installation of 'ExiMiR' as ExiMiR_2.28.0.zip * DONE (ExiMiR)