Back to Multiple platform build/check report for BioC 3.10 |
|
This page was generated on 2020-04-15 12:35:26 -0400 (Wed, 15 Apr 2020).
Package 694/1823 | Hostname | OS / Arch | INSTALL | BUILD | CHECK | BUILD BIN | ||||||
GEOmetadb 1.48.2 Jack Zhu
| malbec1 | Linux (Ubuntu 18.04.4 LTS) / x86_64 | OK | OK | ERROR | |||||||
tokay1 | Windows Server 2012 R2 Standard / x64 | OK | OK | ERROR | OK | |||||||
merida1 | OS X 10.11.6 El Capitan / x86_64 | OK | OK | ERROR | [ OK ] |
Package: GEOmetadb |
Version: 1.48.2 |
Command: rm -rf GEOmetadb.buildbin-libdir && mkdir GEOmetadb.buildbin-libdir && /Users/biocbuild/BBS/utils/build-universal.sh GEOmetadb_1.48.2.tar.gz /Library/Frameworks/R.framework/Versions/Current/Resources/bin/R GEOmetadb.buildbin-libdir |
StartedAt: 2020-04-15 07:36:40 -0400 (Wed, 15 Apr 2020) |
EndedAt: 2020-04-15 07:37:35 -0400 (Wed, 15 Apr 2020) |
EllapsedTime: 55.3 seconds |
RetCode: 0 |
Status: OK |
PackageFile: GEOmetadb_1.48.2.tgz |
PackageFileSize: 533.3 KiB |
############################################################################## ############################################################################## ### ### Running command: ### ### rm -rf GEOmetadb.buildbin-libdir && mkdir GEOmetadb.buildbin-libdir && /Users/biocbuild/BBS/utils/build-universal.sh GEOmetadb_1.48.2.tar.gz /Library/Frameworks/R.framework/Versions/Current/Resources/bin/R GEOmetadb.buildbin-libdir ### ############################################################################## ############################################################################## >>>>>>> >>>>>>> INSTALLATION WITH 'R CMD INSTALL --preclean --no-multiarch --library=GEOmetadb.buildbin-libdir GEOmetadb_1.48.2.tar.gz' >>>>>>> * installing *source* package ‘GEOmetadb’ ... ** using staged installation ** R ** inst ** byte-compile and prepare package for lazy loading ** help Warning: /private/tmp/Rtmp8bprEa/R.INSTALL15dff6eb4e26b/GEOmetadb/man/GEOmetadb-package.Rd:52: unexpected END_OF_INPUT ' ' Warning: /private/tmp/Rtmp8bprEa/R.INSTALL15dff6eb4e26b/GEOmetadb/man/columnDescriptions.Rd:34: unexpected END_OF_INPUT ' ' Warning: /private/tmp/Rtmp8bprEa/R.INSTALL15dff6eb4e26b/GEOmetadb/man/geoConvert.Rd:38: unexpected section header '\keyword' Warning: /private/tmp/Rtmp8bprEa/R.INSTALL15dff6eb4e26b/GEOmetadb/man/getBiocPlatformMap.Rd:36: unexpected END_OF_INPUT ' ' Warning: /private/tmp/Rtmp8bprEa/R.INSTALL15dff6eb4e26b/GEOmetadb/man/getSQLiteFile.Rd:37: unexpected section header '\keyword' *** installing help indices ** building package indices ** installing vignettes ** testing if installed package can be loaded from temporary location ** testing if installed package can be loaded from final location ** testing if installed package keeps a record of temporary installation path * DONE (GEOmetadb)