Back to Multiple platform build/check report for BioC 3.10 |
|
This page was generated on 2020-04-15 12:30:38 -0400 (Wed, 15 Apr 2020).
Package 705/1823 | Hostname | OS / Arch | INSTALL | BUILD | CHECK | BUILD BIN | ||||||
GIGSEA 1.4.0 Shijia Zhu
| malbec1 | Linux (Ubuntu 18.04.4 LTS) / x86_64 | OK | OK | OK | ![]() | ||||||
tokay1 | Windows Server 2012 R2 Standard / x64 | OK | [ OK ] | OK | OK | ![]() | ||||||
merida1 | OS X 10.11.6 El Capitan / x86_64 | OK | OK | OK | OK | ![]() |
Package: GIGSEA |
Version: 1.4.0 |
Command: chmod a+r GIGSEA -R && C:\Users\biocbuild\bbs-3.10-bioc\R\bin\R.exe CMD build --keep-empty-dirs --no-resave-data GIGSEA |
StartedAt: 2020-04-15 00:09:05 -0400 (Wed, 15 Apr 2020) |
EndedAt: 2020-04-15 00:13:15 -0400 (Wed, 15 Apr 2020) |
EllapsedTime: 250.3 seconds |
RetCode: 0 |
Status: OK |
PackageFile: GIGSEA_1.4.0.tar.gz |
PackageFileSize: 1.321 MiB |
############################################################################## ############################################################################## ### ### Running command: ### ### chmod a+r GIGSEA -R && C:\Users\biocbuild\bbs-3.10-bioc\R\bin\R.exe CMD build --keep-empty-dirs --no-resave-data GIGSEA ### ############################################################################## ############################################################################## * checking for file 'GIGSEA/DESCRIPTION' ... OK * preparing 'GIGSEA': * checking DESCRIPTION meta-information ... OK * installing the package to build vignettes * creating vignettes ... OK * checking for LF line-endings in source and make files and shell scripts * checking for empty or unneeded directories * looking to see if a 'data/datalist' file should be added * building 'GIGSEA_1.4.0.tar.gz'