Back to Multiple platform build/check report for BioC 3.10 |
|
This page was generated on 2020-04-15 12:18:40 -0400 (Wed, 15 Apr 2020).
Package 724/1823 | Hostname | OS / Arch | INSTALL | BUILD | CHECK | BUILD BIN | ||||||
GOSemSim 2.12.1 Guangchuang Yu
| malbec1 | Linux (Ubuntu 18.04.4 LTS) / x86_64 | OK | OK | OK | |||||||
tokay1 | Windows Server 2012 R2 Standard / x64 | OK | OK | OK | [ OK ] | |||||||
merida1 | OS X 10.11.6 El Capitan / x86_64 | OK | OK | OK | OK |
Package: GOSemSim |
Version: 2.12.1 |
Command: rm -rf GOSemSim.buildbin-libdir && mkdir GOSemSim.buildbin-libdir && C:\Users\biocbuild\bbs-3.10-bioc\R\bin\R.exe CMD INSTALL --merge-multiarch --build --library=GOSemSim.buildbin-libdir GOSemSim_2.12.1.tar.gz |
StartedAt: 2020-04-15 08:52:22 -0400 (Wed, 15 Apr 2020) |
EndedAt: 2020-04-15 08:53:29 -0400 (Wed, 15 Apr 2020) |
EllapsedTime: 66.3 seconds |
RetCode: 0 |
Status: OK |
PackageFile: GOSemSim_2.12.1.zip |
PackageFileSize: 1.21 MiB |
############################################################################## ############################################################################## ### ### Running command: ### ### rm -rf GOSemSim.buildbin-libdir && mkdir GOSemSim.buildbin-libdir && C:\Users\biocbuild\bbs-3.10-bioc\R\bin\R.exe CMD INSTALL --merge-multiarch --build --library=GOSemSim.buildbin-libdir GOSemSim_2.12.1.tar.gz ### ############################################################################## ############################################################################## install for i386 * installing *source* package 'GOSemSim' ... ** using staged installation ** libs C:/Rtools/mingw_32/bin/g++ -std=gnu++11 -I"C:/Users/BIOCBU~1/BBS-3~1.10-/R/include" -DNDEBUG -I"C:/Users/biocbuild/bbs-3.10-bioc/R/library/Rcpp/include" -I"C:/extsoft/include" -O2 -Wall -mtune=core2 -c ICmethod.cpp -o ICmethod.o ICmethod.cpp: In function 'Rcpp::NumericMatrix infoContentMethod_cpp(Rcpp::StringVector&, Rcpp::StringVector&, Rcpp::List&, Rcpp::NumericVector&, const string&, const string&)': ICmethod.cpp:82:29: warning: comparison between signed and unsigned integer expressions [-Wsign-compare] for (std::size_t i=0; i < ic_.size(); i++ ) { ^ ICmethod.cpp:88:29: warning: comparison between signed and unsigned integer expressions [-Wsign-compare] for (std::size_t i=0; i < ic_.size(); i++ ) { ^ ICmethod.cpp:107:29: warning: comparison between signed and unsigned integer expressions [-Wsign-compare] for (std::size_t i=0; i < anc_.size(); i++ ) { ^ ICmethod.cpp:120:30: warning: comparison between signed and unsigned integer expressions [-Wsign-compare] for ( std::size_t i = 0; i < id1_.size(); i++ ) { ^ ICmethod.cpp:127:34: warning: comparison between signed and unsigned integer expressions [-Wsign-compare] for ( std::size_t j = 0; j < id2_.size(); j++ ) { ^ ICmethod.cpp:154:34: warning: comparison between signed and unsigned integer expressions [-Wsign-compare] for ( std::size_t j = 0; j < id2_.size(); j++ ) { ^ C:/Rtools/mingw_32/bin/g++ -std=gnu++11 -I"C:/Users/BIOCBU~1/BBS-3~1.10-/R/include" -DNDEBUG -I"C:/Users/biocbuild/bbs-3.10-bioc/R/library/Rcpp/include" -I"C:/extsoft/include" -O2 -Wall -mtune=core2 -c RcppExports.cpp -o RcppExports.o C:/Rtools/mingw_32/bin/g++ -std=gnu++11 -shared -s -static-libgcc -o GOSemSim.dll tmp.def ICmethod.o RcppExports.o -LC:/extsoft/lib/i386 -LC:/extsoft/lib -LC:/Users/BIOCBU~1/BBS-3~1.10-/R/bin/i386 -lR installing to C:/Users/biocbuild/bbs-3.10-bioc/meat/GOSemSim.buildbin-libdir/00LOCK-GOSemSim/00new/GOSemSim/libs/i386 ** R ** data ** inst ** byte-compile and prepare package for lazy loading ** help *** installing help indices converting help for package 'GOSemSim' finding HTML links ... done GOSemSim-package html GOSemSimDATA-class html clusterSim html combineScores html geneSim html goSim html go_term_table html godata html infoContentMethod html load_OrgDb html mclusterSim html mgeneSim html mgoSim html termSim html wangMethod_internal html ** building package indices ** installing vignettes ** testing if installed package can be loaded from temporary location ** testing if installed package can be loaded from final location ** testing if installed package keeps a record of temporary installation path install for x64 * installing *source* package 'GOSemSim' ... ** libs C:/Rtools/mingw_64/bin/g++ -std=gnu++11 -I"C:/Users/BIOCBU~1/BBS-3~1.10-/R/include" -DNDEBUG -I"C:/Users/biocbuild/bbs-3.10-bioc/R/library/Rcpp/include" -I"C:/extsoft/include" -O2 -Wall -mtune=core2 -c ICmethod.cpp -o ICmethod.o ICmethod.cpp: In function 'Rcpp::NumericMatrix infoContentMethod_cpp(Rcpp::StringVector&, Rcpp::StringVector&, Rcpp::List&, Rcpp::NumericVector&, const string&, const string&)': ICmethod.cpp:82:29: warning: comparison between signed and unsigned integer expressions [-Wsign-compare] for (std::size_t i=0; i < ic_.size(); i++ ) { ^ ICmethod.cpp:88:29: warning: comparison between signed and unsigned integer expressions [-Wsign-compare] for (std::size_t i=0; i < ic_.size(); i++ ) { ^ ICmethod.cpp:107:29: warning: comparison between signed and unsigned integer expressions [-Wsign-compare] for (std::size_t i=0; i < anc_.size(); i++ ) { ^ ICmethod.cpp:120:30: warning: comparison between signed and unsigned integer expressions [-Wsign-compare] for ( std::size_t i = 0; i < id1_.size(); i++ ) { ^ ICmethod.cpp:127:34: warning: comparison between signed and unsigned integer expressions [-Wsign-compare] for ( std::size_t j = 0; j < id2_.size(); j++ ) { ^ ICmethod.cpp:154:34: warning: comparison between signed and unsigned integer expressions [-Wsign-compare] for ( std::size_t j = 0; j < id2_.size(); j++ ) { ^ C:/Rtools/mingw_64/bin/g++ -std=gnu++11 -I"C:/Users/BIOCBU~1/BBS-3~1.10-/R/include" -DNDEBUG -I"C:/Users/biocbuild/bbs-3.10-bioc/R/library/Rcpp/include" -I"C:/extsoft/include" -O2 -Wall -mtune=core2 -c RcppExports.cpp -o RcppExports.o C:/Rtools/mingw_64/bin/g++ -std=gnu++11 -shared -s -static-libgcc -o GOSemSim.dll tmp.def ICmethod.o RcppExports.o -LC:/extsoft/lib/x64 -LC:/extsoft/lib -LC:/Users/BIOCBU~1/BBS-3~1.10-/R/bin/x64 -lR installing to C:/Users/biocbuild/bbs-3.10-bioc/meat/GOSemSim.buildbin-libdir/GOSemSim/libs/x64 ** testing if installed package can be loaded * MD5 sums packaged installation of 'GOSemSim' as GOSemSim_2.12.1.zip * DONE (GOSemSim)