Back to Multiple platform build/check report for BioC 3.10 |
|
This page was generated on 2020-04-15 12:40:42 -0400 (Wed, 15 Apr 2020).
Package 719/1823 | Hostname | OS / Arch | INSTALL | BUILD | CHECK | BUILD BIN | ||||||
GOexpress 1.20.0 Kevin Rue-Albrecht
| malbec1 | Linux (Ubuntu 18.04.4 LTS) / x86_64 | OK | OK | OK | ![]() | ||||||
tokay1 | Windows Server 2012 R2 Standard / x64 | OK | OK | WARNINGS | OK | ![]() | ||||||
merida1 | OS X 10.11.6 El Capitan / x86_64 | OK | OK | [ OK ] | OK | ![]() |
Package: GOexpress |
Version: 1.20.0 |
Command: /Library/Frameworks/R.framework/Versions/Current/Resources/bin/R CMD check --install=check:GOexpress.install-out.txt --library=/Library/Frameworks/R.framework/Versions/Current/Resources/library --no-vignettes --timings GOexpress_1.20.0.tar.gz |
StartedAt: 2020-04-15 02:46:32 -0400 (Wed, 15 Apr 2020) |
EndedAt: 2020-04-15 02:49:05 -0400 (Wed, 15 Apr 2020) |
EllapsedTime: 153.1 seconds |
RetCode: 0 |
Status: OK |
CheckDir: GOexpress.Rcheck |
Warnings: 0 |
############################################################################## ############################################################################## ### ### Running command: ### ### /Library/Frameworks/R.framework/Versions/Current/Resources/bin/R CMD check --install=check:GOexpress.install-out.txt --library=/Library/Frameworks/R.framework/Versions/Current/Resources/library --no-vignettes --timings GOexpress_1.20.0.tar.gz ### ############################################################################## ############################################################################## * using log directory ‘/Users/biocbuild/bbs-3.10-bioc/meat/GOexpress.Rcheck’ * using R version 3.6.3 (2020-02-29) * using platform: x86_64-apple-darwin15.6.0 (64-bit) * using session charset: UTF-8 * using option ‘--no-vignettes’ * checking for file ‘GOexpress/DESCRIPTION’ ... OK * this is package ‘GOexpress’ version ‘1.20.0’ * checking package namespace information ... OK * checking package dependencies ... OK * checking if this is a source package ... OK * checking if there is a namespace ... OK * checking for hidden files and directories ... NOTE Found the following hidden files and directories: .travis.yml These were most likely included in error. See section ‘Package structure’ in the ‘Writing R Extensions’ manual. * checking for portable file names ... OK * checking for sufficient/correct file permissions ... OK * checking whether package ‘GOexpress’ can be installed ... OK * checking installed package size ... OK * checking package directory ... OK * checking ‘build’ directory ... OK * checking DESCRIPTION meta-information ... OK * checking top-level files ... OK * checking for left-over files ... OK * checking index information ... OK * checking package subdirectories ... OK * checking R files for non-ASCII characters ... OK * checking R files for syntax errors ... OK * checking whether the package can be loaded ... OK * checking whether the package can be loaded with stated dependencies ... OK * checking whether the package can be unloaded cleanly ... OK * checking whether the namespace can be loaded with stated dependencies ... OK * checking whether the namespace can be unloaded cleanly ... OK * checking dependencies in R code ... OK * checking S3 generic/method consistency ... OK * checking replacement functions ... OK * checking foreign function calls ... OK * checking R code for possible problems ... NOTE GO_analyse: no visible binding for global variable ‘microarray2dataset’ GO_analyse: no visible binding for global variable ‘prefix2dataset’ mart_from_ensembl: no visible binding for global variable ‘prefix2dataset’ Undefined global functions or variables: microarray2dataset prefix2dataset * checking Rd files ... OK * checking Rd metadata ... OK * checking Rd cross-references ... OK * checking for missing documentation entries ... OK * checking for code/documentation mismatches ... OK * checking Rd \usage sections ... OK * checking Rd contents ... OK * checking for unstated dependencies in examples ... OK * checking contents of ‘data’ directory ... OK * checking data for non-ASCII characters ... OK * checking data for ASCII and uncompressed saves ... OK * checking sizes of PDF files under ‘inst/doc’ ... OK * checking files in ‘vignettes’ ... OK * checking examples ... OK Examples with CPU or elapsed time > 5s user system elapsed AlvMac_results.pVal 5.559 1.09 6.95 * checking for unstated dependencies in vignettes ... OK * checking package vignettes in ‘inst/doc’ ... OK * checking running R code from vignettes ... SKIPPED * checking re-building of vignette outputs ... SKIPPED * checking PDF version of manual ... OK * DONE Status: 2 NOTEs See ‘/Users/biocbuild/bbs-3.10-bioc/meat/GOexpress.Rcheck/00check.log’ for details.
GOexpress.Rcheck/00install.out
############################################################################## ############################################################################## ### ### Running command: ### ### /Library/Frameworks/R.framework/Versions/Current/Resources/bin/R CMD INSTALL GOexpress ### ############################################################################## ############################################################################## * installing to library ‘/Library/Frameworks/R.framework/Versions/3.6/Resources/library’ * installing *source* package ‘GOexpress’ ... ** using staged installation ** R ** data *** moving datasets to lazyload DB ** inst ** byte-compile and prepare package for lazy loading ** help *** installing help indices ** building package indices ** installing vignettes ** testing if installed package can be loaded from temporary location ** testing if installed package can be loaded from final location ** testing if installed package keeps a record of temporary installation path * DONE (GOexpress)
GOexpress.Rcheck/GOexpress-Ex.timings
name | user | system | elapsed | |
AlvMac | 0.162 | 0.012 | 0.179 | |
AlvMac_GOgenes | 0.132 | 0.014 | 0.150 | |
AlvMac_allGO | 0.031 | 0.003 | 0.036 | |
AlvMac_allgenes | 0.021 | 0.001 | 0.022 | |
AlvMac_results | 0.266 | 0.017 | 0.291 | |
AlvMac_results.pVal | 5.559 | 1.090 | 6.950 | |
GO_analyse | 3.477 | 0.154 | 3.672 | |
GOexpress-package | 0.004 | 0.002 | 0.006 | |
cluster_GO | 0.194 | 0.019 | 0.215 | |
expression_plot | 3.024 | 0.138 | 3.214 | |
expression_plot_symbol | 1.281 | 0.023 | 1.315 | |
expression_profiles | 1.301 | 0.011 | 1.333 | |
expression_profiles_symbol | 1.405 | 0.020 | 1.436 | |
heatmap_GO | 0.807 | 0.017 | 0.827 | |
hist_scores | 0.721 | 0.040 | 0.763 | |
list_genes | 0.129 | 0.003 | 0.133 | |
microarray2dataset | 0.028 | 0.007 | 0.036 | |
pValue_GO | 0.000 | 0.001 | 0.001 | |
plot_design | 0.208 | 0.010 | 0.218 | |
prefix2dataset | 0.026 | 0.003 | 0.029 | |
quantiles_scores | 0.204 | 0.011 | 0.216 | |
rerank | 0.306 | 0.021 | 0.327 | |
subEset | 0.057 | 0.002 | 0.062 | |
subset_scores | 0.301 | 0.005 | 0.308 | |
table_genes | 0.184 | 0.006 | 0.190 | |