Back to Multiple platform build/check report for BioC 3.10 |
|
This page was generated on 2020-04-15 12:30:10 -0400 (Wed, 15 Apr 2020).
Package 630/1823 | Hostname | OS / Arch | INSTALL | BUILD | CHECK | BUILD BIN | ||||||
GateFinder 1.6.0 Nima Aghaeepour
| malbec1 | Linux (Ubuntu 18.04.4 LTS) / x86_64 | OK | OK | OK | ![]() | ||||||
tokay1 | Windows Server 2012 R2 Standard / x64 | OK | OK | OK | [ OK ] | ![]() | ||||||
merida1 | OS X 10.11.6 El Capitan / x86_64 | OK | OK | OK | OK | ![]() |
Package: GateFinder |
Version: 1.6.0 |
Command: rm -rf GateFinder.buildbin-libdir && mkdir GateFinder.buildbin-libdir && C:\Users\biocbuild\bbs-3.10-bioc\R\bin\R.exe --arch x64 CMD INSTALL --no-multiarch --build --library=GateFinder.buildbin-libdir GateFinder_1.6.0.tar.gz |
StartedAt: 2020-04-15 08:46:02 -0400 (Wed, 15 Apr 2020) |
EndedAt: 2020-04-15 08:46:33 -0400 (Wed, 15 Apr 2020) |
EllapsedTime: 30.8 seconds |
RetCode: 0 |
Status: OK |
PackageFile: GateFinder_1.6.0.zip |
PackageFileSize: 994 KiB |
############################################################################## ############################################################################## ### ### Running command: ### ### rm -rf GateFinder.buildbin-libdir && mkdir GateFinder.buildbin-libdir && C:\Users\biocbuild\bbs-3.10-bioc\R\bin\R.exe --arch x64 CMD INSTALL --no-multiarch --build --library=GateFinder.buildbin-libdir GateFinder_1.6.0.tar.gz ### ############################################################################## ############################################################################## * installing *source* package 'GateFinder' ... ** using staged installation ** R ** data ** inst ** byte-compile and prepare package for lazy loading ** help *** installing help indices converting help for package 'GateFinder' finding HTML links ... done GateFinder-package html GateFinder html GatingProjection-class html LPSData html plot.GateFinder html ** building package indices ** installing vignettes ** testing if installed package can be loaded from temporary location ** testing if installed package can be loaded from final location ** testing if installed package keeps a record of temporary installation path * MD5 sums packaged installation of 'GateFinder' as GateFinder_1.6.0.zip * DONE (GateFinder)