Back to Multiple platform build/check report for BioC 3.10 |
|
This page was generated on 2020-04-15 12:36:04 -0400 (Wed, 15 Apr 2020).
Package 681/1823 | Hostname | OS / Arch | INSTALL | BUILD | CHECK | BUILD BIN | ||||||
GenomicFeatures 1.38.2 Bioconductor Package Maintainer
| malbec1 | Linux (Ubuntu 18.04.4 LTS) / x86_64 | OK | OK | OK | |||||||
tokay1 | Windows Server 2012 R2 Standard / x64 | OK | OK | WARNINGS | OK | |||||||
merida1 | OS X 10.11.6 El Capitan / x86_64 | OK | OK | OK | [ OK ] |
Package: GenomicFeatures |
Version: 1.38.2 |
Command: rm -rf GenomicFeatures.buildbin-libdir && mkdir GenomicFeatures.buildbin-libdir && /Users/biocbuild/BBS/utils/build-universal.sh GenomicFeatures_1.38.2.tar.gz /Library/Frameworks/R.framework/Versions/Current/Resources/bin/R GenomicFeatures.buildbin-libdir |
StartedAt: 2020-04-15 07:35:38 -0400 (Wed, 15 Apr 2020) |
EndedAt: 2020-04-15 07:36:35 -0400 (Wed, 15 Apr 2020) |
EllapsedTime: 57.6 seconds |
RetCode: 0 |
Status: OK |
PackageFile: GenomicFeatures_1.38.2.tgz |
PackageFileSize: 2.096 MiB |
############################################################################## ############################################################################## ### ### Running command: ### ### rm -rf GenomicFeatures.buildbin-libdir && mkdir GenomicFeatures.buildbin-libdir && /Users/biocbuild/BBS/utils/build-universal.sh GenomicFeatures_1.38.2.tar.gz /Library/Frameworks/R.framework/Versions/Current/Resources/bin/R GenomicFeatures.buildbin-libdir ### ############################################################################## ############################################################################## >>>>>>> >>>>>>> INSTALLATION WITH 'R CMD INSTALL --preclean --no-multiarch --library=GenomicFeatures.buildbin-libdir GenomicFeatures_1.38.2.tar.gz' >>>>>>> * installing *source* package ‘GenomicFeatures’ ... ** using staged installation ** R ** inst ** byte-compile and prepare package for lazy loading ** help *** installing help indices ** building package indices ** installing vignettes ** testing if installed package can be loaded from temporary location ** testing if installed package can be loaded from final location ** testing if installed package keeps a record of temporary installation path * DONE (GenomicFeatures)