Back to Multiple platform build/check report for BioC 3.10 |
|
This page was generated on 2020-04-15 12:40:46 -0400 (Wed, 15 Apr 2020).
Package 683/1823 | Hostname | OS / Arch | INSTALL | BUILD | CHECK | BUILD BIN | ||||||
GenomicInteractions 1.20.3 Liz Ing-Simmons
| malbec1 | Linux (Ubuntu 18.04.4 LTS) / x86_64 | OK | OK | OK | ![]() | ||||||
tokay1 | Windows Server 2012 R2 Standard / x64 | OK | OK | WARNINGS | OK | ![]() | ||||||
merida1 | OS X 10.11.6 El Capitan / x86_64 | OK | OK | OK | [ OK ] | ![]() |
Package: GenomicInteractions |
Version: 1.20.3 |
Command: rm -rf GenomicInteractions.buildbin-libdir && mkdir GenomicInteractions.buildbin-libdir && /Users/biocbuild/BBS/utils/build-universal.sh GenomicInteractions_1.20.3.tar.gz /Library/Frameworks/R.framework/Versions/Current/Resources/bin/R GenomicInteractions.buildbin-libdir |
StartedAt: 2020-04-15 07:35:51 -0400 (Wed, 15 Apr 2020) |
EndedAt: 2020-04-15 07:37:43 -0400 (Wed, 15 Apr 2020) |
EllapsedTime: 112.4 seconds |
RetCode: 0 |
Status: OK |
PackageFile: GenomicInteractions_1.20.3.tgz |
PackageFileSize: 4.835 MiB |
############################################################################## ############################################################################## ### ### Running command: ### ### rm -rf GenomicInteractions.buildbin-libdir && mkdir GenomicInteractions.buildbin-libdir && /Users/biocbuild/BBS/utils/build-universal.sh GenomicInteractions_1.20.3.tar.gz /Library/Frameworks/R.framework/Versions/Current/Resources/bin/R GenomicInteractions.buildbin-libdir ### ############################################################################## ############################################################################## >>>>>>> >>>>>>> INSTALLATION WITH 'R CMD INSTALL --preclean --no-multiarch --library=GenomicInteractions.buildbin-libdir GenomicInteractions_1.20.3.tar.gz' >>>>>>> * installing *source* package ‘GenomicInteractions’ ... ** using staged installation ** R ** data ** inst ** byte-compile and prepare package for lazy loading ** help *** installing help indices ** building package indices ** installing vignettes ** testing if installed package can be loaded from temporary location ** testing if installed package can be loaded from final location ** testing if installed package keeps a record of temporary installation path * DONE (GenomicInteractions)