Back to Multiple platform build/check report for BioC 3.10 |
|
This page was generated on 2020-04-15 12:23:53 -0400 (Wed, 15 Apr 2020).
Package 687/1823 | Hostname | OS / Arch | INSTALL | BUILD | CHECK | BUILD BIN | ||||||
GenomicTuples 1.20.0 Peter Hickey
| malbec1 | Linux (Ubuntu 18.04.4 LTS) / x86_64 | OK | OK | WARNINGS | ![]() | ||||||
tokay1 | Windows Server 2012 R2 Standard / x64 | [ OK ] | OK | WARNINGS | OK | ![]() | ||||||
merida1 | OS X 10.11.6 El Capitan / x86_64 | OK | OK | WARNINGS | OK | ![]() |
Package: GenomicTuples |
Version: 1.20.0 |
Command: C:\cygwin\bin\curl.exe -O https://malbec1.bioconductor.org/BBS/3.10/bioc/src/contrib/GenomicTuples_1.20.0.tar.gz && rm -rf GenomicTuples.buildbin-libdir && mkdir GenomicTuples.buildbin-libdir && C:\Users\biocbuild\bbs-3.10-bioc\R\bin\R.exe CMD INSTALL --merge-multiarch --build --library=GenomicTuples.buildbin-libdir GenomicTuples_1.20.0.tar.gz && C:\Users\biocbuild\bbs-3.10-bioc\R\bin\R.exe CMD INSTALL GenomicTuples_1.20.0.zip && rm GenomicTuples_1.20.0.tar.gz GenomicTuples_1.20.0.zip |
StartedAt: 2020-04-14 19:29:35 -0400 (Tue, 14 Apr 2020) |
EndedAt: 2020-04-14 19:30:48 -0400 (Tue, 14 Apr 2020) |
EllapsedTime: 73.0 seconds |
RetCode: 0 |
Status: OK |
############################################################################## ############################################################################## ### ### Running command: ### ### C:\cygwin\bin\curl.exe -O https://malbec1.bioconductor.org/BBS/3.10/bioc/src/contrib/GenomicTuples_1.20.0.tar.gz && rm -rf GenomicTuples.buildbin-libdir && mkdir GenomicTuples.buildbin-libdir && C:\Users\biocbuild\bbs-3.10-bioc\R\bin\R.exe CMD INSTALL --merge-multiarch --build --library=GenomicTuples.buildbin-libdir GenomicTuples_1.20.0.tar.gz && C:\Users\biocbuild\bbs-3.10-bioc\R\bin\R.exe CMD INSTALL GenomicTuples_1.20.0.zip && rm GenomicTuples_1.20.0.tar.gz GenomicTuples_1.20.0.zip ### ############################################################################## ############################################################################## % Total % Received % Xferd Average Speed Time Time Time Current Dload Upload Total Spent Left Speed 0 0 0 0 0 0 0 0 --:--:-- --:--:-- --:--:-- 0 100 79713 100 79713 0 0 1760k 0 --:--:-- --:--:-- --:--:-- 1946k install for i386 * installing *source* package 'GenomicTuples' ... ** using staged installation ** libs C:/Rtools/mingw_32/bin/g++ -std=gnu++11 -I"C:/Users/BIOCBU~1/BBS-3~1.10-/R/include" -DNDEBUG -I"C:/Users/biocbuild/bbs-3.10-bioc/R/library/Rcpp/include" -I"C:/extsoft/include" -O2 -Wall -mtune=core2 -c IPD.cpp -o IPD.o C:/Rtools/mingw_32/bin/g++ -std=gnu++11 -I"C:/Users/BIOCBU~1/BBS-3~1.10-/R/include" -DNDEBUG -I"C:/Users/biocbuild/bbs-3.10-bioc/R/library/Rcpp/include" -I"C:/extsoft/include" -O2 -Wall -mtune=core2 -c RcppExports.cpp -o RcppExports.o C:/Rtools/mingw_32/bin/g++ -std=gnu++11 -I"C:/Users/BIOCBU~1/BBS-3~1.10-/R/include" -DNDEBUG -I"C:/Users/biocbuild/bbs-3.10-bioc/R/library/Rcpp/include" -I"C:/extsoft/include" -O2 -Wall -mtune=core2 -c allTuplesSorted.cpp -o allTuplesSorted.o C:/Rtools/mingw_32/bin/g++ -std=gnu++11 -I"C:/Users/BIOCBU~1/BBS-3~1.10-/R/include" -DNDEBUG -I"C:/Users/biocbuild/bbs-3.10-bioc/R/library/Rcpp/include" -I"C:/extsoft/include" -O2 -Wall -mtune=core2 -c pcompareGTuples.cpp -o pcompareGTuples.o C:/Rtools/mingw_32/bin/g++ -std=gnu++11 -shared -s -static-libgcc -o GenomicTuples.dll tmp.def IPD.o RcppExports.o allTuplesSorted.o pcompareGTuples.o -LC:/extsoft/lib/i386 -LC:/extsoft/lib -LC:/Users/BIOCBU~1/BBS-3~1.10-/R/bin/i386 -lR installing to C:/Users/biocbuild/bbs-3.10-bioc/meat/GenomicTuples.buildbin-libdir/00LOCK-GenomicTuples/00new/GenomicTuples/libs/i386 ** R ** inst ** byte-compile and prepare package for lazy loading ** help *** installing help indices converting help for package 'GenomicTuples' finding HTML links ... done GTuples-class html Rd warning: C:/Users/biocbuild/bbs-3.10-bioc/tmpdir/RtmpIv4Lzb/R.INSTALL16e0314a6a2b/GenomicTuples/man/GTuples-class.Rd:75: file link 'GRanges' in package 'GenomicRanges' does not exist and so has been treated as a topic Rd warning: C:/Users/biocbuild/bbs-3.10-bioc/tmpdir/RtmpIv4Lzb/R.INSTALL16e0314a6a2b/GenomicTuples/man/GTuples-class.Rd:82: file link 'Rle' in package 'S4Vectors' does not exist and so has been treated as a topic Rd warning: C:/Users/biocbuild/bbs-3.10-bioc/tmpdir/RtmpIv4Lzb/R.INSTALL16e0314a6a2b/GenomicTuples/man/GTuples-class.Rd:86: file link 'IRanges' in package 'IRanges' does not exist and so has been treated as a topic Rd warning: C:/Users/biocbuild/bbs-3.10-bioc/tmpdir/RtmpIv4Lzb/R.INSTALL16e0314a6a2b/GenomicTuples/man/GTuples-class.Rd:91: file link 'Rle' in package 'S4Vectors' does not exist and so has been treated as a topic Rd warning: C:/Users/biocbuild/bbs-3.10-bioc/tmpdir/RtmpIv4Lzb/R.INSTALL16e0314a6a2b/GenomicTuples/man/GTuples-class.Rd:94: file link 'DataFrame' in package 'S4Vectors' does not exist and so has been treated as a topic Rd warning: C:/Users/biocbuild/bbs-3.10-bioc/tmpdir/RtmpIv4Lzb/R.INSTALL16e0314a6a2b/GenomicTuples/man/GTuples-class.Rd:101: file link 'DataFrame' in package 'S4Vectors' does not exist and so has been treated as a topic Rd warning: C:/Users/biocbuild/bbs-3.10-bioc/tmpdir/RtmpIv4Lzb/R.INSTALL16e0314a6a2b/GenomicTuples/man/GTuples-class.Rd:109: file link 'GRanges' in package 'GenomicRanges' does not exist and so has been treated as a topic Rd warning: C:/Users/biocbuild/bbs-3.10-bioc/tmpdir/RtmpIv4Lzb/R.INSTALL16e0314a6a2b/GenomicTuples/man/GTuples-class.Rd:132: file link 'Rle' in package 'S4Vectors' does not exist and so has been treated as a topic Rd warning: C:/Users/biocbuild/bbs-3.10-bioc/tmpdir/RtmpIv4Lzb/R.INSTALL16e0314a6a2b/GenomicTuples/man/GTuples-class.Rd:139: file link 'Rle' in package 'S4Vectors' does not exist and so has been treated as a topic Rd warning: C:/Users/biocbuild/bbs-3.10-bioc/tmpdir/RtmpIv4Lzb/R.INSTALL16e0314a6a2b/GenomicTuples/man/GTuples-class.Rd:151: file link 'DataFrame' in package 'S4Vectors' does not exist and so has been treated as a topic Rd warning: C:/Users/biocbuild/bbs-3.10-bioc/tmpdir/RtmpIv4Lzb/R.INSTALL16e0314a6a2b/GenomicTuples/man/GTuples-class.Rd:214: file link 'GRanges' in package 'GenomicRanges' does not exist and so has been treated as a topic Rd warning: C:/Users/biocbuild/bbs-3.10-bioc/tmpdir/RtmpIv4Lzb/R.INSTALL16e0314a6a2b/GenomicTuples/man/GTuples-class.Rd:238: file link 'Rle' in package 'S4Vectors' does not exist and so has been treated as a topic Rd warning: C:/Users/biocbuild/bbs-3.10-bioc/tmpdir/RtmpIv4Lzb/R.INSTALL16e0314a6a2b/GenomicTuples/man/GTuples-class.Rd:267: file link 'Rle' in package 'S4Vectors' does not exist and so has been treated as a topic Rd warning: C:/Users/biocbuild/bbs-3.10-bioc/tmpdir/RtmpIv4Lzb/R.INSTALL16e0314a6a2b/GenomicTuples/man/GTuples-class.Rd:275: file link 'DataFrame' in package 'S4Vectors' does not exist and so has been treated as a topic Rd warning: C:/Users/biocbuild/bbs-3.10-bioc/tmpdir/RtmpIv4Lzb/R.INSTALL16e0314a6a2b/GenomicTuples/man/GTuples-class.Rd:278: file link 'DataTable' in package 'S4Vectors' does not exist and so has been treated as a topic Rd warning: C:/Users/biocbuild/bbs-3.10-bioc/tmpdir/RtmpIv4Lzb/R.INSTALL16e0314a6a2b/GenomicTuples/man/GTuples-class.Rd:291: file link 'DataFrame' in package 'S4Vectors' does not exist and so has been treated as a topic Rd warning: C:/Users/biocbuild/bbs-3.10-bioc/tmpdir/RtmpIv4Lzb/R.INSTALL16e0314a6a2b/GenomicTuples/man/GTuples-class.Rd:300: file link 'seqlevels' in package 'GenomeInfoDb' does not exist and so has been treated as a topic Rd warning: C:/Users/biocbuild/bbs-3.10-bioc/tmpdir/RtmpIv4Lzb/R.INSTALL16e0314a6a2b/GenomicTuples/man/GTuples-class.Rd:401: file link 'DataFrame' in package 'S4Vectors' does not exist and so has been treated as a topic Rd warning: C:/Users/biocbuild/bbs-3.10-bioc/tmpdir/RtmpIv4Lzb/R.INSTALL16e0314a6a2b/GenomicTuples/man/GTuples-class.Rd:402: file link 'DataFrame' in package 'S4Vectors' does not exist and so has been treated as a topic Rd warning: C:/Users/biocbuild/bbs-3.10-bioc/tmpdir/RtmpIv4Lzb/R.INSTALL16e0314a6a2b/GenomicTuples/man/GTuples-class.Rd:430: file link 'Rle' in package 'S4Vectors' does not exist and so has been treated as a topic Rd warning: C:/Users/biocbuild/bbs-3.10-bioc/tmpdir/RtmpIv4Lzb/R.INSTALL16e0314a6a2b/GenomicTuples/man/GTuples-class.Rd:509: file link 'GRanges' in package 'GenomicRanges' does not exist and so has been treated as a topic Rd warning: C:/Users/biocbuild/bbs-3.10-bioc/tmpdir/RtmpIv4Lzb/R.INSTALL16e0314a6a2b/GenomicTuples/man/GTuples-class.Rd:512: file link 'IRanges' in package 'IRanges' does not exist and so has been treated as a topic Rd warning: C:/Users/biocbuild/bbs-3.10-bioc/tmpdir/RtmpIv4Lzb/R.INSTALL16e0314a6a2b/GenomicTuples/man/GTuples-class.Rd:513: file link 'GenomicRanges' in package 'GenomicRanges' does not exist and so has been treated as a topic Rd warning: C:/Users/biocbuild/bbs-3.10-bioc/tmpdir/RtmpIv4Lzb/R.INSTALL16e0314a6a2b/GenomicTuples/man/GTuples-class.Rd:515: file link 'GRanges' in package 'GenomicRanges' does not exist and so has been treated as a topic Rd warning: C:/Users/biocbuild/bbs-3.10-bioc/tmpdir/RtmpIv4Lzb/R.INSTALL16e0314a6a2b/GenomicTuples/man/GTuples-class.Rd:533: file link 'GRanges' in package 'GenomicRanges' does not exist and so has been treated as a topic Rd warning: C:/Users/biocbuild/bbs-3.10-bioc/tmpdir/RtmpIv4Lzb/R.INSTALL16e0314a6a2b/GenomicTuples/man/GTuples-class.Rd:534: file link 'GAlignments' in package 'GenomicAlignments' does not exist and so has been treated as a topic Rd warning: C:/Users/biocbuild/bbs-3.10-bioc/tmpdir/RtmpIv4Lzb/R.INSTALL16e0314a6a2b/GenomicTuples/man/GTuples-class.Rd:535: file link 'GAlignmentPairs' in package 'GenomicAlignments' does not exist and so has been treated as a topic Rd warning: C:/Users/biocbuild/bbs-3.10-bioc/tmpdir/RtmpIv4Lzb/R.INSTALL16e0314a6a2b/GenomicTuples/man/GTuples-class.Rd:538: file link 'IRanges' in package 'IRanges' does not exist and so has been treated as a topic Rd warning: C:/Users/biocbuild/bbs-3.10-bioc/tmpdir/RtmpIv4Lzb/R.INSTALL16e0314a6a2b/GenomicTuples/man/GTuples-class.Rd:538: file link 'DNAStringSet' in package 'Biostrings' does not exist and so has been treated as a topic Rd warning: C:/Users/biocbuild/bbs-3.10-bioc/tmpdir/RtmpIv4Lzb/R.INSTALL16e0314a6a2b/GenomicTuples/man/GTuples-class.Rd:551: file link 'DataFrame' in package 'S4Vectors' does not exist and so has been treated as a topic GTuples-comparison html finding level-2 HTML links ... done Rd warning: C:/Users/biocbuild/bbs-3.10-bioc/tmpdir/RtmpIv4Lzb/R.INSTALL16e0314a6a2b/GenomicTuples/man/GTuples-comparison.Rd:165: file link 'Hits' in package 'S4Vectors' does not exist and so has been treated as a topic GTuplesList-class html Rd warning: C:/Users/biocbuild/bbs-3.10-bioc/tmpdir/RtmpIv4Lzb/R.INSTALL16e0314a6a2b/GenomicTuples/man/GTuplesList-class.Rd:59: file link 'GRangesList' in package 'GenomicRanges' does not exist and so has been treated as a topic Rd warning: C:/Users/biocbuild/bbs-3.10-bioc/tmpdir/RtmpIv4Lzb/R.INSTALL16e0314a6a2b/GenomicTuples/man/GTuplesList-class.Rd:97: file link 'RleList' in package 'IRanges' does not exist and so has been treated as a topic Rd warning: C:/Users/biocbuild/bbs-3.10-bioc/tmpdir/RtmpIv4Lzb/R.INSTALL16e0314a6a2b/GenomicTuples/man/GTuplesList-class.Rd:98: file link 'RleList' in package 'IRanges' does not exist and so has been treated as a topic Rd warning: C:/Users/biocbuild/bbs-3.10-bioc/tmpdir/RtmpIv4Lzb/R.INSTALL16e0314a6a2b/GenomicTuples/man/GTuplesList-class.Rd:98: file link 'CharacterList' in package 'IRanges' does not exist and so has been treated as a topic Rd warning: C:/Users/biocbuild/bbs-3.10-bioc/tmpdir/RtmpIv4Lzb/R.INSTALL16e0314a6a2b/GenomicTuples/man/GTuplesList-class.Rd:104: file link 'SimpleList' in package 'S4Vectors' does not exist and so has been treated as a topic Rd warning: C:/Users/biocbuild/bbs-3.10-bioc/tmpdir/RtmpIv4Lzb/R.INSTALL16e0314a6a2b/GenomicTuples/man/GTuplesList-class.Rd:110: file link 'CompressedIRangesList' in package 'IRanges' does not exist and so has been treated as a topic Rd warning: C:/Users/biocbuild/bbs-3.10-bioc/tmpdir/RtmpIv4Lzb/R.INSTALL16e0314a6a2b/GenomicTuples/man/GTuplesList-class.Rd:111: file link 'IntegerRangesList' in package 'IRanges' does not exist and so has been treated as a topic Rd warning: C:/Users/biocbuild/bbs-3.10-bioc/tmpdir/RtmpIv4Lzb/R.INSTALL16e0314a6a2b/GenomicTuples/man/GTuplesList-class.Rd:121: file link 'RleList' in package 'IRanges' does not exist and so has been treated as a topic Rd warning: C:/Users/biocbuild/bbs-3.10-bioc/tmpdir/RtmpIv4Lzb/R.INSTALL16e0314a6a2b/GenomicTuples/man/GTuplesList-class.Rd:122: file link 'RleList' in package 'IRanges' does not exist and so has been treated as a topic Rd warning: C:/Users/biocbuild/bbs-3.10-bioc/tmpdir/RtmpIv4Lzb/R.INSTALL16e0314a6a2b/GenomicTuples/man/GTuplesList-class.Rd:123: file link 'CharacterList' in package 'IRanges' does not exist and so has been treated as a topic Rd warning: C:/Users/biocbuild/bbs-3.10-bioc/tmpdir/RtmpIv4Lzb/R.INSTALL16e0314a6a2b/GenomicTuples/man/GTuplesList-class.Rd:126: file link 'RleList' in package 'IRanges' does not exist and so has been treated as a topic Rd warning: C:/Users/biocbuild/bbs-3.10-bioc/tmpdir/RtmpIv4Lzb/R.INSTALL16e0314a6a2b/GenomicTuples/man/GTuplesList-class.Rd:127: file link 'CharacterList' in package 'IRanges' does not exist and so has been treated as a topic Rd warning: C:/Users/biocbuild/bbs-3.10-bioc/tmpdir/RtmpIv4Lzb/R.INSTALL16e0314a6a2b/GenomicTuples/man/GTuplesList-class.Rd:133: file link 'DataFrame' in package 'S4Vectors' does not exist and so has been treated as a topic Rd warning: C:/Users/biocbuild/bbs-3.10-bioc/tmpdir/RtmpIv4Lzb/R.INSTALL16e0314a6a2b/GenomicTuples/man/GTuplesList-class.Rd:153: file link 'seqlevels' in package 'GenomeInfoDb' does not exist and so has been treated as a topic Rd warning: C:/Users/biocbuild/bbs-3.10-bioc/tmpdir/RtmpIv4Lzb/R.INSTALL16e0314a6a2b/GenomicTuples/man/GTuplesList-class.Rd:213: file link 'SimpleList' in package 'S4Vectors' does not exist and so has been treated as a topic Rd warning: C:/Users/biocbuild/bbs-3.10-bioc/tmpdir/RtmpIv4Lzb/R.INSTALL16e0314a6a2b/GenomicTuples/man/GTuplesList-class.Rd:249: file link 'GRangesList' in package 'GenomicRanges' does not exist and so has been treated as a topic Rd warning: C:/Users/biocbuild/bbs-3.10-bioc/tmpdir/RtmpIv4Lzb/R.INSTALL16e0314a6a2b/GenomicTuples/man/GTuplesList-class.Rd:406: file link 'RleList-class' in package 'IRanges' does not exist and so has been treated as a topic GenomicTuples-package html dot-GT2DT html dot-IPDCpp html dot-allTuplesSortedCpp html dot-findEqual.GTuples html dot-matrixDiffWithRecycling html dot-pcompareGTuplesCpp html dot-zero_range html findOverlaps-methods html Rd warning: C:/Users/biocbuild/bbs-3.10-bioc/tmpdir/RtmpIv4Lzb/R.INSTALL16e0314a6a2b/GenomicTuples/man/findOverlaps-methods.Rd:27: file link 'findOverlaps' in package 'IRanges' does not exist and so has been treated as a topic Rd warning: C:/Users/biocbuild/bbs-3.10-bioc/tmpdir/RtmpIv4Lzb/R.INSTALL16e0314a6a2b/GenomicTuples/man/findOverlaps-methods.Rd:29: file link 'GenomicRanges' in package 'GenomicRanges' does not exist and so has been treated as a topic Rd warning: C:/Users/biocbuild/bbs-3.10-bioc/tmpdir/RtmpIv4Lzb/R.INSTALL16e0314a6a2b/GenomicTuples/man/findOverlaps-methods.Rd:29: file link 'GRangesList' in package 'GenomicRanges' does not exist and so has been treated as a topic Rd warning: C:/Users/biocbuild/bbs-3.10-bioc/tmpdir/RtmpIv4Lzb/R.INSTALL16e0314a6a2b/GenomicTuples/man/findOverlaps-methods.Rd:60: file link 'findOverlaps' in package 'IRanges' does not exist and so has been treated as a topic Rd warning: C:/Users/biocbuild/bbs-3.10-bioc/tmpdir/RtmpIv4Lzb/R.INSTALL16e0314a6a2b/GenomicTuples/man/findOverlaps-methods.Rd:65: file link 'Hits' in package 'S4Vectors' does not exist and so has been treated as a topic Rd warning: C:/Users/biocbuild/bbs-3.10-bioc/tmpdir/RtmpIv4Lzb/R.INSTALL16e0314a6a2b/GenomicTuples/man/findOverlaps-methods.Rd:112: file link 'GRanges' in package 'GenomicRanges' does not exist and so has been treated as a topic Rd warning: C:/Users/biocbuild/bbs-3.10-bioc/tmpdir/RtmpIv4Lzb/R.INSTALL16e0314a6a2b/GenomicTuples/man/findOverlaps-methods.Rd:113: file link 'GRangesList' in package 'GenomicRanges' does not exist and so has been treated as a topic Rd warning: C:/Users/biocbuild/bbs-3.10-bioc/tmpdir/RtmpIv4Lzb/R.INSTALL16e0314a6a2b/GenomicTuples/man/findOverlaps-methods.Rd:119: file link 'findOverlaps,GRangesList,GRangesList-method' in package 'GenomicRanges' does not exist and so has been treated as a topic Rd warning: C:/Users/biocbuild/bbs-3.10-bioc/tmpdir/RtmpIv4Lzb/R.INSTALL16e0314a6a2b/GenomicTuples/man/findOverlaps-methods.Rd:132: file link 'GRanges' in package 'GenomicRanges' does not exist and so has been treated as a topic Rd warning: C:/Users/biocbuild/bbs-3.10-bioc/tmpdir/RtmpIv4Lzb/R.INSTALL16e0314a6a2b/GenomicTuples/man/findOverlaps-methods.Rd:133: file link 'GRangesList' in package 'GenomicRanges' does not exist and so has been treated as a topic Rd warning: C:/Users/biocbuild/bbs-3.10-bioc/tmpdir/RtmpIv4Lzb/R.INSTALL16e0314a6a2b/GenomicTuples/man/findOverlaps-methods.Rd:147: file link 'Hits' in package 'S4Vectors' does not exist and so has been treated as a topic Rd warning: C:/Users/biocbuild/bbs-3.10-bioc/tmpdir/RtmpIv4Lzb/R.INSTALL16e0314a6a2b/GenomicTuples/man/findOverlaps-methods.Rd:172: file link 'findOverlaps' in package 'GenomicRanges' does not exist and so has been treated as a topic Rd warning: C:/Users/biocbuild/bbs-3.10-bioc/tmpdir/RtmpIv4Lzb/R.INSTALL16e0314a6a2b/GenomicTuples/man/findOverlaps-methods.Rd:173: file link 'findOverlaps' in package 'IRanges' does not exist and so has been treated as a topic illdefined-methods html Rd warning: C:/Users/biocbuild/bbs-3.10-bioc/tmpdir/RtmpIv4Lzb/R.INSTALL16e0314a6a2b/GenomicTuples/man/illdefined-methods.Rd:56: file link 'GRanges' in package 'GenomicRanges' does not exist and so has been treated as a topic Rd warning: C:/Users/biocbuild/bbs-3.10-bioc/tmpdir/RtmpIv4Lzb/R.INSTALL16e0314a6a2b/GenomicTuples/man/illdefined-methods.Rd:57: file link 'GRangesList' in package 'GenomicRanges' does not exist and so has been treated as a topic intra-tuple-methods html Rd warning: C:/Users/biocbuild/bbs-3.10-bioc/tmpdir/RtmpIv4Lzb/R.INSTALL16e0314a6a2b/GenomicTuples/man/intra-tuple-methods.Rd:43: file link 'GRanges' in package 'GenomicRanges' does not exist and so has been treated as a topic nearest-methods html Rd warning: C:/Users/biocbuild/bbs-3.10-bioc/tmpdir/RtmpIv4Lzb/R.INSTALL16e0314a6a2b/GenomicTuples/man/nearest-methods.Rd:26: file link 'GRanges' in package 'GenomicRanges' does not exist and so has been treated as a topic Rd warning: C:/Users/biocbuild/bbs-3.10-bioc/tmpdir/RtmpIv4Lzb/R.INSTALL16e0314a6a2b/GenomicTuples/man/nearest-methods.Rd:70: file link 'Hits' in package 'S4Vectors' does not exist and so has been treated as a topic Rd warning: C:/Users/biocbuild/bbs-3.10-bioc/tmpdir/RtmpIv4Lzb/R.INSTALL16e0314a6a2b/GenomicTuples/man/nearest-methods.Rd:72: file link 'Hits' in package 'S4Vectors' does not exist and so has been treated as a topic Rd warning: C:/Users/biocbuild/bbs-3.10-bioc/tmpdir/RtmpIv4Lzb/R.INSTALL16e0314a6a2b/GenomicTuples/man/nearest-methods.Rd:147: file link 'Hits' in package 'S4Vectors' does not exist and so has been treated as a topic Rd warning: C:/Users/biocbuild/bbs-3.10-bioc/tmpdir/RtmpIv4Lzb/R.INSTALL16e0314a6a2b/GenomicTuples/man/nearest-methods.Rd:150: file link 'Hits' in package 'S4Vectors' does not exist and so has been treated as a topic Rd warning: C:/Users/biocbuild/bbs-3.10-bioc/tmpdir/RtmpIv4Lzb/R.INSTALL16e0314a6a2b/GenomicTuples/man/nearest-methods.Rd:165: file link 'GenomicRanges' in package 'GenomicRanges' does not exist and so has been treated as a topic Rd warning: C:/Users/biocbuild/bbs-3.10-bioc/tmpdir/RtmpIv4Lzb/R.INSTALL16e0314a6a2b/GenomicTuples/man/nearest-methods.Rd:166: file link 'GRanges' in package 'GenomicRanges' does not exist and so has been treated as a topic Rd warning: C:/Users/biocbuild/bbs-3.10-bioc/tmpdir/RtmpIv4Lzb/R.INSTALL16e0314a6a2b/GenomicTuples/man/nearest-methods.Rd:167: file link 'IPosRanges' in package 'IRanges' does not exist and so has been treated as a topic Rd warning: C:/Users/biocbuild/bbs-3.10-bioc/tmpdir/RtmpIv4Lzb/R.INSTALL16e0314a6a2b/GenomicTuples/man/nearest-methods.Rd:168: file link 'Hits' in package 'S4Vectors' does not exist and so has been treated as a topic tuples-squeezers html Rd warning: C:/Users/biocbuild/bbs-3.10-bioc/tmpdir/RtmpIv4Lzb/R.INSTALL16e0314a6a2b/GenomicTuples/man/tuples-squeezers.Rd:13: file link 'granges' in package 'GenomicRanges' does not exist and so has been treated as a topic Rd warning: C:/Users/biocbuild/bbs-3.10-bioc/tmpdir/RtmpIv4Lzb/R.INSTALL16e0314a6a2b/GenomicTuples/man/tuples-squeezers.Rd:14: file link 'grglist' in package 'GenomicRanges' does not exist and so has been treated as a topic ** building package indices ** installing vignettes ** testing if installed package can be loaded from temporary location ** testing if installed package can be loaded from final location ** testing if installed package keeps a record of temporary installation path install for x64 * installing *source* package 'GenomicTuples' ... ** libs C:/Rtools/mingw_64/bin/g++ -std=gnu++11 -I"C:/Users/BIOCBU~1/BBS-3~1.10-/R/include" -DNDEBUG -I"C:/Users/biocbuild/bbs-3.10-bioc/R/library/Rcpp/include" -I"C:/extsoft/include" -O2 -Wall -mtune=core2 -c IPD.cpp -o IPD.o C:/Rtools/mingw_64/bin/g++ -std=gnu++11 -I"C:/Users/BIOCBU~1/BBS-3~1.10-/R/include" -DNDEBUG -I"C:/Users/biocbuild/bbs-3.10-bioc/R/library/Rcpp/include" -I"C:/extsoft/include" -O2 -Wall -mtune=core2 -c RcppExports.cpp -o RcppExports.o C:/Rtools/mingw_64/bin/g++ -std=gnu++11 -I"C:/Users/BIOCBU~1/BBS-3~1.10-/R/include" -DNDEBUG -I"C:/Users/biocbuild/bbs-3.10-bioc/R/library/Rcpp/include" -I"C:/extsoft/include" -O2 -Wall -mtune=core2 -c allTuplesSorted.cpp -o allTuplesSorted.o C:/Rtools/mingw_64/bin/g++ -std=gnu++11 -I"C:/Users/BIOCBU~1/BBS-3~1.10-/R/include" -DNDEBUG -I"C:/Users/biocbuild/bbs-3.10-bioc/R/library/Rcpp/include" -I"C:/extsoft/include" -O2 -Wall -mtune=core2 -c pcompareGTuples.cpp -o pcompareGTuples.o C:/Rtools/mingw_64/bin/g++ -std=gnu++11 -shared -s -static-libgcc -o GenomicTuples.dll tmp.def IPD.o RcppExports.o allTuplesSorted.o pcompareGTuples.o -LC:/extsoft/lib/x64 -LC:/extsoft/lib -LC:/Users/BIOCBU~1/BBS-3~1.10-/R/bin/x64 -lR installing to C:/Users/biocbuild/bbs-3.10-bioc/meat/GenomicTuples.buildbin-libdir/GenomicTuples/libs/x64 ** testing if installed package can be loaded * MD5 sums packaged installation of 'GenomicTuples' as GenomicTuples_1.20.0.zip * DONE (GenomicTuples) * installing to library 'C:/Users/biocbuild/bbs-3.10-bioc/R/library' package 'GenomicTuples' successfully unpacked and MD5 sums checked