Back to Multiple platform build/check report for BioC 3.10 |
|
This page was generated on 2020-04-15 12:36:08 -0400 (Wed, 15 Apr 2020).
Package 688/1823 | Hostname | OS / Arch | INSTALL | BUILD | CHECK | BUILD BIN | ||||||
Genominator 1.40.0 James Bullard
| malbec1 | Linux (Ubuntu 18.04.4 LTS) / x86_64 | OK | OK | WARNINGS | |||||||
tokay1 | Windows Server 2012 R2 Standard / x64 | OK | OK | WARNINGS | OK | |||||||
merida1 | OS X 10.11.6 El Capitan / x86_64 | OK | OK | WARNINGS | [ OK ] |
Package: Genominator |
Version: 1.40.0 |
Command: rm -rf Genominator.buildbin-libdir && mkdir Genominator.buildbin-libdir && /Users/biocbuild/BBS/utils/build-universal.sh Genominator_1.40.0.tar.gz /Library/Frameworks/R.framework/Versions/Current/Resources/bin/R Genominator.buildbin-libdir |
StartedAt: 2020-04-15 07:36:14 -0400 (Wed, 15 Apr 2020) |
EndedAt: 2020-04-15 07:37:05 -0400 (Wed, 15 Apr 2020) |
EllapsedTime: 51.0 seconds |
RetCode: 0 |
Status: OK |
PackageFile: Genominator_1.40.0.tgz |
PackageFileSize: 2.376 MiB |
############################################################################## ############################################################################## ### ### Running command: ### ### rm -rf Genominator.buildbin-libdir && mkdir Genominator.buildbin-libdir && /Users/biocbuild/BBS/utils/build-universal.sh Genominator_1.40.0.tar.gz /Library/Frameworks/R.framework/Versions/Current/Resources/bin/R Genominator.buildbin-libdir ### ############################################################################## ############################################################################## >>>>>>> >>>>>>> INSTALLATION WITH 'R CMD INSTALL --preclean --no-multiarch --library=Genominator.buildbin-libdir Genominator_1.40.0.tar.gz' >>>>>>> * installing *source* package ‘Genominator’ ... ** using staged installation ** R ** data ** inst ** byte-compile and prepare package for lazy loading Warning message: Package 'GenomeGraphs' is deprecated and will be removed from Bioconductor version 3.11 ** help *** installing help indices ** building package indices ** installing vignettes ** testing if installed package can be loaded from temporary location Warning: Package 'GenomeGraphs' is deprecated and will be removed from Bioconductor version 3.11 ** testing if installed package can be loaded from final location Warning: Package 'GenomeGraphs' is deprecated and will be removed from Bioconductor version 3.11 ** testing if installed package keeps a record of temporary installation path * DONE (Genominator)