Back to Multiple platform build/check report for BioC 3.10 |
|
This page was generated on 2020-04-15 12:24:23 -0400 (Wed, 15 Apr 2020).
Package 746/1823 | Hostname | OS / Arch | INSTALL | BUILD | CHECK | BUILD BIN | ||||||
GreyListChIP 1.18.0 Gordon Brown
| malbec1 | Linux (Ubuntu 18.04.4 LTS) / x86_64 | OK | OK | OK | ![]() | ||||||
tokay1 | Windows Server 2012 R2 Standard / x64 | OK | OK | OK | [ OK ] | ![]() | ||||||
merida1 | OS X 10.11.6 El Capitan / x86_64 | OK | OK | OK | OK | ![]() |
Package: GreyListChIP |
Version: 1.18.0 |
Command: rm -rf GreyListChIP.buildbin-libdir && mkdir GreyListChIP.buildbin-libdir && C:\Users\biocbuild\bbs-3.10-bioc\R\bin\R.exe CMD INSTALL --merge-multiarch --build --library=GreyListChIP.buildbin-libdir GreyListChIP_1.18.0.tar.gz |
StartedAt: 2020-04-15 08:53:46 -0400 (Wed, 15 Apr 2020) |
EndedAt: 2020-04-15 08:54:57 -0400 (Wed, 15 Apr 2020) |
EllapsedTime: 71.6 seconds |
RetCode: 0 |
Status: OK |
PackageFile: GreyListChIP_1.18.0.zip |
PackageFileSize: 685.6 KiB |
############################################################################## ############################################################################## ### ### Running command: ### ### rm -rf GreyListChIP.buildbin-libdir && mkdir GreyListChIP.buildbin-libdir && C:\Users\biocbuild\bbs-3.10-bioc\R\bin\R.exe CMD INSTALL --merge-multiarch --build --library=GreyListChIP.buildbin-libdir GreyListChIP_1.18.0.tar.gz ### ############################################################################## ############################################################################## install for i386 * installing *source* package 'GreyListChIP' ... ** using staged installation ** R ** data ** inst ** byte-compile and prepare package for lazy loading ** help *** installing help indices converting help for package 'GreyListChIP' finding HTML links ... done GreyList-class html finding level-2 HTML links ... done calcThreshold-methods html ce10.blacklist html countReads-methods html dm3.blacklist html getKaryotype-methods html grch37.blacklist html grch38.blacklist html greyList html greyListBS html hg19.blacklist html hg38.blacklist html loadKaryotype-methods html makeGreyList-methods html mm10.blacklist html mm9.blacklist html setRegions-methods html ** building package indices ** installing vignettes ** testing if installed package can be loaded from temporary location ** testing if installed package can be loaded from final location ** testing if installed package keeps a record of temporary installation path install for x64 * installing *source* package 'GreyListChIP' ... ** testing if installed package can be loaded * MD5 sums packaged installation of 'GreyListChIP' as GreyListChIP_1.18.0.zip * DONE (GreyListChIP)