Back to Multiple platform build/check report for BioC 3.10 |
|
This page was generated on 2020-04-15 12:21:02 -0400 (Wed, 15 Apr 2020).
Package 797/1823 | Hostname | OS / Arch | INSTALL | BUILD | CHECK | BUILD BIN | ||||||
HMMcopy 1.28.1 Daniel Lai
| malbec1 | Linux (Ubuntu 18.04.4 LTS) / x86_64 | OK | OK | OK | |||||||
tokay1 | Windows Server 2012 R2 Standard / x64 | [ OK ] | OK | OK | OK | |||||||
merida1 | OS X 10.11.6 El Capitan / x86_64 | OK | OK | OK | OK |
Package: HMMcopy |
Version: 1.28.1 |
Command: C:\cygwin\bin\curl.exe -O https://malbec1.bioconductor.org/BBS/3.10/bioc/src/contrib/HMMcopy_1.28.1.tar.gz && rm -rf HMMcopy.buildbin-libdir && mkdir HMMcopy.buildbin-libdir && C:\Users\biocbuild\bbs-3.10-bioc\R\bin\R.exe CMD INSTALL --merge-multiarch --build --library=HMMcopy.buildbin-libdir HMMcopy_1.28.1.tar.gz && C:\Users\biocbuild\bbs-3.10-bioc\R\bin\R.exe CMD INSTALL HMMcopy_1.28.1.zip && rm HMMcopy_1.28.1.tar.gz HMMcopy_1.28.1.zip |
StartedAt: 2020-04-14 18:41:09 -0400 (Tue, 14 Apr 2020) |
EndedAt: 2020-04-14 18:41:32 -0400 (Tue, 14 Apr 2020) |
EllapsedTime: 23.5 seconds |
RetCode: 0 |
Status: OK |
############################################################################## ############################################################################## ### ### Running command: ### ### C:\cygwin\bin\curl.exe -O https://malbec1.bioconductor.org/BBS/3.10/bioc/src/contrib/HMMcopy_1.28.1.tar.gz && rm -rf HMMcopy.buildbin-libdir && mkdir HMMcopy.buildbin-libdir && C:\Users\biocbuild\bbs-3.10-bioc\R\bin\R.exe CMD INSTALL --merge-multiarch --build --library=HMMcopy.buildbin-libdir HMMcopy_1.28.1.tar.gz && C:\Users\biocbuild\bbs-3.10-bioc\R\bin\R.exe CMD INSTALL HMMcopy_1.28.1.zip && rm HMMcopy_1.28.1.tar.gz HMMcopy_1.28.1.zip ### ############################################################################## ############################################################################## % Total % Received % Xferd Average Speed Time Time Time Current Dload Upload Total Spent Left Speed 0 0 0 0 0 0 0 0 --:--:-- --:--:-- --:--:-- 0 100 587k 100 587k 0 0 15.9M 0 --:--:-- --:--:-- --:--:-- 17.3M install for i386 * installing *source* package 'HMMcopy' ... ** using staged installation ** libs C:/Rtools/mingw_32/bin/gcc -I"C:/Users/BIOCBU~1/BBS-3~1.10-/R/include" -DNDEBUG -I"C:/extsoft/include" -O3 -Wall -std=gnu99 -mtune=core2 -c forward_backward.c -o forward_backward.o forward_backward.c: In function 'forward_backward': forward_backward.c:28:13: warning: unused variable 'tmp' [-Wunused-variable] int K, T, tmp; ^ C:/Rtools/mingw_32/bin/gcc -I"C:/Users/BIOCBU~1/BBS-3~1.10-/R/include" -DNDEBUG -I"C:/extsoft/include" -O3 -Wall -std=gnu99 -mtune=core2 -c register.c -o register.o C:/Rtools/mingw_32/bin/gcc -I"C:/Users/BIOCBU~1/BBS-3~1.10-/R/include" -DNDEBUG -I"C:/extsoft/include" -O3 -Wall -std=gnu99 -mtune=core2 -c viterbi.c -o viterbi.o viterbi.c: In function 'viterbi': viterbi.c:21:13: warning: unused variable 'tmp' [-Wunused-variable] int K, T, tmp; ^ C:/Rtools/mingw_32/bin/gcc -shared -s -static-libgcc -o HMMcopy.dll tmp.def forward_backward.o register.o viterbi.o -LC:/extsoft/lib/i386 -LC:/extsoft/lib -LC:/Users/BIOCBU~1/BBS-3~1.10-/R/bin/i386 -lR installing to C:/Users/biocbuild/bbs-3.10-bioc/meat/HMMcopy.buildbin-libdir/00LOCK-HMMcopy/00new/HMMcopy/libs/i386 ** R ** data ** inst ** byte-compile and prepare package for lazy loading ** help *** installing help indices converting help for package 'HMMcopy' finding HTML links ... done HMMcopy-dataset html HMMcopy-input html HMMcopy-internal html HMMcopy-output html HMMcopy-package html HMMcopy-visualize html HMMsegment html correctReadcount html wigsToRangedData html ** building package indices ** installing vignettes ** testing if installed package can be loaded from temporary location ** testing if installed package can be loaded from final location ** testing if installed package keeps a record of temporary installation path install for x64 * installing *source* package 'HMMcopy' ... ** libs C:/Rtools/mingw_64/bin/gcc -I"C:/Users/BIOCBU~1/BBS-3~1.10-/R/include" -DNDEBUG -I"C:/extsoft/include" -O2 -Wall -std=gnu99 -mtune=core2 -c forward_backward.c -o forward_backward.o forward_backward.c: In function 'forward_backward': forward_backward.c:28:13: warning: unused variable 'tmp' [-Wunused-variable] int K, T, tmp; ^ C:/Rtools/mingw_64/bin/gcc -I"C:/Users/BIOCBU~1/BBS-3~1.10-/R/include" -DNDEBUG -I"C:/extsoft/include" -O2 -Wall -std=gnu99 -mtune=core2 -c register.c -o register.o C:/Rtools/mingw_64/bin/gcc -I"C:/Users/BIOCBU~1/BBS-3~1.10-/R/include" -DNDEBUG -I"C:/extsoft/include" -O2 -Wall -std=gnu99 -mtune=core2 -c viterbi.c -o viterbi.o viterbi.c: In function 'viterbi': viterbi.c:21:13: warning: unused variable 'tmp' [-Wunused-variable] int K, T, tmp; ^ C:/Rtools/mingw_64/bin/gcc -shared -s -static-libgcc -o HMMcopy.dll tmp.def forward_backward.o register.o viterbi.o -LC:/extsoft/lib/x64 -LC:/extsoft/lib -LC:/Users/BIOCBU~1/BBS-3~1.10-/R/bin/x64 -lR installing to C:/Users/biocbuild/bbs-3.10-bioc/meat/HMMcopy.buildbin-libdir/HMMcopy/libs/x64 ** testing if installed package can be loaded * MD5 sums packaged installation of 'HMMcopy' as HMMcopy_1.28.1.zip * DONE (HMMcopy) * installing to library 'C:/Users/biocbuild/bbs-3.10-bioc/R/library' package 'HMMcopy' successfully unpacked and MD5 sums checked