Back to Multiple platform build/check report for BioC 3.10 |
|
This page was generated on 2020-04-15 12:17:36 -0400 (Wed, 15 Apr 2020).
Package 777/1823 | Hostname | OS / Arch | INSTALL | BUILD | CHECK | BUILD BIN | ||||||
Heatplus 2.32.1 Alexander Ploner
| malbec1 | Linux (Ubuntu 18.04.4 LTS) / x86_64 | OK | OK | OK | |||||||
tokay1 | Windows Server 2012 R2 Standard / x64 | [ OK ] | OK | OK | OK | |||||||
merida1 | OS X 10.11.6 El Capitan / x86_64 | OK | OK | OK | OK |
Package: Heatplus |
Version: 2.32.1 |
Command: C:\cygwin\bin\curl.exe -O https://malbec1.bioconductor.org/BBS/3.10/bioc/src/contrib/Heatplus_2.32.1.tar.gz && rm -rf Heatplus.buildbin-libdir && mkdir Heatplus.buildbin-libdir && C:\Users\biocbuild\bbs-3.10-bioc\R\bin\R.exe CMD INSTALL --merge-multiarch --build --library=Heatplus.buildbin-libdir Heatplus_2.32.1.tar.gz && C:\Users\biocbuild\bbs-3.10-bioc\R\bin\R.exe CMD INSTALL Heatplus_2.32.1.zip && rm Heatplus_2.32.1.tar.gz Heatplus_2.32.1.zip |
StartedAt: 2020-04-14 18:31:25 -0400 (Tue, 14 Apr 2020) |
EndedAt: 2020-04-14 18:31:56 -0400 (Tue, 14 Apr 2020) |
EllapsedTime: 31.5 seconds |
RetCode: 0 |
Status: OK |
############################################################################## ############################################################################## ### ### Running command: ### ### C:\cygwin\bin\curl.exe -O https://malbec1.bioconductor.org/BBS/3.10/bioc/src/contrib/Heatplus_2.32.1.tar.gz && rm -rf Heatplus.buildbin-libdir && mkdir Heatplus.buildbin-libdir && C:\Users\biocbuild\bbs-3.10-bioc\R\bin\R.exe CMD INSTALL --merge-multiarch --build --library=Heatplus.buildbin-libdir Heatplus_2.32.1.tar.gz && C:\Users\biocbuild\bbs-3.10-bioc\R\bin\R.exe CMD INSTALL Heatplus_2.32.1.zip && rm Heatplus_2.32.1.tar.gz Heatplus_2.32.1.zip ### ############################################################################## ############################################################################## % Total % Received % Xferd Average Speed Time Time Time Current Dload Upload Total Spent Left Speed 0 0 0 0 0 0 0 0 --:--:-- --:--:-- --:--:-- 0 100 47269 100 47269 0 0 1348k 0 --:--:-- --:--:-- --:--:-- 1538k install for i386 * installing *source* package 'Heatplus' ... ** using staged installation ** R ** byte-compile and prepare package for lazy loading ** help *** installing help indices converting help for package 'Heatplus' finding HTML links ... done BrewerClusterCol html finding level-2 HTML links ... done RGBColVec html Undocumented html annHeatmap html annHeatmap2 html breakColors html convAnnData html doLegend html g2r.colors html heatmapLayout html heatmap_2 html heatmap_plus html modifyExistingList html niceBreaks html oldCutplot.dendrogram html oldPicketplot html picketPlot html plot.annHeatmap html print.annHeatmap html regHeatmap html ** building package indices ** installing vignettes ** testing if installed package can be loaded from temporary location ** testing if installed package can be loaded from final location ** testing if installed package keeps a record of temporary installation path install for x64 * installing *source* package 'Heatplus' ... ** testing if installed package can be loaded * MD5 sums packaged installation of 'Heatplus' as Heatplus_2.32.1.zip * DONE (Heatplus) * installing to library 'C:/Users/biocbuild/bbs-3.10-bioc/R/library' package 'Heatplus' successfully unpacked and MD5 sums checked