Back to Multiple platform build/check report for BioC 3.10 |
|
This page was generated on 2019-07-22 12:18:35 -0400 (Mon, 22 Jul 2019).
Package 774/1746 | Hostname | OS / Arch | INSTALL | BUILD | CHECK | BUILD BIN | ||||||
HumanTranscriptomeCompendium 1.1.2 VJ Carey
| malbec1 | Linux (Ubuntu 18.04.2 LTS) / x86_64 | OK | OK | OK | ![]() | ||||||
tokay1 | Windows Server 2012 R2 Standard / x64 | OK | OK | OK | [ OK ] | ![]() | ||||||
merida1 | OS X 10.11.6 El Capitan / x86_64 | OK | OK | OK | OK | ![]() |
Package: HumanTranscriptomeCompendium |
Version: 1.1.2 |
Command: rm -rf HumanTranscriptomeCompendium.buildbin-libdir && mkdir HumanTranscriptomeCompendium.buildbin-libdir && C:\Users\biocbuild\bbs-3.10-bioc\R\bin\R.exe CMD INSTALL --merge-multiarch --build --library=HumanTranscriptomeCompendium.buildbin-libdir HumanTranscriptomeCompendium_1.1.2.tar.gz |
StartedAt: 2019-07-22 07:18:33 -0400 (Mon, 22 Jul 2019) |
EndedAt: 2019-07-22 07:19:21 -0400 (Mon, 22 Jul 2019) |
EllapsedTime: 47.4 seconds |
RetCode: 0 |
Status: OK |
PackageFile: HumanTranscriptomeCompendium_1.1.2.zip |
PackageFileSize: 2.051 MiB |
############################################################################## ############################################################################## ### ### Running command: ### ### rm -rf HumanTranscriptomeCompendium.buildbin-libdir && mkdir HumanTranscriptomeCompendium.buildbin-libdir && C:\Users\biocbuild\bbs-3.10-bioc\R\bin\R.exe CMD INSTALL --merge-multiarch --build --library=HumanTranscriptomeCompendium.buildbin-libdir HumanTranscriptomeCompendium_1.1.2.tar.gz ### ############################################################################## ############################################################################## install for i386 * installing *source* package 'HumanTranscriptomeCompendium' ... ** using staged installation ** R ** data *** moving datasets to lazyload DB ** inst ** byte-compile and prepare package for lazy loading ** help *** installing help indices converting help for package 'HumanTranscriptomeCompendium' finding HTML links ... done HumanTranscriptomeCompendium.colnames html addRD html ca43k html get_ds4841 html htx_app html htx_load html htx_query_by_study_accession html htx_query_by_text html load_bigrnaFiles html load_experTable html load_studTable html path_doc4842 html procExpToGene html tx2gene_gencode27 html uniqueAcc_120518 html ** building package indices ** installing vignettes ** testing if installed package can be loaded from temporary location ** testing if installed package can be loaded from final location ** testing if installed package keeps a record of temporary installation path install for x64 * installing *source* package 'HumanTranscriptomeCompendium' ... ** using non-staged installation ** testing if installed package can be loaded * MD5 sums packaged installation of 'HumanTranscriptomeCompendium' as HumanTranscriptomeCompendium_1.1.2.zip * DONE (HumanTranscriptomeCompendium)