Back to Multiple platform build/check report for BioC 3.10 |
|
This page was generated on 2020-04-15 12:26:36 -0400 (Wed, 15 Apr 2020).
Package 851/1823 | Hostname | OS / Arch | INSTALL | BUILD | CHECK | BUILD BIN | ||||||
InteractionSet 1.14.0 Aaron Lun
| malbec1 | Linux (Ubuntu 18.04.4 LTS) / x86_64 | OK | OK | OK | ![]() | ||||||
tokay1 | Windows Server 2012 R2 Standard / x64 | OK | OK | WARNINGS | [ OK ] | ![]() | ||||||
merida1 | OS X 10.11.6 El Capitan / x86_64 | OK | OK | OK | OK | ![]() |
Package: InteractionSet |
Version: 1.14.0 |
Command: rm -rf InteractionSet.buildbin-libdir && mkdir InteractionSet.buildbin-libdir && C:\Users\biocbuild\bbs-3.10-bioc\R\bin\R.exe CMD INSTALL --merge-multiarch --build --library=InteractionSet.buildbin-libdir InteractionSet_1.14.0.tar.gz |
StartedAt: 2020-04-15 08:59:27 -0400 (Wed, 15 Apr 2020) |
EndedAt: 2020-04-15 09:00:50 -0400 (Wed, 15 Apr 2020) |
EllapsedTime: 83.0 seconds |
RetCode: 0 |
Status: OK |
PackageFile: InteractionSet_1.14.0.zip |
PackageFileSize: 1.799 MiB |
############################################################################## ############################################################################## ### ### Running command: ### ### rm -rf InteractionSet.buildbin-libdir && mkdir InteractionSet.buildbin-libdir && C:\Users\biocbuild\bbs-3.10-bioc\R\bin\R.exe CMD INSTALL --merge-multiarch --build --library=InteractionSet.buildbin-libdir InteractionSet_1.14.0.tar.gz ### ############################################################################## ############################################################################## install for i386 * installing *source* package 'InteractionSet' ... ** using staged installation ** libs C:/Rtools/mingw_32/bin/g++ -std=gnu++11 -I"C:/Users/BIOCBU~1/BBS-3~1.10-/R/include" -DNDEBUG -I"C:/Users/biocbuild/bbs-3.10-bioc/R/library/Rcpp/include" -I"C:/extsoft/include" -O2 -Wall -mtune=core2 -c box_bounds.cpp -o box_bounds.o box_bounds.cpp: In function 'SEXPREC* get_box_bounds(SEXP, SEXP, SEXP, SEXP, SEXP, SEXP)': box_bounds.cpp:10:13: warning: comparison between signed and unsigned integer expressions [-Wsign-compare] if (npts!=Adex.size()) { ^ C:/Rtools/mingw_32/bin/g++ -std=gnu++11 -I"C:/Users/BIOCBU~1/BBS-3~1.10-/R/include" -DNDEBUG -I"C:/Users/biocbuild/bbs-3.10-bioc/R/library/Rcpp/include" -I"C:/extsoft/include" -O2 -Wall -mtune=core2 -c detect_overlaps.cpp -o detect_overlaps.o C:/Rtools/mingw_32/bin/g++ -std=gnu++11 -I"C:/Users/BIOCBU~1/BBS-3~1.10-/R/include" -DNDEBUG -I"C:/Users/biocbuild/bbs-3.10-bioc/R/library/Rcpp/include" -I"C:/extsoft/include" -O2 -Wall -mtune=core2 -c init.cpp -o init.o C:/Rtools/mingw_32/bin/g++ -std=gnu++11 -I"C:/Users/BIOCBU~1/BBS-3~1.10-/R/include" -DNDEBUG -I"C:/Users/biocbuild/bbs-3.10-bioc/R/library/Rcpp/include" -I"C:/extsoft/include" -O2 -Wall -mtune=core2 -c link_overlaps.cpp -o link_overlaps.o C:/Rtools/mingw_32/bin/g++ -std=gnu++11 -I"C:/Users/BIOCBU~1/BBS-3~1.10-/R/include" -DNDEBUG -I"C:/Users/biocbuild/bbs-3.10-bioc/R/library/Rcpp/include" -I"C:/extsoft/include" -O2 -Wall -mtune=core2 -c overlap_utils.cpp -o overlap_utils.o C:/Rtools/mingw_32/bin/g++ -shared -s -static-libgcc -o InteractionSet.dll tmp.def box_bounds.o detect_overlaps.o init.o link_overlaps.o overlap_utils.o -LC:/extsoft/lib/i386 -LC:/extsoft/lib -LC:/Users/BIOCBU~1/BBS-3~1.10-/R/bin/i386 -lR installing to C:/Users/biocbuild/bbs-3.10-bioc/meat/InteractionSet.buildbin-libdir/00LOCK-InteractionSet/00new/InteractionSet/libs/i386 ** R ** inst ** byte-compile and prepare package for lazy loading ** help *** installing help indices converting help for package 'InteractionSet' finding HTML links ... done ContactMatrix-accessors html finding level-2 HTML links ... done ContactMatrix-class html Rd warning: C:/Users/biocbuild/bbs-3.10-bioc/tmpdir/RtmpCIofLH/R.INSTALL17584e9f5bcc/InteractionSet/man/ContactMatrix-class.Rd:42: file link 'Annotated' in package 'S4Vectors' does not exist and so has been treated as a topic Rd warning: C:/Users/biocbuild/bbs-3.10-bioc/tmpdir/RtmpCIofLH/R.INSTALL17584e9f5bcc/InteractionSet/man/ContactMatrix-class.Rd:51: file link 'Annotated' in package 'S4Vectors' does not exist and so has been treated as a topic ContactMatrix-distances html ContactMatrix-overlaps html Rd warning: C:/Users/biocbuild/bbs-3.10-bioc/tmpdir/RtmpCIofLH/R.INSTALL17584e9f5bcc/InteractionSet/man/ContactMatrix-overlaps.Rd:33: file link 'findOverlaps' in package 'GenomicRanges' does not exist and so has been treated as a topic Rd warning: C:/Users/biocbuild/bbs-3.10-bioc/tmpdir/RtmpCIofLH/R.INSTALL17584e9f5bcc/InteractionSet/man/ContactMatrix-overlaps.Rd:37: file link 'findOverlaps' in package 'GenomicRanges' does not exist and so has been treated as a topic Rd warning: C:/Users/biocbuild/bbs-3.10-bioc/tmpdir/RtmpCIofLH/R.INSTALL17584e9f5bcc/InteractionSet/man/ContactMatrix-overlaps.Rd:100: file link 'findOverlaps' in package 'GenomicRanges' does not exist and so has been treated as a topic ContactMatrix-sorting html ContactMatrix-subset html GInteractions-class html InteractionSet-class html boundingBox html conversion html distances html granges-methods html interaction-accessors html Rd warning: C:/Users/biocbuild/bbs-3.10-bioc/tmpdir/RtmpCIofLH/R.INSTALL17584e9f5bcc/InteractionSet/man/interaction-accessors.Rd:174: file link 'mcols' in package 'S4Vectors' does not exist and so has been treated as a topic interaction-bind html interaction-compare html Rd warning: C:/Users/biocbuild/bbs-3.10-bioc/tmpdir/RtmpCIofLH/R.INSTALL17584e9f5bcc/InteractionSet/man/interaction-compare.Rd:216: file link 'pcompare' in package 'S4Vectors' does not exist and so has been treated as a topic interaction-subset html linearize html linkOverlaps html Rd warning: C:/Users/biocbuild/bbs-3.10-bioc/tmpdir/RtmpCIofLH/R.INSTALL17584e9f5bcc/InteractionSet/man/linkOverlaps.Rd:32: file link 'findOverlaps' in package 'GenomicRanges' does not exist and so has been treated as a topic Rd warning: C:/Users/biocbuild/bbs-3.10-bioc/tmpdir/RtmpCIofLH/R.INSTALL17584e9f5bcc/InteractionSet/man/linkOverlaps.Rd:63: file link 'findOverlaps' in package 'GenomicRanges' does not exist and so has been treated as a topic overlaps html Rd warning: C:/Users/biocbuild/bbs-3.10-bioc/tmpdir/RtmpCIofLH/R.INSTALL17584e9f5bcc/InteractionSet/man/overlaps.Rd:92: file link 'findOverlaps' in package 'GenomicRanges' does not exist and so has been treated as a topic Rd warning: C:/Users/biocbuild/bbs-3.10-bioc/tmpdir/RtmpCIofLH/R.INSTALL17584e9f5bcc/InteractionSet/man/overlaps.Rd:97: file link 'findOverlaps' in package 'GenomicRanges' does not exist and so has been treated as a topic Rd warning: C:/Users/biocbuild/bbs-3.10-bioc/tmpdir/RtmpCIofLH/R.INSTALL17584e9f5bcc/InteractionSet/man/overlaps.Rd:100: file link 'findOverlaps' in package 'GenomicRanges' does not exist and so has been treated as a topic Rd warning: C:/Users/biocbuild/bbs-3.10-bioc/tmpdir/RtmpCIofLH/R.INSTALL17584e9f5bcc/InteractionSet/man/overlaps.Rd:131: file link 'findOverlaps' in package 'GenomicRanges' does not exist and so has been treated as a topic Rd warning: C:/Users/biocbuild/bbs-3.10-bioc/tmpdir/RtmpCIofLH/R.INSTALL17584e9f5bcc/InteractionSet/man/overlaps.Rd:244: file link 'findOverlaps' in package 'GenomicRanges' does not exist and so has been treated as a topic pairs html ** building package indices ** installing vignettes ** testing if installed package can be loaded from temporary location ** testing if installed package can be loaded from final location ** testing if installed package keeps a record of temporary installation path install for x64 * installing *source* package 'InteractionSet' ... ** libs C:/Rtools/mingw_64/bin/g++ -std=gnu++11 -I"C:/Users/BIOCBU~1/BBS-3~1.10-/R/include" -DNDEBUG -I"C:/Users/biocbuild/bbs-3.10-bioc/R/library/Rcpp/include" -I"C:/extsoft/include" -O2 -Wall -mtune=core2 -c box_bounds.cpp -o box_bounds.o box_bounds.cpp: In function 'SEXPREC* get_box_bounds(SEXP, SEXP, SEXP, SEXP, SEXP, SEXP)': box_bounds.cpp:10:13: warning: comparison between signed and unsigned integer expressions [-Wsign-compare] if (npts!=Adex.size()) { ^ C:/Rtools/mingw_64/bin/g++ -std=gnu++11 -I"C:/Users/BIOCBU~1/BBS-3~1.10-/R/include" -DNDEBUG -I"C:/Users/biocbuild/bbs-3.10-bioc/R/library/Rcpp/include" -I"C:/extsoft/include" -O2 -Wall -mtune=core2 -c detect_overlaps.cpp -o detect_overlaps.o C:/Rtools/mingw_64/bin/g++ -std=gnu++11 -I"C:/Users/BIOCBU~1/BBS-3~1.10-/R/include" -DNDEBUG -I"C:/Users/biocbuild/bbs-3.10-bioc/R/library/Rcpp/include" -I"C:/extsoft/include" -O2 -Wall -mtune=core2 -c init.cpp -o init.o C:/Rtools/mingw_64/bin/g++ -std=gnu++11 -I"C:/Users/BIOCBU~1/BBS-3~1.10-/R/include" -DNDEBUG -I"C:/Users/biocbuild/bbs-3.10-bioc/R/library/Rcpp/include" -I"C:/extsoft/include" -O2 -Wall -mtune=core2 -c link_overlaps.cpp -o link_overlaps.o C:/Rtools/mingw_64/bin/g++ -std=gnu++11 -I"C:/Users/BIOCBU~1/BBS-3~1.10-/R/include" -DNDEBUG -I"C:/Users/biocbuild/bbs-3.10-bioc/R/library/Rcpp/include" -I"C:/extsoft/include" -O2 -Wall -mtune=core2 -c overlap_utils.cpp -o overlap_utils.o C:/Rtools/mingw_64/bin/g++ -shared -s -static-libgcc -o InteractionSet.dll tmp.def box_bounds.o detect_overlaps.o init.o link_overlaps.o overlap_utils.o -LC:/extsoft/lib/x64 -LC:/extsoft/lib -LC:/Users/BIOCBU~1/BBS-3~1.10-/R/bin/x64 -lR installing to C:/Users/biocbuild/bbs-3.10-bioc/meat/InteractionSet.buildbin-libdir/InteractionSet/libs/x64 ** testing if installed package can be loaded * MD5 sums packaged installation of 'InteractionSet' as InteractionSet_1.14.0.zip * DONE (InteractionSet)