Back to Multiple platform build/check report for BioC 3.10 |
|
This page was generated on 2020-04-15 12:07:26 -0400 (Wed, 15 Apr 2020).
Package 890/1823 | Hostname | OS / Arch | INSTALL | BUILD | CHECK | BUILD BIN | ||||||
KEGGREST 1.26.1 Bioconductor Package Maintainer
| malbec1 | Linux (Ubuntu 18.04.4 LTS) / x86_64 | OK | OK | [ OK ] | |||||||
tokay1 | Windows Server 2012 R2 Standard / x64 | OK | OK | OK | OK | |||||||
merida1 | OS X 10.11.6 El Capitan / x86_64 | OK | OK | OK | OK |
Package: KEGGREST |
Version: 1.26.1 |
Command: /home/biocbuild/bbs-3.10-bioc/R/bin/R CMD check --install=check:KEGGREST.install-out.txt --library=/home/biocbuild/bbs-3.10-bioc/R/library --no-vignettes --timings KEGGREST_1.26.1.tar.gz |
StartedAt: 2020-04-15 01:33:26 -0400 (Wed, 15 Apr 2020) |
EndedAt: 2020-04-15 01:36:14 -0400 (Wed, 15 Apr 2020) |
EllapsedTime: 168.6 seconds |
RetCode: 0 |
Status: OK |
CheckDir: KEGGREST.Rcheck |
Warnings: 0 |
############################################################################## ############################################################################## ### ### Running command: ### ### /home/biocbuild/bbs-3.10-bioc/R/bin/R CMD check --install=check:KEGGREST.install-out.txt --library=/home/biocbuild/bbs-3.10-bioc/R/library --no-vignettes --timings KEGGREST_1.26.1.tar.gz ### ############################################################################## ############################################################################## * using log directory ‘/home/biocbuild/bbs-3.10-bioc/meat/KEGGREST.Rcheck’ * using R version 3.6.3 (2020-02-29) * using platform: x86_64-pc-linux-gnu (64-bit) * using session charset: UTF-8 * using option ‘--no-vignettes’ * checking for file ‘KEGGREST/DESCRIPTION’ ... OK * this is package ‘KEGGREST’ version ‘1.26.1’ * checking package namespace information ... OK * checking package dependencies ... OK * checking if this is a source package ... OK * checking if there is a namespace ... OK * checking for hidden files and directories ... OK * checking for portable file names ... OK * checking for sufficient/correct file permissions ... OK * checking whether package ‘KEGGREST’ can be installed ... OK * checking installed package size ... OK * checking package directory ... OK * checking ‘build’ directory ... OK * checking DESCRIPTION meta-information ... OK * checking top-level files ... OK * checking for left-over files ... OK * checking index information ... OK * checking package subdirectories ... OK * checking R files for non-ASCII characters ... OK * checking R files for syntax errors ... OK * checking whether the package can be loaded ... OK * checking whether the package can be loaded with stated dependencies ... OK * checking whether the package can be unloaded cleanly ... OK * checking whether the namespace can be loaded with stated dependencies ... OK * checking whether the namespace can be unloaded cleanly ... OK * checking dependencies in R code ... NOTE Unexported object imported by a ':::' call: ‘BiocGenerics:::testPackage’ See the note in ?`:::` about the use of this operator. * checking S3 generic/method consistency ... OK * checking replacement functions ... OK * checking foreign function calls ... OK * checking R code for possible problems ... OK * checking Rd files ... OK * checking Rd metadata ... OK * checking Rd cross-references ... OK * checking for missing documentation entries ... OK * checking for code/documentation mismatches ... OK * checking Rd \usage sections ... OK * checking Rd contents ... OK * checking for unstated dependencies in examples ... OK * checking files in ‘vignettes’ ... OK * checking examples ... OK Examples with CPU or elapsed time > 5s user system elapsed keggLink 0.592 0.000 5.685 keggList 0.516 0.016 11.840 listDatabases 0.424 0.008 8.558 * checking for unstated dependencies in ‘tests’ ... OK * checking tests ... Running ‘KEGGREST_unit_tests.R’ OK * checking for unstated dependencies in vignettes ... OK * checking package vignettes in ‘inst/doc’ ... OK * checking running R code from vignettes ... SKIPPED * checking re-building of vignette outputs ... SKIPPED * checking PDF version of manual ... OK * DONE Status: 1 NOTE See ‘/home/biocbuild/bbs-3.10-bioc/meat/KEGGREST.Rcheck/00check.log’ for details.
KEGGREST.Rcheck/00install.out
############################################################################## ############################################################################## ### ### Running command: ### ### /home/biocbuild/bbs-3.10-bioc/R/bin/R CMD INSTALL KEGGREST ### ############################################################################## ############################################################################## * installing to library ‘/home/biocbuild/bbs-3.10-bioc/R/library’ * installing *source* package ‘KEGGREST’ ... ** using staged installation ** R ** inst ** byte-compile and prepare package for lazy loading ** help *** installing help indices ** building package indices ** installing vignettes ** testing if installed package can be loaded from temporary location ** testing if installed package can be loaded from final location ** testing if installed package keeps a record of temporary installation path * DONE (KEGGREST)
KEGGREST.Rcheck/tests/KEGGREST_unit_tests.Rout
R version 3.6.3 (2020-02-29) -- "Holding the Windsock" Copyright (C) 2020 The R Foundation for Statistical Computing Platform: x86_64-pc-linux-gnu (64-bit) R is free software and comes with ABSOLUTELY NO WARRANTY. You are welcome to redistribute it under certain conditions. Type 'license()' or 'licence()' for distribution details. R is a collaborative project with many contributors. Type 'contributors()' for more information and 'citation()' on how to cite R or R packages in publications. Type 'demo()' for some demos, 'help()' for on-line help, or 'help.start()' for an HTML browser interface to help. Type 'q()' to quit R. > BiocGenerics:::testPackage("KEGGREST") No encoding supplied: defaulting to UTF-8. RUNIT TEST PROTOCOL -- Wed Apr 15 01:36:11 2020 *********************************************** Number of test functions: 11 Number of errors: 0 Number of failures: 0 1 Test Suite : KEGGREST RUnit Tests - 11 test functions, 0 errors, 0 failures Number of test functions: 11 Number of errors: 0 Number of failures: 0 > > proc.time() user system elapsed 13.324 0.184 61.677
KEGGREST.Rcheck/KEGGREST-Ex.timings
name | user | system | elapsed | |
keggConv | 0.288 | 0.020 | 3.346 | |
keggFind | 0.080 | 0.004 | 2.311 | |
keggGet | 1.536 | 0.076 | 3.166 | |
keggInfo | 0.032 | 0.000 | 1.409 | |
keggLink | 0.592 | 0.000 | 5.685 | |
keggList | 0.516 | 0.016 | 11.840 | |
listDatabases | 0.424 | 0.008 | 8.558 | |
mark.pathway.by.objects | 0.412 | 0.008 | 4.941 | |