Back to Multiple platform build/check report for BioC 3.10 |
|
This page was generated on 2020-04-15 12:17:22 -0400 (Wed, 15 Apr 2020).
Package 913/1823 | Hostname | OS / Arch | INSTALL | BUILD | CHECK | BUILD BIN | ||||||
LMGene 2.42.0 Blythe Durbin-Johnson
| malbec1 | Linux (Ubuntu 18.04.4 LTS) / x86_64 | OK | OK | OK | |||||||
tokay1 | Windows Server 2012 R2 Standard / x64 | OK | OK | OK | [ OK ] | |||||||
merida1 | OS X 10.11.6 El Capitan / x86_64 | OK | OK | OK | OK |
Package: LMGene |
Version: 2.42.0 |
Command: rm -rf LMGene.buildbin-libdir && mkdir LMGene.buildbin-libdir && C:\Users\biocbuild\bbs-3.10-bioc\R\bin\R.exe CMD INSTALL --merge-multiarch --build --library=LMGene.buildbin-libdir LMGene_2.42.0.tar.gz |
StartedAt: 2020-04-15 09:03:00 -0400 (Wed, 15 Apr 2020) |
EndedAt: 2020-04-15 09:03:45 -0400 (Wed, 15 Apr 2020) |
EllapsedTime: 44.6 seconds |
RetCode: 0 |
Status: OK |
PackageFile: LMGene_2.42.0.zip |
PackageFileSize: 390.7 KiB |
############################################################################## ############################################################################## ### ### Running command: ### ### rm -rf LMGene.buildbin-libdir && mkdir LMGene.buildbin-libdir && C:\Users\biocbuild\bbs-3.10-bioc\R\bin\R.exe CMD INSTALL --merge-multiarch --build --library=LMGene.buildbin-libdir LMGene_2.42.0.tar.gz ### ############################################################################## ############################################################################## install for i386 * installing *source* package 'LMGene' ... ** using staged installation ** R ** data ** inst ** byte-compile and prepare package for lazy loading ** help *** installing help indices converting help for package 'LMGene' finding HTML links ... done LMGene html genediff html glog html lnorm html lnormeS html neweS html norm html plotMeanSD html psmeans html pvadjust html rowaov html sample.eS html sample.ind html sample.mat html tranest html tranestAffyProbeLevel html transeS html vlist html ** building package indices ** installing vignettes ** testing if installed package can be loaded from temporary location ** testing if installed package can be loaded from final location ** testing if installed package keeps a record of temporary installation path install for x64 * installing *source* package 'LMGene' ... ** testing if installed package can be loaded * MD5 sums packaged installation of 'LMGene' as LMGene_2.42.0.zip * DONE (LMGene)