Back to Multiple platform build/check report for BioC 3.10 |
|
This page was generated on 2020-04-15 12:46:33 -0400 (Wed, 15 Apr 2020).
Package 906/1823 | Hostname | OS / Arch | INSTALL | BUILD | CHECK | BUILD BIN | ||||||
LineagePulse 1.6.0 David S Fischer
| malbec1 | Linux (Ubuntu 18.04.4 LTS) / x86_64 | OK | OK | WARNINGS | |||||||
tokay1 | Windows Server 2012 R2 Standard / x64 | OK | OK | WARNINGS | OK | |||||||
merida1 | OS X 10.11.6 El Capitan / x86_64 | OK | OK | WARNINGS | [ OK ] |
Package: LineagePulse |
Version: 1.6.0 |
Command: rm -rf LineagePulse.buildbin-libdir && mkdir LineagePulse.buildbin-libdir && /Users/biocbuild/BBS/utils/build-universal.sh LineagePulse_1.6.0.tar.gz /Library/Frameworks/R.framework/Versions/Current/Resources/bin/R LineagePulse.buildbin-libdir |
StartedAt: 2020-04-15 07:52:44 -0400 (Wed, 15 Apr 2020) |
EndedAt: 2020-04-15 07:53:41 -0400 (Wed, 15 Apr 2020) |
EllapsedTime: 57.2 seconds |
RetCode: 0 |
Status: OK |
PackageFile: LineagePulse_1.6.0.tgz |
PackageFileSize: 704.3 KiB |
############################################################################## ############################################################################## ### ### Running command: ### ### rm -rf LineagePulse.buildbin-libdir && mkdir LineagePulse.buildbin-libdir && /Users/biocbuild/BBS/utils/build-universal.sh LineagePulse_1.6.0.tar.gz /Library/Frameworks/R.framework/Versions/Current/Resources/bin/R LineagePulse.buildbin-libdir ### ############################################################################## ############################################################################## >>>>>>> >>>>>>> INSTALLATION WITH 'R CMD INSTALL --preclean --no-multiarch --library=LineagePulse.buildbin-libdir LineagePulse_1.6.0.tar.gz' >>>>>>> * installing *source* package ‘LineagePulse’ ... ** using staged installation ** R ** inst ** byte-compile and prepare package for lazy loading Note: possible error in 'evalLogLikGeneMM(vecCounts = vecCounts, ': unused arguments (matDispParam = matDispParam, matDropParam = matDropParam, matWeights = matWeights) Note: possible error in 'evalLogLikGeneMM(vecCounts = vecCounts, ': unused arguments (matDispParam = do.call(cbind, lapply(seq_len(ncol(matWeights)), function(m) vecDispParam)), matDropParam = do.call(cbind, lapply(seq_len(ncol(matWeights)), function(m) vecPiParam)), matWeights = matWeights) ** help *** installing help indices ** building package indices ** installing vignettes ** testing if installed package can be loaded from temporary location ** testing if installed package can be loaded from final location ** testing if installed package keeps a record of temporary installation path * DONE (LineagePulse)