Back to Multiple platform build/check report for BioC 3.10 |
|
This page was generated on 2020-04-15 12:28:52 -0400 (Wed, 15 Apr 2020).
Package 931/1823 | Hostname | OS / Arch | INSTALL | BUILD | CHECK | BUILD BIN | ||||||
M3C 1.8.0 Christopher John
| malbec1 | Linux (Ubuntu 18.04.4 LTS) / x86_64 | OK | OK | OK | ![]() | ||||||
tokay1 | Windows Server 2012 R2 Standard / x64 | OK | OK | OK | [ OK ] | ![]() | ||||||
merida1 | OS X 10.11.6 El Capitan / x86_64 | OK | OK | OK | OK | ![]() |
Package: M3C |
Version: 1.8.0 |
Command: rm -rf M3C.buildbin-libdir && mkdir M3C.buildbin-libdir && C:\Users\biocbuild\bbs-3.10-bioc\R\bin\R.exe CMD INSTALL --merge-multiarch --build --library=M3C.buildbin-libdir M3C_1.8.0.tar.gz |
StartedAt: 2020-04-15 09:04:01 -0400 (Wed, 15 Apr 2020) |
EndedAt: 2020-04-15 09:04:49 -0400 (Wed, 15 Apr 2020) |
EllapsedTime: 47.6 seconds |
RetCode: 0 |
Status: OK |
PackageFile: M3C_1.8.0.zip |
PackageFileSize: 3.373 MiB |
############################################################################## ############################################################################## ### ### Running command: ### ### rm -rf M3C.buildbin-libdir && mkdir M3C.buildbin-libdir && C:\Users\biocbuild\bbs-3.10-bioc\R\bin\R.exe CMD INSTALL --merge-multiarch --build --library=M3C.buildbin-libdir M3C_1.8.0.tar.gz ### ############################################################################## ############################################################################## install for i386 * installing *source* package 'M3C' ... ** using staged installation ** R ** data *** moving datasets to lazyload DB ** inst ** byte-compile and prepare package for lazy loading ** help *** installing help indices converting help for package 'M3C' finding HTML links ... done M3C html clustersim html desx html featurefilter html mydata html pca html tsne html umap html ** building package indices ** installing vignettes ** testing if installed package can be loaded from temporary location ** testing if installed package can be loaded from final location ** testing if installed package keeps a record of temporary installation path install for x64 * installing *source* package 'M3C' ... ** testing if installed package can be loaded * MD5 sums packaged installation of 'M3C' as M3C_1.8.0.zip * DONE (M3C)