Back to Multiple platform build/check report for BioC 3.10 |
|
This page was generated on 2020-04-15 12:46:34 -0400 (Wed, 15 Apr 2020).
Package 943/1823 | Hostname | OS / Arch | INSTALL | BUILD | CHECK | BUILD BIN | ||||||
MAGeCKFlute 1.6.5 Wubing Zhang
| malbec1 | Linux (Ubuntu 18.04.4 LTS) / x86_64 | OK | OK | OK | ![]() | ||||||
tokay1 | Windows Server 2012 R2 Standard / x64 | OK | OK | OK | OK | ![]() | ||||||
merida1 | OS X 10.11.6 El Capitan / x86_64 | OK | OK | OK | [ OK ] | ![]() |
Package: MAGeCKFlute |
Version: 1.6.5 |
Command: rm -rf MAGeCKFlute.buildbin-libdir && mkdir MAGeCKFlute.buildbin-libdir && /Users/biocbuild/BBS/utils/build-universal.sh MAGeCKFlute_1.6.5.tar.gz /Library/Frameworks/R.framework/Versions/Current/Resources/bin/R MAGeCKFlute.buildbin-libdir |
StartedAt: 2020-04-15 07:55:31 -0400 (Wed, 15 Apr 2020) |
EndedAt: 2020-04-15 07:56:36 -0400 (Wed, 15 Apr 2020) |
EllapsedTime: 65.8 seconds |
RetCode: 0 |
Status: OK |
PackageFile: MAGeCKFlute_1.6.5.tgz |
PackageFileSize: 18.53 MiB |
############################################################################## ############################################################################## ### ### Running command: ### ### rm -rf MAGeCKFlute.buildbin-libdir && mkdir MAGeCKFlute.buildbin-libdir && /Users/biocbuild/BBS/utils/build-universal.sh MAGeCKFlute_1.6.5.tar.gz /Library/Frameworks/R.framework/Versions/Current/Resources/bin/R MAGeCKFlute.buildbin-libdir ### ############################################################################## ############################################################################## >>>>>>> >>>>>>> INSTALLATION WITH 'R CMD INSTALL --preclean --no-multiarch --library=MAGeCKFlute.buildbin-libdir MAGeCKFlute_1.6.5.tar.gz' >>>>>>> * installing *source* package ‘MAGeCKFlute’ ... ** using staged installation ** R ** data *** moving datasets to lazyload DB ** inst ** byte-compile and prepare package for lazy loading ** help *** installing help indices ** building package indices ** installing vignettes ** testing if installed package can be loaded from temporary location ** testing if installed package can be loaded from final location ** testing if installed package keeps a record of temporary installation path * DONE (MAGeCKFlute)