Back to Multiple platform build/check report for BioC 3.10 |
|
This page was generated on 2020-04-15 12:27:25 -0400 (Wed, 15 Apr 2020).
Package 961/1823 | Hostname | OS / Arch | INSTALL | BUILD | CHECK | BUILD BIN | ||||||
MAST 1.12.0 Andrew McDavid
| malbec1 | Linux (Ubuntu 18.04.4 LTS) / x86_64 | OK | OK | OK | |||||||
tokay1 | Windows Server 2012 R2 Standard / x64 | OK | [ OK ] | OK | OK | |||||||
merida1 | OS X 10.11.6 El Capitan / x86_64 | OK | OK | OK | OK |
Package: MAST |
Version: 1.12.0 |
Command: chmod a+r MAST -R && C:\Users\biocbuild\bbs-3.10-bioc\R\bin\R.exe CMD build --keep-empty-dirs --no-resave-data MAST |
StartedAt: 2020-04-14 23:28:57 -0400 (Tue, 14 Apr 2020) |
EndedAt: 2020-04-14 23:34:38 -0400 (Tue, 14 Apr 2020) |
EllapsedTime: 340.9 seconds |
RetCode: 0 |
Status: OK |
PackageFile: MAST_1.12.0.tar.gz |
PackageFileSize: 5.207 MiB |
############################################################################## ############################################################################## ### ### Running command: ### ### chmod a+r MAST -R && C:\Users\biocbuild\bbs-3.10-bioc\R\bin\R.exe CMD build --keep-empty-dirs --no-resave-data MAST ### ############################################################################## ############################################################################## * checking for file 'MAST/DESCRIPTION' ... OK * preparing 'MAST': * checking DESCRIPTION meta-information ... OK * installing the package to build vignettes * creating vignettes ... OK * checking for LF line-endings in source and make files and shell scripts * checking for empty or unneeded directories WARNING: directory 'MAST/docs/articles/MAITAnalysis_cache' is empty WARNING: directory 'MAST/docs/articles/MAITAnalysis_files' is empty * looking to see if a 'data/datalist' file should be added * building 'MAST_1.12.0.tar.gz'