Back to Multiple platform build/check report for BioC 3.10 |
|
This page was generated on 2020-02-24 12:45:44 -0500 (Mon, 24 Feb 2020).
Package 981/1823 | Hostname | OS / Arch | INSTALL | BUILD | CHECK | BUILD BIN | ||||||
MEAL 1.16.0 Carlos Ruiz-Arenas
| malbec1 | Linux (Ubuntu 18.04.3 LTS) / x86_64 | OK | ERROR | skipped | |||||||
tokay1 | Windows Server 2012 R2 Standard / x64 | OK | ERROR | skipped | skipped | |||||||
merida1 | OS X 10.11.6 El Capitan / x86_64 | OK | OK | WARNINGS | [ OK ] | ![]() |
Package: MEAL |
Version: 1.16.0 |
Command: rm -rf MEAL.buildbin-libdir && mkdir MEAL.buildbin-libdir && /Users/biocbuild/BBS/utils/build-universal.sh MEAL_1.16.0.tar.gz /Library/Frameworks/R.framework/Versions/Current/Resources/bin/R MEAL.buildbin-libdir |
StartedAt: 2020-02-24 08:10:36 -0500 (Mon, 24 Feb 2020) |
EndedAt: 2020-02-24 08:12:06 -0500 (Mon, 24 Feb 2020) |
EllapsedTime: 89.6 seconds |
RetCode: 0 |
Status: OK |
PackageFile: MEAL_1.16.0.tgz |
PackageFileSize: 2.167 MiB |
############################################################################## ############################################################################## ### ### Running command: ### ### rm -rf MEAL.buildbin-libdir && mkdir MEAL.buildbin-libdir && /Users/biocbuild/BBS/utils/build-universal.sh MEAL_1.16.0.tar.gz /Library/Frameworks/R.framework/Versions/Current/Resources/bin/R MEAL.buildbin-libdir ### ############################################################################## ############################################################################## >>>>>>> >>>>>>> INSTALLATION WITH 'R CMD INSTALL --preclean --no-multiarch --library=MEAL.buildbin-libdir MEAL_1.16.0.tar.gz' >>>>>>> * installing *source* package ‘MEAL’ ... ** using staged installation ** R ** inst ** byte-compile and prepare package for lazy loading Warning: replacing previous import 'minfi::getMeth' by 'bsseq::getMeth' when loading 'DMRcate' ** help *** installing help indices ** building package indices ** installing vignettes ** testing if installed package can be loaded from temporary location Warning: replacing previous import 'minfi::getMeth' by 'bsseq::getMeth' when loading 'DMRcate' ** testing if installed package can be loaded from final location Warning: replacing previous import 'minfi::getMeth' by 'bsseq::getMeth' when loading 'DMRcate' ** testing if installed package keeps a record of temporary installation path * DONE (MEAL)