Back to Multiple platform build/check report for BioC 3.10 |
|
This page was generated on 2019-12-09 12:29:12 -0500 (Mon, 09 Dec 2019).
Package 981/1823 | Hostname | OS / Arch | INSTALL | BUILD | CHECK | BUILD BIN | ||||||
MEAL 1.16.0 Carlos Ruiz-Arenas
| malbec1 | Linux (Ubuntu 18.04.3 LTS) / x86_64 | OK | ERROR | skipped | |||||||
tokay1 | Windows Server 2012 R2 Standard / x64 | OK | OK | WARNINGS | [ OK ] | |||||||
merida1 | OS X 10.11.6 El Capitan / x86_64 | OK | ERROR | skipped | skipped |
Package: MEAL |
Version: 1.16.0 |
Command: rm -rf MEAL.buildbin-libdir && mkdir MEAL.buildbin-libdir && C:\Users\biocbuild\bbs-3.10-bioc\R\bin\R.exe CMD INSTALL --merge-multiarch --build --library=MEAL.buildbin-libdir MEAL_1.16.0.tar.gz |
StartedAt: 2019-12-09 09:32:46 -0500 (Mon, 09 Dec 2019) |
EndedAt: 2019-12-09 09:34:19 -0500 (Mon, 09 Dec 2019) |
EllapsedTime: 92.9 seconds |
RetCode: 0 |
Status: OK |
PackageFile: MEAL_1.16.0.zip |
PackageFileSize: 1.079 MiB |
############################################################################## ############################################################################## ### ### Running command: ### ### rm -rf MEAL.buildbin-libdir && mkdir MEAL.buildbin-libdir && C:\Users\biocbuild\bbs-3.10-bioc\R\bin\R.exe CMD INSTALL --merge-multiarch --build --library=MEAL.buildbin-libdir MEAL_1.16.0.tar.gz ### ############################################################################## ############################################################################## install for i386 * installing *source* package 'MEAL' ... ** using staged installation ** R ** inst ** byte-compile and prepare package for lazy loading Warning: replacing previous import 'minfi::getMeth' by 'bsseq::getMeth' when loading 'DMRcate' ** help *** installing help indices converting help for package 'MEAL' finding HTML links ... done MEAL-defunct html MEAL html calculateRelevantSNPs html computeRDAR2 html correlationMethExprs html correlationMethSNPs html explainedVariance html exportResults html filterResults html getGeneVals html getProbeResults html getRDAresults html normalSNP html plotFeature html plotLM html plotRDA html plotRegion html runBlockFinder html runBumphunter html runDMRcate html runDiffMeanAnalysis html runDiffVarAnalysis html runPipeline html runRDA html Rd warning: C:/Users/biocbuild/bbs-3.10-bioc/tmpdir/RtmpYJar3a/R.INSTALL19541bf51334/MEAL/man/runRDA.Rd:45: file link 'rda' in package 'vegan' does not exist and so has been treated as a topic runRegionAnalysis html topRDAhits html ** building package indices ** installing vignettes ** testing if installed package can be loaded from temporary location Warning: replacing previous import 'minfi::getMeth' by 'bsseq::getMeth' when loading 'DMRcate' ** testing if installed package can be loaded from final location Warning: replacing previous import 'minfi::getMeth' by 'bsseq::getMeth' when loading 'DMRcate' ** testing if installed package keeps a record of temporary installation path install for x64 * installing *source* package 'MEAL' ... ** testing if installed package can be loaded Warning: replacing previous import 'minfi::getMeth' by 'bsseq::getMeth' when loading 'DMRcate' * MD5 sums packaged installation of 'MEAL' as MEAL_1.16.0.zip * DONE (MEAL)