Back to Multiple platform build/check report for BioC 3.10 |
|
This page was generated on 2020-04-15 12:13:17 -0400 (Wed, 15 Apr 2020).
Package 1050/1823 | Hostname | OS / Arch | INSTALL | BUILD | CHECK | BUILD BIN | ||||||
MIRA 1.8.0 John Lawson
| malbec1 | Linux (Ubuntu 18.04.4 LTS) / x86_64 | OK | OK | [ OK ] | ![]() | ||||||
tokay1 | Windows Server 2012 R2 Standard / x64 | OK | OK | OK | OK | ![]() | ||||||
merida1 | OS X 10.11.6 El Capitan / x86_64 | OK | OK | OK | OK | ![]() |
Package: MIRA |
Version: 1.8.0 |
Command: /home/biocbuild/bbs-3.10-bioc/R/bin/R CMD check --install=check:MIRA.install-out.txt --library=/home/biocbuild/bbs-3.10-bioc/R/library --no-vignettes --timings MIRA_1.8.0.tar.gz |
StartedAt: 2020-04-15 05:09:06 -0400 (Wed, 15 Apr 2020) |
EndedAt: 2020-04-15 05:15:04 -0400 (Wed, 15 Apr 2020) |
EllapsedTime: 357.6 seconds |
RetCode: 0 |
Status: OK |
CheckDir: MIRA.Rcheck |
Warnings: 0 |
############################################################################## ############################################################################## ### ### Running command: ### ### /home/biocbuild/bbs-3.10-bioc/R/bin/R CMD check --install=check:MIRA.install-out.txt --library=/home/biocbuild/bbs-3.10-bioc/R/library --no-vignettes --timings MIRA_1.8.0.tar.gz ### ############################################################################## ############################################################################## * using log directory ‘/home/biocbuild/bbs-3.10-bioc/meat/MIRA.Rcheck’ * using R version 3.6.3 (2020-02-29) * using platform: x86_64-pc-linux-gnu (64-bit) * using session charset: UTF-8 * using option ‘--no-vignettes’ * checking for file ‘MIRA/DESCRIPTION’ ... OK * this is package ‘MIRA’ version ‘1.8.0’ * checking package namespace information ... OK * checking package dependencies ... OK * checking if this is a source package ... OK * checking if there is a namespace ... OK * checking for hidden files and directories ... OK * checking for portable file names ... OK * checking for sufficient/correct file permissions ... OK * checking whether package ‘MIRA’ can be installed ... OK * checking installed package size ... OK * checking package directory ... OK * checking ‘build’ directory ... OK * checking DESCRIPTION meta-information ... OK * checking top-level files ... OK * checking for left-over files ... OK * checking index information ... OK * checking package subdirectories ... OK * checking R files for non-ASCII characters ... OK * checking R files for syntax errors ... OK * checking whether the package can be loaded ... OK * checking whether the package can be loaded with stated dependencies ... OK * checking whether the package can be unloaded cleanly ... OK * checking whether the namespace can be loaded with stated dependencies ... OK * checking whether the namespace can be unloaded cleanly ... OK * checking dependencies in R code ... OK * checking S3 generic/method consistency ... OK * checking replacement functions ... OK * checking foreign function calls ... OK * checking R code for possible problems ... OK * checking Rd files ... OK * checking Rd metadata ... OK * checking Rd cross-references ... OK * checking for missing documentation entries ... OK * checking for code/documentation mismatches ... OK * checking Rd \usage sections ... OK * checking Rd contents ... OK * checking for unstated dependencies in examples ... OK * checking contents of ‘data’ directory ... OK * checking data for non-ASCII characters ... OK * checking data for ASCII and uncompressed saves ... OK * checking files in ‘vignettes’ ... OK * checking examples ... OK * checking for unstated dependencies in ‘tests’ ... OK * checking tests ... Running ‘testthat.R’ OK * checking for unstated dependencies in vignettes ... OK * checking package vignettes in ‘inst/doc’ ... OK * checking running R code from vignettes ... SKIPPED * checking re-building of vignette outputs ... SKIPPED * checking PDF version of manual ... OK * DONE Status: OK
MIRA.Rcheck/00install.out
############################################################################## ############################################################################## ### ### Running command: ### ### /home/biocbuild/bbs-3.10-bioc/R/bin/R CMD INSTALL MIRA ### ############################################################################## ############################################################################## * installing to library ‘/home/biocbuild/bbs-3.10-bioc/R/library’ * installing *source* package ‘MIRA’ ... ** using staged installation ** R ** data ** inst ** byte-compile and prepare package for lazy loading ** help *** installing help indices ** building package indices ** installing vignettes ** testing if installed package can be loaded from temporary location ** testing if installed package can be loaded from final location ** testing if installed package keeps a record of temporary installation path * DONE (MIRA)
MIRA.Rcheck/tests/testthat.Rout
R version 3.6.3 (2020-02-29) -- "Holding the Windsock" Copyright (C) 2020 The R Foundation for Statistical Computing Platform: x86_64-pc-linux-gnu (64-bit) R is free software and comes with ABSOLUTELY NO WARRANTY. You are welcome to redistribute it under certain conditions. Type 'license()' or 'licence()' for distribution details. R is a collaborative project with many contributors. Type 'contributors()' for more information and 'citation()' on how to cite R or R packages in publications. Type 'demo()' for some demos, 'help()' for on-line help, or 'help.start()' for an HTML browser interface to help. Type 'q()' to quit R. > Sys.setenv("R_TESTS" = "") > library(testthat) > library(MIRA) > > test_check("MIRA") ══ testthat results ═══════════════════════════════════════════════════════════ [ OK: 60 | SKIPPED: 0 | WARNINGS: 8 | FAILED: 0 ] > > proc.time() user system elapsed 93.120 0.864 44.953
MIRA.Rcheck/MIRA-Ex.timings
name | user | system | elapsed | |
BSBinAggregate | 4.588 | 0.040 | 2.082 | |
BSreadBiSeq | 0.476 | 0.000 | 0.206 | |
SummarizedExperimentToDataTable | 0.640 | 0.004 | 0.586 | |
addMethPropCol | 0.388 | 0.000 | 0.139 | |
aggregateMethyl | 3.684 | 0.016 | 1.739 | |
binRegion | 0.116 | 0.000 | 0.039 | |
bsseqToDataTable | 0.536 | 0.020 | 0.423 | |
calcMIRAScore | 0.244 | 0.004 | 0.108 | |
plotMIRAProfiles | 0.248 | 0.000 | 0.110 | |
plotMIRAScores | 1.104 | 0.008 | 0.537 | |
rbindNamedList | 1.264 | 0.008 | 1.175 | |