Back to Multiple platform build/check report for BioC 3.10 |
|
This page was generated on 2020-04-15 12:49:01 -0400 (Wed, 15 Apr 2020).
Package 1078/1823 | Hostname | OS / Arch | INSTALL | BUILD | CHECK | BUILD BIN | ||||||
MOFA 1.2.0 Britta Velten
| malbec1 | Linux (Ubuntu 18.04.4 LTS) / x86_64 | OK | OK | OK | ![]() | ||||||
tokay1 | Windows Server 2012 R2 Standard / x64 | OK | OK | OK | OK | ![]() | ||||||
merida1 | OS X 10.11.6 El Capitan / x86_64 | OK | OK | OK | [ OK ] | ![]() |
Package: MOFA |
Version: 1.2.0 |
Command: rm -rf MOFA.buildbin-libdir && mkdir MOFA.buildbin-libdir && /Users/biocbuild/BBS/utils/build-universal.sh MOFA_1.2.0.tar.gz /Library/Frameworks/R.framework/Versions/Current/Resources/bin/R MOFA.buildbin-libdir |
StartedAt: 2020-04-15 08:06:11 -0400 (Wed, 15 Apr 2020) |
EndedAt: 2020-04-15 08:07:08 -0400 (Wed, 15 Apr 2020) |
EllapsedTime: 56.8 seconds |
RetCode: 0 |
Status: OK |
PackageFile: MOFA_1.2.0.tgz |
PackageFileSize: 3.253 MiB |
############################################################################## ############################################################################## ### ### Running command: ### ### rm -rf MOFA.buildbin-libdir && mkdir MOFA.buildbin-libdir && /Users/biocbuild/BBS/utils/build-universal.sh MOFA_1.2.0.tar.gz /Library/Frameworks/R.framework/Versions/Current/Resources/bin/R MOFA.buildbin-libdir ### ############################################################################## ############################################################################## >>>>>>> >>>>>>> INSTALLATION WITH 'R CMD INSTALL --preclean --no-multiarch --library=MOFA.buildbin-libdir MOFA_1.2.0.tar.gz' >>>>>>> * installing *source* package ‘MOFA’ ... ** using staged installation ** R ** inst ** byte-compile and prepare package for lazy loading ** help *** installing help indices ** building package indices ** installing vignettes ** testing if installed package can be loaded from temporary location ** testing if installed package can be loaded from final location ** testing if installed package keeps a record of temporary installation path * DONE (MOFA)