Back to Multiple platform build/check report for BioC 3.10 |
|
This page was generated on 2020-04-15 12:23:45 -0400 (Wed, 15 Apr 2020).
Package 1098/1823 | Hostname | OS / Arch | INSTALL | BUILD | CHECK | BUILD BIN | ||||||
MSGFplus 1.20.0 Thomas Lin Pedersen
| malbec1 | Linux (Ubuntu 18.04.4 LTS) / x86_64 | OK | OK | OK | |||||||
tokay1 | Windows Server 2012 R2 Standard / x64 | [ OK ] | OK | OK | OK | |||||||
merida1 | OS X 10.11.6 El Capitan / x86_64 | OK | OK | OK | OK |
Package: MSGFplus |
Version: 1.20.0 |
Command: C:\cygwin\bin\curl.exe -O https://malbec1.bioconductor.org/BBS/3.10/bioc/src/contrib/MSGFplus_1.20.0.tar.gz && rm -rf MSGFplus.buildbin-libdir && mkdir MSGFplus.buildbin-libdir && C:\Users\biocbuild\bbs-3.10-bioc\R\bin\R.exe CMD INSTALL --merge-multiarch --build --library=MSGFplus.buildbin-libdir MSGFplus_1.20.0.tar.gz && C:\Users\biocbuild\bbs-3.10-bioc\R\bin\R.exe CMD INSTALL MSGFplus_1.20.0.zip && rm MSGFplus_1.20.0.tar.gz MSGFplus_1.20.0.zip |
StartedAt: 2020-04-14 18:34:28 -0400 (Tue, 14 Apr 2020) |
EndedAt: 2020-04-14 18:39:10 -0400 (Tue, 14 Apr 2020) |
EllapsedTime: 281.9 seconds |
RetCode: 0 |
Status: OK |
############################################################################## ############################################################################## ### ### Running command: ### ### C:\cygwin\bin\curl.exe -O https://malbec1.bioconductor.org/BBS/3.10/bioc/src/contrib/MSGFplus_1.20.0.tar.gz && rm -rf MSGFplus.buildbin-libdir && mkdir MSGFplus.buildbin-libdir && C:\Users\biocbuild\bbs-3.10-bioc\R\bin\R.exe CMD INSTALL --merge-multiarch --build --library=MSGFplus.buildbin-libdir MSGFplus_1.20.0.tar.gz && C:\Users\biocbuild\bbs-3.10-bioc\R\bin\R.exe CMD INSTALL MSGFplus_1.20.0.zip && rm MSGFplus_1.20.0.tar.gz MSGFplus_1.20.0.zip ### ############################################################################## ############################################################################## % Total % Received % Xferd Average Speed Time Time Time Current Dload Upload Total Spent Left Speed 0 0 0 0 0 0 0 0 --:--:-- --:--:-- --:--:-- 0 100 43470 100 43470 0 0 1189k 0 --:--:-- --:--:-- --:--:-- 1326k install for i386 * installing *source* package 'MSGFplus' ... ** using staged installation ** R ** inst ** byte-compile and prepare package for lazy loading ** help *** installing help indices converting help for package 'MSGFplus' finding HTML links ... done MSGFplus-package html chargeRange html db html enzyme html fragmentation html getMSGFpar html instrument html isotopeError html lengthRange html matches html mods html msgfAsync-class html msgfPar-class html msgfPar html msgfParChargeRange-class html msgfParEnzyme-class html msgfParFragmentation-class html msgfParFromID html msgfParGUI html msgfParInstrument-class html msgfParIsotopeError-class html msgfParLengthRange-class html msgfParMatches-class html msgfParModification-class html msgfParModificationList-class html msgfParNtt-class html msgfParProtocol-class html msgfParTda-class html msgfParTolerance-class html ntt html protocol html runMSGF html tda html tolerance html ** building package indices ** installing vignettes ** testing if installed package can be loaded from temporary location ** testing if installed package can be loaded from final location ** testing if installed package keeps a record of temporary installation path install for x64 * installing *source* package 'MSGFplus' ... ** testing if installed package can be loaded * MD5 sums packaged installation of 'MSGFplus' as MSGFplus_1.20.0.zip * DONE (MSGFplus) * installing to library 'C:/Users/biocbuild/bbs-3.10-bioc/R/library' package 'MSGFplus' successfully unpacked and MD5 sums checked