Back to Multiple platform build/check report for BioC 3.10 |
|
This page was generated on 2020-04-15 12:46:04 -0400 (Wed, 15 Apr 2020).
Package 1105/1823 | Hostname | OS / Arch | INSTALL | BUILD | CHECK | BUILD BIN | ||||||
MSstatsQC 2.4.1 Eralp Dogu
| malbec1 | Linux (Ubuntu 18.04.4 LTS) / x86_64 | ERROR | ERROR | skipped | |||||||
tokay1 | Windows Server 2012 R2 Standard / x64 | ERROR | ERROR | skipped | skipped | |||||||
merida1 | OS X 10.11.6 El Capitan / x86_64 | ERROR | [ ERROR ] | skipped | skipped |
Package: MSstatsQC |
Version: 2.4.1 |
Command: /Library/Frameworks/R.framework/Versions/Current/Resources/bin/R CMD build --keep-empty-dirs --no-resave-data MSstatsQC |
StartedAt: 2020-04-14 22:41:56 -0400 (Tue, 14 Apr 2020) |
EndedAt: 2020-04-14 22:42:00 -0400 (Tue, 14 Apr 2020) |
EllapsedTime: 4.6 seconds |
RetCode: 1 |
Status: ERROR |
PackageFile: None |
PackageFileSize: NA |
############################################################################## ############################################################################## ### ### Running command: ### ### /Library/Frameworks/R.framework/Versions/Current/Resources/bin/R CMD build --keep-empty-dirs --no-resave-data MSstatsQC ### ############################################################################## ############################################################################## * checking for file ‘MSstatsQC/DESCRIPTION’ ... OK * preparing ‘MSstatsQC’: * checking DESCRIPTION meta-information ... OK * installing the package to build vignettes ----------------------------------- * installing *source* package ‘MSstatsQC’ ... ** using staged installation ** R Error in parse(outFile) : /private/tmp/RtmpvNLO2Z/Rbuilde77d366707e8/MSstatsQC/R/DataValidation.R:48:1: unexpected input 47: #auotomatically change RT to Retention Time) 48: << ^ ERROR: unable to collate and parse R files for package ‘MSstatsQC’ * removing ‘/private/tmp/RtmpvNLO2Z/Rinste77d26382c3f/MSstatsQC’ ----------------------------------- ERROR: package installation failed